Back to Multiple platform build/check report for BioC 3.22:   simplified   long
ABCDEFGHIJKLMNOPQR[S]TUVWXYZ

This page was generated on 2025-10-31 12:03 -0400 (Fri, 31 Oct 2025).

HostnameOSArch (*)R versionInstalled pkgs
nebbiolo2Linux (Ubuntu 24.04.3 LTS)x86_644.5.1 Patched (2025-08-23 r88802) -- "Great Square Root" 4901
lconwaymacOS 12.7.6 Montereyx86_644.5.1 Patched (2025-09-10 r88807) -- "Great Square Root" 4691
kjohnson3macOS 13.7.7 Venturaarm644.5.1 Patched (2025-09-10 r88807) -- "Great Square Root" 4637
Click on any hostname to see more info about the system (e.g. compilers)      (*) as reported by 'uname -p', except on Windows and Mac OS X

Package 1992/2361HostnameOS / ArchINSTALLBUILDCHECKBUILD BIN
sesame 1.28.0  (landing page)
Wanding Zhou
Snapshot Date: 2025-10-30 13:45 -0400 (Thu, 30 Oct 2025)
git_url: https://git.bioconductor.org/packages/sesame
git_branch: RELEASE_3_22
git_last_commit: f0f05cb
git_last_commit_date: 2025-10-29 10:46:05 -0400 (Wed, 29 Oct 2025)
nebbiolo2Linux (Ubuntu 24.04.3 LTS) / x86_64  OK    OK    OK  UNNEEDED, same version is already published
lconwaymacOS 12.7.6 Monterey / x86_64  OK    OK    OK    OK  UNNEEDED, same version is already published
kjohnson3macOS 13.7.7 Ventura / arm64  OK    OK    OK    OK  UNNEEDED, same version is already published


CHECK results for sesame on nebbiolo2

To the developers/maintainers of the sesame package:
- Allow up to 24 hours (and sometimes 48 hours) for your latest push to git@git.bioconductor.org:packages/sesame.git to reflect on this report. See Troubleshooting Build Report for more information.
- Use the following Renviron settings to reproduce errors and warnings.
- If 'R CMD check' started to fail recently on the Linux builder(s) over a missing dependency, add the missing dependency to 'Suggests:' in your DESCRIPTION file. See Renviron.bioc for more information.

raw results


Summary

Package: sesame
Version: 1.28.0
Command: /home/biocbuild/bbs-3.22-bioc/R/bin/R CMD check --install=check:sesame.install-out.txt --library=/home/biocbuild/bbs-3.22-bioc/R/site-library --timings sesame_1.28.0.tar.gz
StartedAt: 2025-10-31 04:01:45 -0400 (Fri, 31 Oct 2025)
EndedAt: 2025-10-31 04:18:06 -0400 (Fri, 31 Oct 2025)
EllapsedTime: 981.0 seconds
RetCode: 0
Status:   OK  
CheckDir: sesame.Rcheck
Warnings: 0

Command output

##############################################################################
##############################################################################
###
### Running command:
###
###   /home/biocbuild/bbs-3.22-bioc/R/bin/R CMD check --install=check:sesame.install-out.txt --library=/home/biocbuild/bbs-3.22-bioc/R/site-library --timings sesame_1.28.0.tar.gz
###
##############################################################################
##############################################################################


* using log directory ‘/home/biocbuild/bbs-3.22-bioc/meat/sesame.Rcheck’
* using R version 4.5.1 Patched (2025-08-23 r88802)
* using platform: x86_64-pc-linux-gnu
* R was compiled by
    gcc (Ubuntu 13.3.0-6ubuntu2~24.04) 13.3.0
    GNU Fortran (Ubuntu 13.3.0-6ubuntu2~24.04) 13.3.0
* running under: Ubuntu 24.04.3 LTS
* using session charset: UTF-8
* checking for file ‘sesame/DESCRIPTION’ ... OK
* checking extension type ... Package
* this is package ‘sesame’ version ‘1.28.0’
* package encoding: UTF-8
* checking package namespace information ... OK
* checking package dependencies ... OK
* checking if this is a source package ... OK
* checking if there is a namespace ... OK
* checking for hidden files and directories ... OK
* checking for portable file names ... OK
* checking for sufficient/correct file permissions ... OK
* checking whether package ‘sesame’ can be installed ... OK
* checking installed package size ... OK
* checking package directory ... OK
* checking ‘build’ directory ... OK
* checking DESCRIPTION meta-information ... OK
* checking top-level files ... OK
* checking for left-over files ... OK
* checking index information ... OK
* checking package subdirectories ... OK
* checking code files for non-ASCII characters ... OK
* checking R files for syntax errors ... OK
* checking whether the package can be loaded ... OK
* checking whether the package can be loaded with stated dependencies ... OK
* checking whether the package can be unloaded cleanly ... OK
* checking whether the namespace can be loaded with stated dependencies ... OK
* checking whether the namespace can be unloaded cleanly ... OK
* checking loading without being on the library search path ... OK
* checking whether startup messages can be suppressed ... OK
* checking dependencies in R code ... OK
* checking S3 generic/method consistency ... OK
* checking replacement functions ... OK
* checking foreign function calls ... OK
* checking R code for possible problems ... OK
* checking Rd files ... OK
* checking Rd metadata ... OK
* checking Rd cross-references ... OK
* checking for missing documentation entries ... OK
* checking for code/documentation mismatches ... OK
* checking Rd \usage sections ... OK
* checking Rd contents ... OK
* checking for unstated dependencies in examples ... OK
* checking files in ‘vignettes’ ... OK
* checking examples ... OK
Examples with CPU (user + system) or elapsed time > 5s
                                user system elapsed
imputeBetasByGenomicNeighbors 31.449  0.712  32.163
sesameQC_calcStats            20.053  0.347  20.400
inferSex                      19.229  0.266  19.498
imputeBetas                   17.542  0.457  18.001
sesameQC_plotHeatSNPs         17.026  0.151  17.180
inferSpecies                  14.299  0.781  15.080
ELBAR                         13.869  0.252  14.122
diffRefSet                    12.991  0.274  13.266
compareMouseStrainReference   12.195  0.188  12.386
compareReference              10.922  0.260  11.182
matchDesign                   11.023  0.112  11.139
sesameQC_plotBar              10.823  0.134  10.957
getRefSet                     10.616  0.080  10.695
sesameQC_plotBetaByDesign      9.656  0.079   9.738
visualizeGene                  8.481  0.184   8.667
DMR                            7.913  0.218   8.131
sdf_read_table                 7.749  0.137   7.886
inferStrain                    7.285  0.495   7.781
dyeBiasCorrMostBalanced        6.900  0.110   7.010
getMask                        6.751  0.140   6.893
DML                            6.416  0.334   6.751
inferTissue                    6.629  0.106   6.736
estimateLeukocyte              6.609  0.110   6.720
dyeBiasNL                      5.587  0.060   5.649
deIdentify                     5.391  0.069   5.462
probeSuccessRate               5.292  0.086   5.378
createUCSCtrack                5.158  0.183   5.341
openSesame                     5.048  0.156   5.211
* checking for unstated dependencies in ‘tests’ ... OK
* checking tests ...
  Running ‘testthat.R’
 OK
* checking for unstated dependencies in vignettes ... OK
* checking package vignettes ... OK
* checking re-building of vignette outputs ... OK
* checking PDF version of manual ... OK
* DONE

Status: OK


Installation output

sesame.Rcheck/00install.out

##############################################################################
##############################################################################
###
### Running command:
###
###   /home/biocbuild/bbs-3.22-bioc/R/bin/R CMD INSTALL sesame
###
##############################################################################
##############################################################################


* installing to library ‘/home/biocbuild/bbs-3.22-bioc/R/site-library’
* installing *source* package ‘sesame’ ...
** this is package ‘sesame’ version ‘1.28.0’
** using staged installation
** R
** inst
** byte-compile and prepare package for lazy loading
** help
*** installing help indices
** building package indices
** installing vignettes
** testing if installed package can be loaded from temporary location
** testing if installed package can be loaded from final location
** testing if installed package keeps a record of temporary installation path
* DONE (sesame)

Tests output

sesame.Rcheck/tests/testthat.Rout


R version 4.5.1 Patched (2025-08-23 r88802) -- "Great Square Root"
Copyright (C) 2025 The R Foundation for Statistical Computing
Platform: x86_64-pc-linux-gnu

R is free software and comes with ABSOLUTELY NO WARRANTY.
You are welcome to redistribute it under certain conditions.
Type 'license()' or 'licence()' for distribution details.

R is a collaborative project with many contributors.
Type 'contributors()' for more information and
'citation()' on how to cite R or R packages in publications.

Type 'demo()' for some demos, 'help()' for on-line help, or
'help.start()' for an HTML browser interface to help.
Type 'q()' to quit R.

> library(testthat)
> library(sesame)
Loading required package: sesameData
Loading required package: ExperimentHub
Loading required package: BiocGenerics
Loading required package: generics

Attaching package: 'generics'

The following objects are masked from 'package:base':

    as.difftime, as.factor, as.ordered, intersect, is.element, setdiff,
    setequal, union


Attaching package: 'BiocGenerics'

The following objects are masked from 'package:stats':

    IQR, mad, sd, var, xtabs

The following objects are masked from 'package:base':

    Filter, Find, Map, Position, Reduce, anyDuplicated, aperm, append,
    as.data.frame, basename, cbind, colnames, dirname, do.call,
    duplicated, eval, evalq, get, grep, grepl, is.unsorted, lapply,
    mapply, match, mget, order, paste, pmax, pmax.int, pmin, pmin.int,
    rank, rbind, rownames, sapply, saveRDS, table, tapply, unique,
    unsplit, which.max, which.min

Loading required package: AnnotationHub
Loading required package: BiocFileCache
Loading required package: dbplyr
Loading sesameData.

----------------------------------------------------------
| SEnsible Step-wise Analysis of DNA MEthylation (SeSAMe)
| --------------------------------------------------------
| Please cache auxiliary data by "sesameDataCache()".
| This needs to be done only once per SeSAMe installation.
----------------------------------------------------------

> 
> test_check("sesame")
[ FAIL 0 | WARN 0 | SKIP 0 | PASS 5 ]
> 
> proc.time()
   user  system elapsed 
 18.774   0.953  19.714 

Example timings

sesame.Rcheck/sesame-Ex.timings

nameusersystemelapsed
BetaValueToMValue000
DML6.4160.3346.751
DMLpredict1.3030.0441.347
DMR7.9130.2188.131
ELBAR13.869 0.25214.122
MValueToBetaValue0.0000.0010.001
SigDF0.2860.0150.302
addMask0.1220.0000.122
betasCollapseToPfx0.0130.0000.013
bisConversionControl4.1910.0724.263
calcEffectSize1.2530.0281.282
checkLevels2.9310.0482.979
cnSegmentation0.2740.0140.289
compareMouseStrainReference12.195 0.18812.386
compareMouseTissueReference000
compareReference10.922 0.26011.182
controls1.9880.0502.037
createUCSCtrack5.1580.1835.341
deIdentify5.3910.0695.462
detectionPnegEcdf0.8630.0130.876
diffRefSet12.991 0.27413.266
dmContrasts1.8500.0261.877
dyeBiasCorr2.5810.0552.637
dyeBiasCorrMostBalanced6.900.117.01
dyeBiasL1.0790.0681.147
dyeBiasNL5.5870.0605.649
estimateLeukocyte6.6090.1106.720
formatVCF2.0650.0472.112
getAFTypeIbySumAlleles1.5940.0401.634
getAFs0.8560.0080.863
getBetas0.7940.0140.808
getMask6.7510.1406.893
getRefSet10.616 0.08010.695
imputeBetas17.542 0.45718.001
imputeBetasByGenomicNeighbors31.449 0.71232.163
imputeBetasMatrixByMean0.0010.0000.001
inferEthnicity0.0000.0000.001
inferInfiniumIChannel0.2380.0580.297
inferSex19.229 0.26619.498
inferSpecies14.299 0.78115.080
inferStrain7.2850.4957.781
inferTissue6.6290.1066.736
initFileSet1.1600.0241.184
listAvailableMasks1.2400.0321.272
mLiftOver000
mapFileSet0.0320.0000.033
mapToMammal402.7080.0732.782
matchDesign11.023 0.11211.139
meanIntensity2.6770.0642.741
medianTotalIntensity0.7440.0180.763
noMasked3.4760.0663.543
noob2.0920.0702.163
openSesame5.0480.1565.211
openSesameToFile1.4310.0061.439
pOOBAH1.1530.0121.166
palgen0.0320.0050.037
parseGEOsignalMU2.8290.0632.893
predictAge2.3310.0542.386
predictAgeHorvath3530.0000.0000.001
predictAgeSkinBlood000
predictMouseAgeInMonth0.0000.0000.001
prefixMask0.5590.0110.570
prefixMaskButC0.1570.0000.157
prefixMaskButCG0.0620.0010.063
prepSesame3.8510.0913.942
prepSesameList0.0020.0000.002
print.DMLSummary3.3300.1653.496
print.fileSet1.2130.0231.236
probeID_designType000
probeSuccessRate5.2920.0865.378
qualityMask2.1680.0502.218
reIdentify4.3910.0604.451
readFileSet0.0520.0010.053
readIDATpair0.1180.0010.118
recommendedMaskNames000
resetMask0.3830.0150.399
scrub2.1610.0602.222
scrubSoft3.5120.0223.534
sdfPlatform0.3280.0250.352
sdf_read_table7.7490.1377.886
sdf_write_table1.7190.0611.781
searchIDATprefixes0.0040.0000.005
sesame-package2.6240.0882.713
sesameAnno_attachManifest000
sesameAnno_buildAddressFile000
sesameAnno_buildManifestGRanges000
sesameAnno_download000
sesameAnno_readManifestTSV000
sesameQC_calcStats20.053 0.34720.400
sesameQC_getStats1.8560.0191.874
sesameQC_plotBar10.823 0.13410.957
sesameQC_plotBetaByDesign9.6560.0799.738
sesameQC_plotHeatSNPs17.026 0.15117.180
sesameQC_plotIntensVsBetas1.7890.0351.824
sesameQC_plotRedGrnQQ1.7750.0281.803
sesameQC_rankStats3.4130.1173.530
sesameQCtoDF1.5590.0021.561
sesame_checkVersion0.0030.0000.004
sesamize0.0000.0000.001
setMask0.0880.0000.088
signalMU0.8410.0210.862
sliceFileSet0.0330.0010.034
summaryExtractTest2.5320.1152.647
totalIntensities2.3320.0772.409
updateSigDF3.1580.1213.279
visualizeGene8.4810.1848.667
visualizeProbes1.0710.0101.082
visualizeRegion0.3120.0010.314
visualizeSegments1.5990.0211.620