Back to Multiple platform build/check report for BioC 3.21: simplified long |
|
This page was generated on 2025-10-13 11:41 -0400 (Mon, 13 Oct 2025).
Hostname | OS | Arch (*) | R version | Installed pkgs |
---|---|---|---|---|
nebbiolo1 | Linux (Ubuntu 24.04.3 LTS) | x86_64 | 4.5.1 (2025-06-13) -- "Great Square Root" | 4833 |
merida1 | macOS 12.7.5 Monterey | x86_64 | 4.5.1 RC (2025-06-05 r88288) -- "Great Square Root" | 4614 |
kjohnson1 | macOS 13.6.6 Ventura | arm64 | 4.5.1 Patched (2025-06-14 r88325) -- "Great Square Root" | 4555 |
kunpeng2 | Linux (openEuler 24.03 LTS) | aarch64 | R Under development (unstable) (2025-02-19 r87757) -- "Unsuffered Consequences" | 4586 |
Click on any hostname to see more info about the system (e.g. compilers) (*) as reported by 'uname -p', except on Windows and Mac OS X |
Package 1974/2341 | Hostname | OS / Arch | INSTALL | BUILD | CHECK | BUILD BIN | ||||||||
sesame 1.26.0 (landing page) Wanding Zhou
| nebbiolo1 | Linux (Ubuntu 24.04.3 LTS) / x86_64 | OK | OK | OK | ![]() | ||||||||
merida1 | macOS 12.7.5 Monterey / x86_64 | OK | OK | OK | OK | ![]() | ||||||||
kjohnson1 | macOS 13.6.6 Ventura / arm64 | OK | OK | OK | OK | ![]() | ||||||||
kunpeng2 | Linux (openEuler 24.03 LTS) / aarch64 | OK | OK | OK | ||||||||||
To the developers/maintainers of the sesame package: - Allow up to 24 hours (and sometimes 48 hours) for your latest push to git@git.bioconductor.org:packages/sesame.git to reflect on this report. See Troubleshooting Build Report for more information. - Use the following Renviron settings to reproduce errors and warnings. - If 'R CMD check' started to fail recently on the Linux builder(s) over a missing dependency, add the missing dependency to 'Suggests:' in your DESCRIPTION file. See Renviron.bioc for more information. |
Package: sesame |
Version: 1.26.0 |
Command: /Library/Frameworks/R.framework/Resources/bin/R CMD check --install=check:sesame.install-out.txt --library=/Library/Frameworks/R.framework/Resources/library --no-vignettes --timings sesame_1.26.0.tar.gz |
StartedAt: 2025-10-11 13:45:38 -0400 (Sat, 11 Oct 2025) |
EndedAt: 2025-10-11 14:00:47 -0400 (Sat, 11 Oct 2025) |
EllapsedTime: 908.6 seconds |
RetCode: 0 |
Status: OK |
CheckDir: sesame.Rcheck |
Warnings: 0 |
############################################################################## ############################################################################## ### ### Running command: ### ### /Library/Frameworks/R.framework/Resources/bin/R CMD check --install=check:sesame.install-out.txt --library=/Library/Frameworks/R.framework/Resources/library --no-vignettes --timings sesame_1.26.0.tar.gz ### ############################################################################## ############################################################################## * using log directory ‘/Users/biocbuild/bbs-3.21-bioc/meat/sesame.Rcheck’ * using R version 4.5.1 Patched (2025-06-14 r88325) * using platform: aarch64-apple-darwin20 * R was compiled by Apple clang version 16.0.0 (clang-1600.0.26.6) GNU Fortran (GCC) 14.2.0 * running under: macOS Ventura 13.7.5 * using session charset: UTF-8 * using option ‘--no-vignettes’ * checking for file ‘sesame/DESCRIPTION’ ... OK * checking extension type ... Package * this is package ‘sesame’ version ‘1.26.0’ * package encoding: UTF-8 * checking package namespace information ... OK * checking package dependencies ... OK * checking if this is a source package ... OK * checking if there is a namespace ... OK * checking for hidden files and directories ... OK * checking for portable file names ... OK * checking for sufficient/correct file permissions ... OK * checking whether package ‘sesame’ can be installed ... OK * checking installed package size ... OK * checking package directory ... OK * checking ‘build’ directory ... OK * checking DESCRIPTION meta-information ... OK * checking top-level files ... OK * checking for left-over files ... OK * checking index information ... OK * checking package subdirectories ... OK * checking code files for non-ASCII characters ... OK * checking R files for syntax errors ... OK * checking whether the package can be loaded ... OK * checking whether the package can be loaded with stated dependencies ... OK * checking whether the package can be unloaded cleanly ... OK * checking whether the namespace can be loaded with stated dependencies ... OK * checking whether the namespace can be unloaded cleanly ... OK * checking whether startup messages can be suppressed ... OK * checking dependencies in R code ... OK * checking S3 generic/method consistency ... OK * checking replacement functions ... OK * checking foreign function calls ... OK * checking R code for possible problems ... OK * checking Rd files ... OK * checking Rd metadata ... OK * checking Rd cross-references ... OK * checking for missing documentation entries ... OK * checking for code/documentation mismatches ... OK * checking Rd \usage sections ... OK * checking Rd contents ... OK * checking for unstated dependencies in examples ... OK * checking files in ‘vignettes’ ... OK * checking examples ... OK Examples with CPU (user + system) or elapsed time > 5s user system elapsed imputeBetasByGenomicNeighbors 46.159 1.646 48.941 inferSex 29.768 1.569 32.929 sesameQC_calcStats 24.460 2.363 27.982 imputeBetas 23.226 2.236 26.225 sesameQC_plotHeatSNPs 22.837 1.768 25.183 inferSpecies 20.293 1.090 22.033 diffRefSet 20.269 0.639 22.055 sesameQC_plotBar 18.741 0.505 19.667 ELBAR 15.826 2.857 18.974 getRefSet 17.830 0.505 19.074 sesameQC_plotBetaByDesign 13.421 1.468 15.318 matchDesign 13.420 1.001 14.861 compareMouseStrainReference 12.875 0.483 14.100 compareReference 12.911 0.418 13.865 visualizeGene 12.382 0.615 13.559 sdf_read_table 11.219 0.494 12.146 dyeBiasCorrMostBalanced 10.835 0.307 11.808 estimateLeukocyte 10.363 0.544 11.432 DML 9.790 0.925 10.894 DMR 10.259 0.264 10.599 inferStrain 9.056 0.745 10.173 inferTissue 7.934 0.848 8.983 getMask 8.027 0.553 8.959 createUCSCtrack 7.886 0.340 8.676 probeSuccessRate 7.339 0.632 8.181 bisConversionControl 7.331 0.210 7.765 dyeBiasNL 6.350 0.666 7.321 deidentify 6.201 0.253 6.696 openSesame 5.917 0.505 6.827 prepSesame 5.731 0.557 6.420 scrubSoft 4.077 0.961 5.130 reIdentify 4.794 0.236 5.202 noMasked 4.707 0.265 5.268 * checking for unstated dependencies in ‘tests’ ... OK * checking tests ... Running ‘testthat.R’ OK * checking for unstated dependencies in vignettes ... OK * checking package vignettes ... OK * checking running R code from vignettes ... SKIPPED * checking re-building of vignette outputs ... SKIPPED * checking PDF version of manual ... OK * DONE Status: OK
sesame.Rcheck/00install.out
############################################################################## ############################################################################## ### ### Running command: ### ### /Library/Frameworks/R.framework/Resources/bin/R CMD INSTALL sesame ### ############################################################################## ############################################################################## * installing to library ‘/Library/Frameworks/R.framework/Versions/4.5-arm64/Resources/library’ * installing *source* package ‘sesame’ ... ** this is package ‘sesame’ version ‘1.26.0’ ** using staged installation ** R ** inst ** byte-compile and prepare package for lazy loading ** help *** installing help indices ** building package indices ** installing vignettes ** testing if installed package can be loaded from temporary location ** testing if installed package can be loaded from final location ** testing if installed package keeps a record of temporary installation path * DONE (sesame)
sesame.Rcheck/tests/testthat.Rout
R version 4.5.1 Patched (2025-06-14 r88325) -- "Great Square Root" Copyright (C) 2025 The R Foundation for Statistical Computing Platform: aarch64-apple-darwin20 R is free software and comes with ABSOLUTELY NO WARRANTY. You are welcome to redistribute it under certain conditions. Type 'license()' or 'licence()' for distribution details. R is a collaborative project with many contributors. Type 'contributors()' for more information and 'citation()' on how to cite R or R packages in publications. Type 'demo()' for some demos, 'help()' for on-line help, or 'help.start()' for an HTML browser interface to help. Type 'q()' to quit R. > library(testthat) > library(sesame) Loading required package: sesameData Loading required package: ExperimentHub Loading required package: BiocGenerics Loading required package: generics Attaching package: 'generics' The following objects are masked from 'package:base': as.difftime, as.factor, as.ordered, intersect, is.element, setdiff, setequal, union Attaching package: 'BiocGenerics' The following objects are masked from 'package:stats': IQR, mad, sd, var, xtabs The following objects are masked from 'package:base': Filter, Find, Map, Position, Reduce, anyDuplicated, aperm, append, as.data.frame, basename, cbind, colnames, dirname, do.call, duplicated, eval, evalq, get, grep, grepl, is.unsorted, lapply, mapply, match, mget, order, paste, pmax, pmax.int, pmin, pmin.int, rank, rbind, rownames, sapply, saveRDS, table, tapply, unique, unsplit, which.max, which.min Loading required package: AnnotationHub Loading required package: BiocFileCache Loading required package: dbplyr Loading sesameData. ---------------------------------------------------------- | SEnsible Step-wise Analysis of DNA MEthylation (SeSAMe) | -------------------------------------------------------- | Please cache auxiliary data by "sesameDataCache()". | This needs to be done only once per SeSAMe installation. ---------------------------------------------------------- > > test_check("sesame") [ FAIL 0 | WARN 0 | SKIP 0 | PASS 5 ] > > proc.time() user system elapsed 26.013 1.802 28.925
sesame.Rcheck/sesame-Ex.timings
name | user | system | elapsed | |
BetaValueToMValue | 0.001 | 0.000 | 0.001 | |
DML | 9.790 | 0.925 | 10.894 | |
DMLpredict | 1.458 | 0.103 | 1.578 | |
DMR | 10.259 | 0.264 | 10.599 | |
ELBAR | 15.826 | 2.857 | 18.974 | |
MValueToBetaValue | 0.001 | 0.001 | 0.000 | |
SigDF | 0.311 | 0.053 | 0.368 | |
addMask | 0.062 | 0.002 | 0.065 | |
betasCollapseToPfx | 0.014 | 0.001 | 0.015 | |
bisConversionControl | 7.331 | 0.210 | 7.765 | |
calcEffectSize | 1.442 | 0.134 | 1.699 | |
checkLevels | 4.200 | 0.220 | 4.718 | |
cnSegmentation | 0.305 | 0.057 | 0.382 | |
compareMouseStrainReference | 12.875 | 0.483 | 14.100 | |
compareMouseTissueReference | 0 | 0 | 0 | |
compareReference | 12.911 | 0.418 | 13.865 | |
controls | 2.540 | 0.175 | 2.746 | |
createUCSCtrack | 7.886 | 0.340 | 8.676 | |
deidentify | 6.201 | 0.253 | 6.696 | |
detectionPnegEcdf | 1.684 | 0.053 | 1.799 | |
diffRefSet | 20.269 | 0.639 | 22.055 | |
dmContrasts | 2.196 | 0.141 | 2.586 | |
dyeBiasCorr | 3.408 | 0.259 | 3.917 | |
dyeBiasCorrMostBalanced | 10.835 | 0.307 | 11.808 | |
dyeBiasL | 2.595 | 0.233 | 3.076 | |
dyeBiasNL | 6.350 | 0.666 | 7.321 | |
estimateLeukocyte | 10.363 | 0.544 | 11.432 | |
formatVCF | 2.701 | 0.211 | 3.033 | |
getAFTypeIbySumAlleles | 2.082 | 0.231 | 2.445 | |
getAFs | 1.007 | 0.094 | 1.149 | |
getBetas | 0.959 | 0.149 | 1.153 | |
getMask | 8.027 | 0.553 | 8.959 | |
getRefSet | 17.830 | 0.505 | 19.074 | |
imputeBetas | 23.226 | 2.236 | 26.225 | |
imputeBetasByGenomicNeighbors | 46.159 | 1.646 | 48.941 | |
imputeBetasMatrixByMean | 0.001 | 0.001 | 0.002 | |
inferEthnicity | 0.001 | 0.000 | 0.001 | |
inferInfiniumIChannel | 0.429 | 0.488 | 0.954 | |
inferSex | 29.768 | 1.569 | 32.929 | |
inferSpecies | 20.293 | 1.090 | 22.033 | |
inferStrain | 9.056 | 0.745 | 10.173 | |
inferTissue | 7.934 | 0.848 | 8.983 | |
initFileSet | 1.418 | 0.208 | 1.664 | |
listAvailableMasks | 1.590 | 0.197 | 1.828 | |
mLiftOver | 0.000 | 0.001 | 0.002 | |
mapFileSet | 0.048 | 0.004 | 0.055 | |
mapToMammal40 | 4.377 | 0.468 | 4.959 | |
matchDesign | 13.420 | 1.001 | 14.861 | |
meanIntensity | 3.066 | 0.444 | 3.803 | |
medianTotalIntensity | 0.936 | 0.170 | 1.183 | |
noMasked | 4.707 | 0.265 | 5.268 | |
noob | 2.717 | 0.397 | 3.319 | |
openSesame | 5.917 | 0.505 | 6.827 | |
openSesameToFile | 1.820 | 0.304 | 2.215 | |
pOOBAH | 1.596 | 0.119 | 1.824 | |
palgen | 0.050 | 0.007 | 0.061 | |
parseGEOsignalMU | 4.118 | 0.399 | 4.712 | |
predictAge | 3.485 | 0.148 | 3.701 | |
predictAgeHorvath353 | 0 | 0 | 0 | |
predictAgeSkinBlood | 0 | 0 | 0 | |
predictMouseAgeInMonth | 0 | 0 | 0 | |
prefixMask | 0.595 | 0.011 | 0.620 | |
prefixMaskButC | 0.153 | 0.005 | 0.160 | |
prefixMaskButCG | 0.054 | 0.003 | 0.059 | |
prepSesame | 5.731 | 0.557 | 6.420 | |
prepSesameList | 0.001 | 0.001 | 0.002 | |
print.DMLSummary | 3.453 | 0.561 | 4.101 | |
print.fileSet | 1.366 | 0.187 | 1.584 | |
probeID_designType | 0 | 0 | 0 | |
probeSuccessRate | 7.339 | 0.632 | 8.181 | |
qualityMask | 2.692 | 0.306 | 3.066 | |
reIdentify | 4.794 | 0.236 | 5.202 | |
readFileSet | 0.083 | 0.005 | 0.090 | |
readIDATpair | 0.145 | 0.017 | 0.164 | |
recommendedMaskNames | 0.000 | 0.001 | 0.000 | |
resetMask | 0.365 | 0.069 | 0.438 | |
scrub | 2.808 | 0.637 | 3.506 | |
scrubSoft | 4.077 | 0.961 | 5.130 | |
sdfPlatform | 0.296 | 0.048 | 0.350 | |
sdf_read_table | 11.219 | 0.494 | 12.146 | |
sdf_write_table | 3.020 | 0.168 | 3.314 | |
searchIDATprefixes | 0.004 | 0.003 | 0.009 | |
sesame-package | 3.437 | 0.391 | 3.914 | |
sesameAnno_attachManifest | 0 | 0 | 0 | |
sesameAnno_buildAddressFile | 0 | 0 | 0 | |
sesameAnno_buildManifestGRanges | 0 | 0 | 0 | |
sesameAnno_download | 0 | 0 | 0 | |
sesameAnno_readManifestTSV | 0 | 0 | 0 | |
sesameQC_calcStats | 24.460 | 2.363 | 27.982 | |
sesameQC_getStats | 2.421 | 0.135 | 2.707 | |
sesameQC_plotBar | 18.741 | 0.505 | 19.667 | |
sesameQC_plotBetaByDesign | 13.421 | 1.468 | 15.318 | |
sesameQC_plotHeatSNPs | 22.837 | 1.768 | 25.183 | |
sesameQC_plotIntensVsBetas | 1.980 | 0.340 | 2.406 | |
sesameQC_plotRedGrnQQ | 1.663 | 0.183 | 1.904 | |
sesameQC_rankStats | 4.030 | 0.283 | 4.389 | |
sesameQCtoDF | 2.729 | 0.038 | 2.850 | |
sesame_checkVersion | 0.005 | 0.001 | 0.006 | |
sesamize | 0 | 0 | 0 | |
setMask | 0.075 | 0.003 | 0.079 | |
signalMU | 1.122 | 0.088 | 1.229 | |
sliceFileSet | 0.050 | 0.003 | 0.053 | |
summaryExtractTest | 3.948 | 0.512 | 4.620 | |
totalIntensities | 3.019 | 0.301 | 3.435 | |
updateSigDF | 4.306 | 0.440 | 4.891 | |
visualizeGene | 12.382 | 0.615 | 13.559 | |
visualizeProbes | 1.296 | 0.045 | 1.379 | |
visualizeRegion | 0.382 | 0.021 | 0.417 | |
visualizeSegments | 2.472 | 0.312 | 2.845 | |