| Back to Multiple platform build/check report for BioC 3.22: simplified long | 
  | 
This page was generated on 2025-11-03 12:04 -0500 (Mon, 03 Nov 2025).
| Hostname | OS | Arch (*) | R version | Installed pkgs | 
|---|---|---|---|---|
| nebbiolo2 | Linux (Ubuntu 24.04.3 LTS) | x86_64 | 4.5.1 Patched (2025-08-23 r88802) -- "Great Square Root" | 4902 | 
| lconway | macOS 12.7.6 Monterey | x86_64 | 4.5.1 Patched (2025-09-10 r88807) -- "Great Square Root" | 4692 | 
| kjohnson3 | macOS 13.7.7 Ventura | arm64 | 4.5.1 Patched (2025-09-10 r88807) -- "Great Square Root" | 4638 | 
| Click on any hostname to see more info about the system (e.g. compilers) (*) as reported by 'uname -p', except on Windows and Mac OS X | ||||
| Package 1992/2361 | Hostname | OS / Arch | INSTALL | BUILD | CHECK | BUILD BIN | ||||||||
| sesame 1.28.0  (landing page) Wanding Zhou 
  | nebbiolo2 | Linux (Ubuntu 24.04.3 LTS) / x86_64 | OK | OK | OK | |||||||||
| lconway | macOS 12.7.6 Monterey / x86_64 | OK | OK | OK | OK | |||||||||
| kjohnson3 | macOS 13.7.7 Ventura / arm64 | OK | OK | OK | OK | |||||||||
| 
To the developers/maintainers of the sesame package: - Allow up to 24 hours (and sometimes 48 hours) for your latest push to git@git.bioconductor.org:packages/sesame.git to reflect on this report. See Troubleshooting Build Report for more information. - Use the following Renviron settings to reproduce errors and warnings. - If 'R CMD check' started to fail recently on the Linux builder(s) over a missing dependency, add the missing dependency to 'Suggests:' in your DESCRIPTION file. See Renviron.bioc for more information.  | 
| Package: sesame | 
| Version: 1.28.0 | 
| Command: /Library/Frameworks/R.framework/Resources/bin/R CMD check --install=check:sesame.install-out.txt --library=/Library/Frameworks/R.framework/Resources/library --no-vignettes --timings sesame_1.28.0.tar.gz | 
| StartedAt: 2025-11-03 00:16:35 -0500 (Mon, 03 Nov 2025) | 
| EndedAt: 2025-11-03 00:27:55 -0500 (Mon, 03 Nov 2025) | 
| EllapsedTime: 679.9 seconds | 
| RetCode: 0 | 
| Status: OK | 
| CheckDir: sesame.Rcheck | 
| Warnings: 0 | 
##############################################################################
##############################################################################
###
### Running command:
###
###   /Library/Frameworks/R.framework/Resources/bin/R CMD check --install=check:sesame.install-out.txt --library=/Library/Frameworks/R.framework/Resources/library --no-vignettes --timings sesame_1.28.0.tar.gz
###
##############################################################################
##############################################################################
* using log directory ‘/Users/biocbuild/bbs-3.22-bioc/meat/sesame.Rcheck’
* using R version 4.5.1 Patched (2025-09-10 r88807)
* using platform: x86_64-apple-darwin20
* R was compiled by
    Apple clang version 14.0.0 (clang-1400.0.29.202)
    GNU Fortran (GCC) 14.2.0
* running under: macOS Monterey 12.7.6
* using session charset: UTF-8
* using option ‘--no-vignettes’
* checking for file ‘sesame/DESCRIPTION’ ... OK
* checking extension type ... Package
* this is package ‘sesame’ version ‘1.28.0’
* package encoding: UTF-8
* checking package namespace information ... OK
* checking package dependencies ... OK
* checking if this is a source package ... OK
* checking if there is a namespace ... OK
* checking for hidden files and directories ... OK
* checking for portable file names ... OK
* checking for sufficient/correct file permissions ... OK
* checking whether package ‘sesame’ can be installed ... OK
* checking installed package size ... OK
* checking package directory ... OK
* checking ‘build’ directory ... OK
* checking DESCRIPTION meta-information ... OK
* checking top-level files ... OK
* checking for left-over files ... OK
* checking index information ... OK
* checking package subdirectories ... OK
* checking code files for non-ASCII characters ... OK
* checking R files for syntax errors ... OK
* checking whether the package can be loaded ... OK
* checking whether the package can be loaded with stated dependencies ... OK
* checking whether the package can be unloaded cleanly ... OK
* checking whether the namespace can be loaded with stated dependencies ... OK
* checking whether the namespace can be unloaded cleanly ... OK
* checking whether startup messages can be suppressed ... OK
* checking dependencies in R code ... OK
* checking S3 generic/method consistency ... OK
* checking replacement functions ... OK
* checking foreign function calls ... OK
* checking R code for possible problems ... OK
* checking Rd files ... OK
* checking Rd metadata ... OK
* checking Rd cross-references ... OK
* checking for missing documentation entries ... OK
* checking for code/documentation mismatches ... OK
* checking Rd \usage sections ... OK
* checking Rd contents ... OK
* checking for unstated dependencies in examples ... OK
* checking files in ‘vignettes’ ... OK
* checking examples ... OK
Examples with CPU (user + system) or elapsed time > 5s
                                user system elapsed
imputeBetasByGenomicNeighbors 32.559  1.254  33.903
inferSex                      22.531  1.186  23.776
sesameQC_calcStats            20.637  1.526  22.216
sesameQC_plotHeatSNPs         17.574  1.265  18.883
imputeBetas                   16.103  1.444  17.604
ELBAR                         14.423  3.024  17.554
inferSpecies                  14.259  0.717  15.027
sesameQC_plotBar              12.869  0.333  13.236
diffRefSet                    11.648  0.555  12.225
sesameQC_plotBetaByDesign     10.392  1.491  11.925
getRefSet                     10.803  0.493  11.315
matchDesign                    9.583  0.633  10.243
compareReference               9.300  0.482   9.814
visualizeGene                  9.030  0.716   9.808
compareMouseStrainReference    9.309  0.415   9.746
sdf_read_table                 8.593  0.371   9.000
inferTissue                    6.499  1.529   8.081
DMR                            7.690  0.217   7.927
inferStrain                    7.135  0.644   7.811
estimateLeukocyte              6.027  0.442   6.483
DML                            5.756  0.259   6.031
dyeBiasCorrMostBalanced        5.732  0.250   6.018
probeSuccessRate               5.342  0.418   5.776
dyeBiasNL                      5.100  0.478   5.597
openSesame                     5.062  0.469   5.570
getMask                        4.965  0.408   5.382
deIdentify                     4.841  0.416   5.275
createUCSCtrack                4.817  0.236   5.065
* checking for unstated dependencies in ‘tests’ ... OK
* checking tests ...
  Running ‘testthat.R’
 OK
* checking for unstated dependencies in vignettes ... OK
* checking package vignettes ... OK
* checking running R code from vignettes ... SKIPPED
* checking re-building of vignette outputs ... SKIPPED
* checking PDF version of manual ... OK
* DONE
Status: OK
sesame.Rcheck/00install.out
############################################################################## ############################################################################## ### ### Running command: ### ### /Library/Frameworks/R.framework/Resources/bin/R CMD INSTALL sesame ### ############################################################################## ############################################################################## * installing to library ‘/Library/Frameworks/R.framework/Versions/4.5-x86_64/Resources/library’ * installing *source* package ‘sesame’ ... ** this is package ‘sesame’ version ‘1.28.0’ ** using staged installation ** R ** inst ** byte-compile and prepare package for lazy loading ** help *** installing help indices ** building package indices ** installing vignettes ** testing if installed package can be loaded from temporary location ** testing if installed package can be loaded from final location ** testing if installed package keeps a record of temporary installation path * DONE (sesame)
sesame.Rcheck/tests/testthat.Rout
R version 4.5.1 Patched (2025-09-10 r88807) -- "Great Square Root"
Copyright (C) 2025 The R Foundation for Statistical Computing
Platform: x86_64-apple-darwin20
R is free software and comes with ABSOLUTELY NO WARRANTY.
You are welcome to redistribute it under certain conditions.
Type 'license()' or 'licence()' for distribution details.
R is a collaborative project with many contributors.
Type 'contributors()' for more information and
'citation()' on how to cite R or R packages in publications.
Type 'demo()' for some demos, 'help()' for on-line help, or
'help.start()' for an HTML browser interface to help.
Type 'q()' to quit R.
> library(testthat)
> library(sesame)
Loading required package: sesameData
Loading required package: ExperimentHub
Loading required package: BiocGenerics
Loading required package: generics
Attaching package: 'generics'
The following objects are masked from 'package:base':
    as.difftime, as.factor, as.ordered, intersect, is.element, setdiff,
    setequal, union
Attaching package: 'BiocGenerics'
The following objects are masked from 'package:stats':
    IQR, mad, sd, var, xtabs
The following objects are masked from 'package:base':
    Filter, Find, Map, Position, Reduce, anyDuplicated, aperm, append,
    as.data.frame, basename, cbind, colnames, dirname, do.call,
    duplicated, eval, evalq, get, grep, grepl, is.unsorted, lapply,
    mapply, match, mget, order, paste, pmax, pmax.int, pmin, pmin.int,
    rank, rbind, rownames, sapply, saveRDS, table, tapply, unique,
    unsplit, which.max, which.min
Loading required package: AnnotationHub
Loading required package: BiocFileCache
Loading required package: dbplyr
Loading sesameData.
----------------------------------------------------------
| SEnsible Step-wise Analysis of DNA MEthylation (SeSAMe)
| --------------------------------------------------------
| Please cache auxiliary data by "sesameDataCache()".
| This needs to be done only once per SeSAMe installation.
----------------------------------------------------------
> 
> test_check("sesame")
[ FAIL 0 | WARN 0 | SKIP 0 | PASS 5 ]
> 
> proc.time()
   user  system elapsed 
 18.944   0.902  19.894 
sesame.Rcheck/sesame-Ex.timings
| name | user | system | elapsed | |
| BetaValueToMValue | 0 | 0 | 0 | |
| DML | 5.756 | 0.259 | 6.031 | |
| DMLpredict | 1.118 | 0.097 | 1.220 | |
| DMR | 7.690 | 0.217 | 7.927 | |
| ELBAR | 14.423 | 3.024 | 17.554 | |
| MValueToBetaValue | 0.000 | 0.000 | 0.001 | |
| SigDF | 0.345 | 0.118 | 0.466 | |
| addMask | 0.079 | 0.001 | 0.080 | |
| betasCollapseToPfx | 0.012 | 0.001 | 0.013 | |
| bisConversionControl | 3.887 | 0.239 | 4.146 | |
| calcEffectSize | 1.082 | 0.167 | 1.257 | |
| checkLevels | 3.445 | 0.206 | 3.667 | |
| cnSegmentation | 0.263 | 0.065 | 0.330 | |
| compareMouseStrainReference | 9.309 | 0.415 | 9.746 | |
| compareMouseTissueReference | 0.001 | 0.000 | 0.000 | |
| compareReference | 9.300 | 0.482 | 9.814 | |
| controls | 1.658 | 0.200 | 1.864 | |
| createUCSCtrack | 4.817 | 0.236 | 5.065 | |
| deIdentify | 4.841 | 0.416 | 5.275 | |
| detectionPnegEcdf | 0.901 | 0.006 | 0.908 | |
| diffRefSet | 11.648 | 0.555 | 12.225 | |
| dmContrasts | 1.666 | 0.211 | 1.881 | |
| dyeBiasCorr | 2.478 | 0.207 | 2.706 | |
| dyeBiasCorrMostBalanced | 5.732 | 0.250 | 6.018 | |
| dyeBiasL | 2.237 | 0.113 | 2.353 | |
| dyeBiasNL | 5.100 | 0.478 | 5.597 | |
| estimateLeukocyte | 6.027 | 0.442 | 6.483 | |
| formatVCF | 1.788 | 0.192 | 1.984 | |
| getAFTypeIbySumAlleles | 1.521 | 0.159 | 1.693 | |
| getAFs | 1.003 | 0.063 | 1.066 | |
| getBetas | 0.732 | 0.080 | 0.812 | |
| getMask | 4.965 | 0.408 | 5.382 | |
| getRefSet | 10.803 | 0.493 | 11.315 | |
| imputeBetas | 16.103 | 1.444 | 17.604 | |
| imputeBetasByGenomicNeighbors | 32.559 | 1.254 | 33.903 | |
| imputeBetasMatrixByMean | 0.001 | 0.000 | 0.001 | |
| inferEthnicity | 0.000 | 0.000 | 0.001 | |
| inferInfiniumIChannel | 0.379 | 0.466 | 0.854 | |
| inferSex | 22.531 | 1.186 | 23.776 | |
| inferSpecies | 14.259 | 0.717 | 15.027 | |
| inferStrain | 7.135 | 0.644 | 7.811 | |
| inferTissue | 6.499 | 1.529 | 8.081 | |
| initFileSet | 1.136 | 0.249 | 1.414 | |
| listAvailableMasks | 1.290 | 0.184 | 1.485 | |
| mLiftOver | 0.001 | 0.002 | 0.003 | |
| mapFileSet | 0.039 | 0.003 | 0.042 | |
| mapToMammal40 | 2.754 | 0.389 | 3.161 | |
| matchDesign | 9.583 | 0.633 | 10.243 | |
| meanIntensity | 2.494 | 0.487 | 3.018 | |
| medianTotalIntensity | 0.853 | 0.057 | 0.915 | |
| noMasked | 3.369 | 0.163 | 3.547 | |
| noob | 2.397 | 0.719 | 3.131 | |
| openSesame | 5.062 | 0.469 | 5.570 | |
| openSesameToFile | 1.580 | 0.316 | 1.899 | |
| pOOBAH | 1.330 | 0.003 | 1.334 | |
| palgen | 0.047 | 0.008 | 0.055 | |
| parseGEOsignalMU | 3.029 | 0.162 | 3.205 | |
| predictAge | 2.232 | 0.646 | 2.888 | |
| predictAgeHorvath353 | 0.000 | 0.000 | 0.001 | |
| predictAgeSkinBlood | 0.000 | 0.000 | 0.001 | |
| predictMouseAgeInMonth | 0.000 | 0.000 | 0.001 | |
| prefixMask | 0.550 | 0.002 | 0.553 | |
| prefixMaskButC | 0.127 | 0.000 | 0.127 | |
| prefixMaskButCG | 0.049 | 0.000 | 0.050 | |
| prepSesame | 3.614 | 0.201 | 3.825 | |
| prepSesameList | 0.002 | 0.001 | 0.003 | |
| print.DMLSummary | 2.743 | 0.711 | 3.467 | |
| print.fileSet | 1.130 | 0.184 | 1.318 | |
| probeID_designType | 0.000 | 0.000 | 0.001 | |
| probeSuccessRate | 5.342 | 0.418 | 5.776 | |
| qualityMask | 1.473 | 0.173 | 1.648 | |
| reIdentify | 4.390 | 0.207 | 4.608 | |
| readFileSet | 0.059 | 0.009 | 0.067 | |
| readIDATpair | 0.133 | 0.003 | 0.135 | |
| recommendedMaskNames | 0 | 0 | 0 | |
| resetMask | 0.403 | 0.058 | 0.462 | |
| scrub | 2.384 | 0.504 | 2.895 | |
| scrubSoft | 3.094 | 0.437 | 3.538 | |
| sdfPlatform | 0.308 | 0.079 | 0.394 | |
| sdf_read_table | 8.593 | 0.371 | 9.000 | |
| sdf_write_table | 2.679 | 0.170 | 2.877 | |
| searchIDATprefixes | 0.004 | 0.003 | 0.007 | |
| sesame-package | 2.209 | 0.568 | 2.787 | |
| sesameAnno_attachManifest | 0 | 0 | 0 | |
| sesameAnno_buildAddressFile | 0.000 | 0.000 | 0.001 | |
| sesameAnno_buildManifestGRanges | 0.000 | 0.000 | 0.001 | |
| sesameAnno_download | 0 | 0 | 0 | |
| sesameAnno_readManifestTSV | 0.000 | 0.000 | 0.001 | |
| sesameQC_calcStats | 20.637 | 1.526 | 22.216 | |
| sesameQC_getStats | 2.052 | 0.005 | 2.063 | |
| sesameQC_plotBar | 12.869 | 0.333 | 13.236 | |
| sesameQC_plotBetaByDesign | 10.392 | 1.491 | 11.925 | |
| sesameQC_plotHeatSNPs | 17.574 | 1.265 | 18.883 | |
| sesameQC_plotIntensVsBetas | 2.221 | 0.194 | 2.426 | |
| sesameQC_plotRedGrnQQ | 1.374 | 0.148 | 1.530 | |
| sesameQC_rankStats | 3.507 | 0.701 | 4.245 | |
| sesameQCtoDF | 1.836 | 0.004 | 1.842 | |
| sesame_checkVersion | 0.003 | 0.001 | 0.004 | |
| sesamize | 0.000 | 0.000 | 0.001 | |
| setMask | 0.088 | 0.002 | 0.090 | |
| signalMU | 0.742 | 0.062 | 0.810 | |
| sliceFileSet | 0.029 | 0.002 | 0.031 | |
| summaryExtractTest | 2.883 | 0.906 | 3.817 | |
| totalIntensities | 2.415 | 0.262 | 2.694 | |
| updateSigDF | 3.339 | 0.529 | 3.930 | |
| visualizeGene | 9.030 | 0.716 | 9.808 | |
| visualizeProbes | 1.232 | 0.047 | 1.283 | |
| visualizeRegion | 0.309 | 0.002 | 0.311 | |
| visualizeSegments | 1.702 | 0.310 | 2.016 | |