Back to Multiple platform build/check report for BioC 3.21: simplified long |
|
This page was generated on 2025-10-06 11:42 -0400 (Mon, 06 Oct 2025).
Hostname | OS | Arch (*) | R version | Installed pkgs |
---|---|---|---|---|
nebbiolo1 | Linux (Ubuntu 24.04.3 LTS) | x86_64 | 4.5.1 (2025-06-13) -- "Great Square Root" | 4832 |
merida1 | macOS 12.7.5 Monterey | x86_64 | 4.5.1 RC (2025-06-05 r88288) -- "Great Square Root" | 4613 |
kjohnson1 | macOS 13.6.6 Ventura | arm64 | 4.5.1 Patched (2025-06-14 r88325) -- "Great Square Root" | 4554 |
kunpeng2 | Linux (openEuler 24.03 LTS) | aarch64 | R Under development (unstable) (2025-02-19 r87757) -- "Unsuffered Consequences" | 4585 |
Click on any hostname to see more info about the system (e.g. compilers) (*) as reported by 'uname -p', except on Windows and Mac OS X |
Package 1974/2341 | Hostname | OS / Arch | INSTALL | BUILD | CHECK | BUILD BIN | ||||||||
sesame 1.26.0 (landing page) Wanding Zhou
| nebbiolo1 | Linux (Ubuntu 24.04.3 LTS) / x86_64 | OK | OK | OK | ![]() | ||||||||
merida1 | macOS 12.7.5 Monterey / x86_64 | OK | OK | OK | OK | ![]() | ||||||||
kjohnson1 | macOS 13.6.6 Ventura / arm64 | OK | OK | OK | OK | ![]() | ||||||||
kunpeng2 | Linux (openEuler 24.03 LTS) / aarch64 | OK | OK | OK | ||||||||||
To the developers/maintainers of the sesame package: - Allow up to 24 hours (and sometimes 48 hours) for your latest push to git@git.bioconductor.org:packages/sesame.git to reflect on this report. See Troubleshooting Build Report for more information. - Use the following Renviron settings to reproduce errors and warnings. - If 'R CMD check' started to fail recently on the Linux builder(s) over a missing dependency, add the missing dependency to 'Suggests:' in your DESCRIPTION file. See Renviron.bioc for more information. - See Martin Grigorov's blog post for how to debug Linux ARM64 related issues on a x86_64 host. |
Package: sesame |
Version: 1.26.0 |
Command: /home/biocbuild/R/R/bin/R CMD check --install=check:sesame.install-out.txt --library=/home/biocbuild/R/R/site-library --no-vignettes --timings sesame_1.26.0.tar.gz |
StartedAt: 2025-10-03 14:19:52 -0000 (Fri, 03 Oct 2025) |
EndedAt: 2025-10-03 14:36:07 -0000 (Fri, 03 Oct 2025) |
EllapsedTime: 974.4 seconds |
RetCode: 0 |
Status: OK |
CheckDir: sesame.Rcheck |
Warnings: 0 |
############################################################################## ############################################################################## ### ### Running command: ### ### /home/biocbuild/R/R/bin/R CMD check --install=check:sesame.install-out.txt --library=/home/biocbuild/R/R/site-library --no-vignettes --timings sesame_1.26.0.tar.gz ### ############################################################################## ############################################################################## * using log directory ‘/home/biocbuild/bbs-3.21-bioc/meat/sesame.Rcheck’ * using R Under development (unstable) (2025-02-19 r87757) * using platform: aarch64-unknown-linux-gnu * R was compiled by aarch64-unknown-linux-gnu-gcc (GCC) 14.2.0 GNU Fortran (GCC) 14.2.0 * running under: openEuler 24.03 (LTS-SP1) * using session charset: UTF-8 * using option ‘--no-vignettes’ * checking for file ‘sesame/DESCRIPTION’ ... OK * checking extension type ... Package * this is package ‘sesame’ version ‘1.26.0’ * package encoding: UTF-8 * checking package namespace information ... OK * checking package dependencies ... OK * checking if this is a source package ... OK * checking if there is a namespace ... OK * checking for hidden files and directories ... OK * checking for portable file names ... OK * checking for sufficient/correct file permissions ... OK * checking whether package ‘sesame’ can be installed ... OK * checking installed package size ... OK * checking package directory ... OK * checking ‘build’ directory ... OK * checking DESCRIPTION meta-information ... OK * checking top-level files ... OK * checking for left-over files ... OK * checking index information ... OK * checking package subdirectories ... OK * checking code files for non-ASCII characters ... OK * checking R files for syntax errors ... OK * checking whether the package can be loaded ... OK * checking whether the package can be loaded with stated dependencies ... OK * checking whether the package can be unloaded cleanly ... OK * checking whether the namespace can be loaded with stated dependencies ... OK * checking whether the namespace can be unloaded cleanly ... OK * checking loading without being on the library search path ... OK * checking whether startup messages can be suppressed ... OK * checking dependencies in R code ... OK * checking S3 generic/method consistency ... OK * checking replacement functions ... OK * checking foreign function calls ... OK * checking R code for possible problems ... OK * checking Rd files ... OK * checking Rd metadata ... OK * checking Rd cross-references ... OK * checking for missing documentation entries ... OK * checking for code/documentation mismatches ... OK * checking Rd \usage sections ... OK * checking Rd contents ... OK * checking for unstated dependencies in examples ... OK * checking files in ‘vignettes’ ... OK * checking examples ... OK Examples with CPU (user + system) or elapsed time > 5s user system elapsed imputeBetasByGenomicNeighbors 45.094 0.654 49.881 inferSex 30.428 0.279 32.678 sesameQC_calcStats 29.491 0.190 31.569 imputeBetas 27.759 0.478 32.408 sesameQC_plotHeatSNPs 25.466 0.168 28.206 ELBAR 23.937 0.167 26.816 sesameQC_plotBetaByDesign 20.113 0.179 22.213 inferSpecies 18.698 0.491 21.120 compareMouseStrainReference 18.146 0.152 19.384 matchDesign 17.013 0.167 18.767 diffRefSet 16.793 0.187 18.077 compareReference 15.984 0.207 17.058 getRefSet 13.425 0.179 14.991 sesameQC_plotBar 12.821 0.243 15.229 DMR 11.264 0.254 12.902 visualizeGene 10.462 0.208 11.720 inferStrain 10.278 0.363 12.001 DML 9.301 0.204 10.097 inferTissue 9.288 0.108 10.512 sdf_read_table 9.204 0.170 10.255 dyeBiasNL 8.593 0.086 8.988 deidentify 8.261 0.100 10.031 estimateLeukocyte 7.864 0.148 8.307 getMask 6.921 0.196 7.850 dyeBiasCorrMostBalanced 6.905 0.179 8.136 reIdentify 6.764 0.064 7.432 openSesame 6.607 0.135 7.064 scrubSoft 6.540 0.048 7.184 probeSuccessRate 6.253 0.147 6.866 createUCSCtrack 6.252 0.147 6.814 sesameQC_rankStats 5.877 0.060 6.656 prepSesame 5.375 0.059 5.650 bisConversionControl 4.907 0.111 5.150 noMasked 4.717 0.132 5.357 * checking for unstated dependencies in ‘tests’ ... OK * checking tests ... Running ‘testthat.R’ OK * checking for unstated dependencies in vignettes ... OK * checking package vignettes ... OK * checking running R code from vignettes ... SKIPPED * checking re-building of vignette outputs ... SKIPPED * checking PDF version of manual ... OK * DONE Status: OK
sesame.Rcheck/00install.out
############################################################################## ############################################################################## ### ### Running command: ### ### /home/biocbuild/R/R/bin/R CMD INSTALL sesame ### ############################################################################## ############################################################################## * installing to library ‘/home/biocbuild/R/R-devel_2025-02-19/site-library’ * installing *source* package ‘sesame’ ... ** this is package ‘sesame’ version ‘1.26.0’ ** using staged installation ** R ** inst ** byte-compile and prepare package for lazy loading ** help *** installing help indices ** building package indices ** installing vignettes ** testing if installed package can be loaded from temporary location ** testing if installed package can be loaded from final location ** testing if installed package keeps a record of temporary installation path * DONE (sesame)
sesame.Rcheck/tests/testthat.Rout
R Under development (unstable) (2025-02-19 r87757) -- "Unsuffered Consequences" Copyright (C) 2025 The R Foundation for Statistical Computing Platform: aarch64-unknown-linux-gnu R is free software and comes with ABSOLUTELY NO WARRANTY. You are welcome to redistribute it under certain conditions. Type 'license()' or 'licence()' for distribution details. R is a collaborative project with many contributors. Type 'contributors()' for more information and 'citation()' on how to cite R or R packages in publications. Type 'demo()' for some demos, 'help()' for on-line help, or 'help.start()' for an HTML browser interface to help. Type 'q()' to quit R. > library(testthat) > library(sesame) Loading required package: sesameData Loading required package: ExperimentHub Loading required package: BiocGenerics Loading required package: generics Attaching package: 'generics' The following objects are masked from 'package:base': as.difftime, as.factor, as.ordered, intersect, is.element, setdiff, setequal, union Attaching package: 'BiocGenerics' The following objects are masked from 'package:stats': IQR, mad, sd, var, xtabs The following objects are masked from 'package:base': Filter, Find, Map, Position, Reduce, anyDuplicated, aperm, append, as.data.frame, basename, cbind, colnames, dirname, do.call, duplicated, eval, evalq, get, grep, grepl, is.unsorted, lapply, mapply, match, mget, order, paste, pmax, pmax.int, pmin, pmin.int, rank, rbind, rownames, sapply, saveRDS, table, tapply, unique, unsplit, which.max, which.min Loading required package: AnnotationHub Loading required package: BiocFileCache Loading required package: dbplyr Loading sesameData. ---------------------------------------------------------- | SEnsible Step-wise Analysis of DNA MEthylation (SeSAMe) | -------------------------------------------------------- | Please cache auxiliary data by "sesameDataCache()". | This needs to be done only once per SeSAMe installation. ---------------------------------------------------------- > > test_check("sesame") [ FAIL 0 | WARN 0 | SKIP 0 | PASS 5 ] > > proc.time() user system elapsed 24.207 0.872 26.676
sesame.Rcheck/sesame-Ex.timings
name | user | system | elapsed | |
BetaValueToMValue | 0.001 | 0.000 | 0.000 | |
DML | 9.301 | 0.204 | 10.097 | |
DMLpredict | 1.543 | 0.064 | 1.981 | |
DMR | 11.264 | 0.254 | 12.902 | |
ELBAR | 23.937 | 0.167 | 26.816 | |
MValueToBetaValue | 0.001 | 0.000 | 0.000 | |
SigDF | 0.374 | 0.016 | 0.391 | |
addMask | 0.116 | 0.000 | 0.116 | |
betasCollapseToPfx | 0.016 | 0.000 | 0.016 | |
bisConversionControl | 4.907 | 0.111 | 5.150 | |
calcEffectSize | 1.334 | 0.048 | 1.551 | |
checkLevels | 3.586 | 0.047 | 3.917 | |
cnSegmentation | 0.352 | 0.012 | 0.375 | |
compareMouseStrainReference | 18.146 | 0.152 | 19.384 | |
compareMouseTissueReference | 0 | 0 | 0 | |
compareReference | 15.984 | 0.207 | 17.058 | |
controls | 2.281 | 0.056 | 2.384 | |
createUCSCtrack | 6.252 | 0.147 | 6.814 | |
deidentify | 8.261 | 0.100 | 10.031 | |
detectionPnegEcdf | 1.243 | 0.008 | 1.293 | |
diffRefSet | 16.793 | 0.187 | 18.077 | |
dmContrasts | 2.290 | 0.040 | 2.387 | |
dyeBiasCorr | 3.509 | 0.076 | 3.795 | |
dyeBiasCorrMostBalanced | 6.905 | 0.179 | 8.136 | |
dyeBiasL | 3.103 | 0.082 | 3.332 | |
dyeBiasNL | 8.593 | 0.086 | 8.988 | |
estimateLeukocyte | 7.864 | 0.148 | 8.307 | |
formatVCF | 2.401 | 0.067 | 2.601 | |
getAFTypeIbySumAlleles | 2.069 | 0.071 | 2.425 | |
getAFs | 1.471 | 0.012 | 1.606 | |
getBetas | 1.187 | 0.008 | 1.277 | |
getMask | 6.921 | 0.196 | 7.850 | |
getRefSet | 13.425 | 0.179 | 14.991 | |
imputeBetas | 27.759 | 0.478 | 32.408 | |
imputeBetasByGenomicNeighbors | 45.094 | 0.654 | 49.881 | |
imputeBetasMatrixByMean | 0.002 | 0.000 | 0.002 | |
inferEthnicity | 0.000 | 0.000 | 0.001 | |
inferInfiniumIChannel | 0.368 | 0.076 | 0.445 | |
inferSex | 30.428 | 0.279 | 32.678 | |
inferSpecies | 18.698 | 0.491 | 21.120 | |
inferStrain | 10.278 | 0.363 | 12.001 | |
inferTissue | 9.288 | 0.108 | 10.512 | |
initFileSet | 1.384 | 0.047 | 1.782 | |
listAvailableMasks | 1.408 | 0.076 | 1.623 | |
mLiftOver | 0.001 | 0.000 | 0.000 | |
mapFileSet | 0.043 | 0.000 | 0.043 | |
mapToMammal40 | 3.526 | 0.104 | 4.000 | |
matchDesign | 17.013 | 0.167 | 18.767 | |
meanIntensity | 3.353 | 0.068 | 3.814 | |
medianTotalIntensity | 1.332 | 0.032 | 1.623 | |
noMasked | 4.717 | 0.132 | 5.357 | |
noob | 3.736 | 0.032 | 3.781 | |
openSesame | 6.607 | 0.135 | 7.064 | |
openSesameToFile | 2.252 | 0.020 | 2.853 | |
pOOBAH | 1.803 | 0.003 | 1.991 | |
palgen | 0.046 | 0.004 | 0.065 | |
parseGEOsignalMU | 3.792 | 0.091 | 4.550 | |
predictAge | 2.605 | 0.056 | 2.726 | |
predictAgeHorvath353 | 0 | 0 | 0 | |
predictAgeSkinBlood | 0 | 0 | 0 | |
predictMouseAgeInMonth | 0 | 0 | 0 | |
prefixMask | 0.539 | 0.004 | 0.543 | |
prefixMaskButC | 0.163 | 0.000 | 0.208 | |
prefixMaskButCG | 0.071 | 0.000 | 0.076 | |
prepSesame | 5.375 | 0.059 | 5.650 | |
prepSesameList | 0.002 | 0.000 | 0.002 | |
print.DMLSummary | 3.302 | 0.128 | 3.667 | |
print.fileSet | 1.378 | 0.048 | 1.493 | |
probeID_designType | 0 | 0 | 0 | |
probeSuccessRate | 6.253 | 0.147 | 6.866 | |
qualityMask | 2.605 | 0.064 | 2.851 | |
reIdentify | 6.764 | 0.064 | 7.432 | |
readFileSet | 0.060 | 0.000 | 0.061 | |
readIDATpair | 0.161 | 0.000 | 0.162 | |
recommendedMaskNames | 0.001 | 0.000 | 0.001 | |
resetMask | 0.602 | 0.020 | 0.624 | |
scrub | 4.178 | 0.071 | 4.679 | |
scrubSoft | 6.540 | 0.048 | 7.184 | |
sdfPlatform | 0.382 | 0.036 | 0.418 | |
sdf_read_table | 9.204 | 0.170 | 10.255 | |
sdf_write_table | 2.361 | 0.048 | 2.491 | |
searchIDATprefixes | 0.006 | 0.000 | 0.029 | |
sesame-package | 3.078 | 0.068 | 3.380 | |
sesameAnno_attachManifest | 0 | 0 | 0 | |
sesameAnno_buildAddressFile | 0.000 | 0.000 | 0.001 | |
sesameAnno_buildManifestGRanges | 0 | 0 | 0 | |
sesameAnno_download | 0 | 0 | 0 | |
sesameAnno_readManifestTSV | 0 | 0 | 0 | |
sesameQC_calcStats | 29.491 | 0.190 | 31.569 | |
sesameQC_getStats | 2.403 | 0.004 | 2.791 | |
sesameQC_plotBar | 12.821 | 0.243 | 15.229 | |
sesameQC_plotBetaByDesign | 20.113 | 0.179 | 22.213 | |
sesameQC_plotHeatSNPs | 25.466 | 0.168 | 28.206 | |
sesameQC_plotIntensVsBetas | 3.480 | 0.040 | 3.958 | |
sesameQC_plotRedGrnQQ | 1.969 | 0.032 | 2.208 | |
sesameQC_rankStats | 5.877 | 0.060 | 6.656 | |
sesameQCtoDF | 2.377 | 0.015 | 2.428 | |
sesame_checkVersion | 0.004 | 0.000 | 0.005 | |
sesamize | 0 | 0 | 0 | |
setMask | 0.14 | 0.00 | 0.14 | |
signalMU | 1.209 | 0.036 | 1.276 | |
sliceFileSet | 0.043 | 0.000 | 0.043 | |
summaryExtractTest | 3.222 | 0.191 | 3.560 | |
totalIntensities | 3.188 | 0.064 | 3.595 | |
updateSigDF | 4.415 | 0.087 | 4.908 | |
visualizeGene | 10.462 | 0.208 | 11.720 | |
visualizeProbes | 1.635 | 0.019 | 1.751 | |
visualizeRegion | 0.520 | 0.004 | 0.595 | |
visualizeSegments | 2.006 | 0.024 | 2.037 | |