Back to Multiple platform build/check report for BioC 3.22:   simplified   long
ABCDEFGHIJKLMNOPQR[S]TUVWXYZ

This page was generated on 2025-11-04 12:04 -0500 (Tue, 04 Nov 2025).

HostnameOSArch (*)R versionInstalled pkgs
nebbiolo2Linux (Ubuntu 24.04.3 LTS)x86_644.5.1 Patched (2025-08-23 r88802) -- "Great Square Root" 4902
lconwaymacOS 12.7.6 Montereyx86_644.5.1 Patched (2025-09-10 r88807) -- "Great Square Root" 4692
kjohnson3macOS 13.7.7 Venturaarm644.5.1 Patched (2025-09-10 r88807) -- "Great Square Root" 4638
Click on any hostname to see more info about the system (e.g. compilers)      (*) as reported by 'uname -p', except on Windows and Mac OS X

Package 1884/2361HostnameOS / ArchINSTALLBUILDCHECKBUILD BIN
sangeranalyseR 1.20.0  (landing page)
Kuan-Hao Chao
Snapshot Date: 2025-11-03 13:45 -0500 (Mon, 03 Nov 2025)
git_url: https://git.bioconductor.org/packages/sangeranalyseR
git_branch: RELEASE_3_22
git_last_commit: 7a09d8d
git_last_commit_date: 2025-10-29 10:59:40 -0500 (Wed, 29 Oct 2025)
nebbiolo2Linux (Ubuntu 24.04.3 LTS) / x86_64  ERROR    ERROR  skipped
lconwaymacOS 12.7.6 Monterey / x86_64  ERROR    ERROR  skippedskipped
kjohnson3macOS 13.7.7 Ventura / arm64  ERROR    ERROR  skippedskipped


BUILD results for sangeranalyseR on lconway

To the developers/maintainers of the sangeranalyseR package:
- Allow up to 24 hours (and sometimes 48 hours) for your latest push to git@git.bioconductor.org:packages/sangeranalyseR.git to reflect on this report. See Troubleshooting Build Report for more information.
- Use the following Renviron settings to reproduce errors and warnings.
- If 'R CMD check' started to fail recently on the Linux builder(s) over a missing dependency, add the missing dependency to 'Suggests:' in your DESCRIPTION file. See Renviron.bioc for more information.

raw results


Summary

Package: sangeranalyseR
Version: 1.20.0
Command: /Library/Frameworks/R.framework/Resources/bin/R CMD build --keep-empty-dirs --no-resave-data sangeranalyseR
StartedAt: 2025-11-03 18:35:11 -0500 (Mon, 03 Nov 2025)
EndedAt: 2025-11-03 18:35:19 -0500 (Mon, 03 Nov 2025)
EllapsedTime: 8.0 seconds
RetCode: 1
Status:   ERROR  
PackageFile: None
PackageFileSize: NA

Command output

##############################################################################
##############################################################################
###
### Running command:
###
###   /Library/Frameworks/R.framework/Resources/bin/R CMD build --keep-empty-dirs --no-resave-data sangeranalyseR
###
##############################################################################
##############################################################################


* checking for file ‘sangeranalyseR/DESCRIPTION’ ... OK
* preparing ‘sangeranalyseR’:
* checking DESCRIPTION meta-information ... OK
* installing the package to build vignettes
      -----------------------------------
* installing *source* package ‘sangeranalyseR’ ...
** this is package ‘sangeranalyseR’ version ‘1.20.0’
** using staged installation
** R
** data
** inst
** byte-compile and prepare package for lazy loading
Error: object ‘TreeLine’ is not exported by 'namespace:DECIPHER'
Execution halted
ERROR: lazy loading failed for package ‘sangeranalyseR’
* removing ‘/private/tmp/Rtmpu0wWDx/Rinst6acf3c40e314/sangeranalyseR’
      -----------------------------------
ERROR: package installation failed