| Back to Multiple platform build/check report for BioC 3.21: simplified long |
|
This page was generated on 2025-10-16 11:41 -0400 (Thu, 16 Oct 2025).
| Hostname | OS | Arch (*) | R version | Installed pkgs |
|---|---|---|---|---|
| nebbiolo1 | Linux (Ubuntu 24.04.3 LTS) | x86_64 | 4.5.1 (2025-06-13) -- "Great Square Root" | 4833 |
| merida1 | macOS 12.7.6 Monterey | x86_64 | 4.5.1 RC (2025-06-05 r88288) -- "Great Square Root" | 4614 |
| kjohnson1 | macOS 13.7.5 Ventura | arm64 | 4.5.1 Patched (2025-06-14 r88325) -- "Great Square Root" | 4555 |
| kunpeng2 | Linux (openEuler 24.03 LTS) | aarch64 | R Under development (unstable) (2025-02-19 r87757) -- "Unsuffered Consequences" | 4586 |
| Click on any hostname to see more info about the system (e.g. compilers) (*) as reported by 'uname -p', except on Windows and Mac OS X | ||||
| Package 1473/2341 | Hostname | OS / Arch | INSTALL | BUILD | CHECK | BUILD BIN | ||||||||
| omada 1.10.0 (landing page) Sokratis Kariotis
| nebbiolo1 | Linux (Ubuntu 24.04.3 LTS) / x86_64 | OK | OK | OK | |||||||||
| merida1 | macOS 12.7.6 Monterey / x86_64 | OK | OK | OK | OK | |||||||||
| kjohnson1 | macOS 13.7.5 Ventura / arm64 | OK | OK | OK | OK | |||||||||
| kunpeng2 | Linux (openEuler 24.03 LTS) / aarch64 | OK | OK | OK | ||||||||||
|
To the developers/maintainers of the omada package: - Allow up to 24 hours (and sometimes 48 hours) for your latest push to git@git.bioconductor.org:packages/omada.git to reflect on this report. See Troubleshooting Build Report for more information. - Use the following Renviron settings to reproduce errors and warnings. - If 'R CMD check' started to fail recently on the Linux builder(s) over a missing dependency, add the missing dependency to 'Suggests:' in your DESCRIPTION file. See Renviron.bioc for more information. - See Martin Grigorov's blog post for how to debug Linux ARM64 related issues on a x86_64 host. |
| Package: omada |
| Version: 1.10.0 |
| Command: /home/biocbuild/R/R/bin/R CMD check --install=check:omada.install-out.txt --library=/home/biocbuild/R/R/site-library --no-vignettes --timings omada_1.10.0.tar.gz |
| StartedAt: 2025-10-14 12:06:19 -0000 (Tue, 14 Oct 2025) |
| EndedAt: 2025-10-14 12:22:35 -0000 (Tue, 14 Oct 2025) |
| EllapsedTime: 976.3 seconds |
| RetCode: 0 |
| Status: OK |
| CheckDir: omada.Rcheck |
| Warnings: 0 |
##############################################################################
##############################################################################
###
### Running command:
###
### /home/biocbuild/R/R/bin/R CMD check --install=check:omada.install-out.txt --library=/home/biocbuild/R/R/site-library --no-vignettes --timings omada_1.10.0.tar.gz
###
##############################################################################
##############################################################################
* using log directory ‘/home/biocbuild/bbs-3.21-bioc/meat/omada.Rcheck’
* using R Under development (unstable) (2025-02-19 r87757)
* using platform: aarch64-unknown-linux-gnu
* R was compiled by
aarch64-unknown-linux-gnu-gcc (GCC) 14.2.0
GNU Fortran (GCC) 14.2.0
* running under: openEuler 24.03 (LTS-SP1)
* using session charset: UTF-8
* using option ‘--no-vignettes’
* checking for file ‘omada/DESCRIPTION’ ... OK
* checking extension type ... Package
* this is package ‘omada’ version ‘1.10.0’
* package encoding: UTF-8
* checking package namespace information ... OK
* checking package dependencies ... INFO
Depends: includes the non-default packages:
'pdfCluster', 'kernlab', 'fpc', 'Rcpp', 'diceR', 'ggplot2',
'reshape', 'genieclust', 'clValid', 'glmnet', 'dplyr'
Adding so many packages to the search path is excessive and importing
selectively is preferable.
* checking if this is a source package ... OK
* checking if there is a namespace ... OK
* checking for hidden files and directories ... OK
* checking for portable file names ... OK
* checking for sufficient/correct file permissions ... OK
* checking whether package ‘omada’ can be installed ... OK
* checking installed package size ... OK
* checking package directory ... OK
* checking ‘build’ directory ... OK
* checking DESCRIPTION meta-information ... OK
* checking top-level files ... NOTE
File
LICENSE
is not mentioned in the DESCRIPTION file.
* checking for left-over files ... OK
* checking index information ... OK
* checking package subdirectories ... OK
* checking code files for non-ASCII characters ... OK
* checking R files for syntax errors ... OK
* checking whether the package can be loaded ... OK
* checking whether the package can be loaded with stated dependencies ... OK
* checking whether the package can be unloaded cleanly ... OK
* checking whether the namespace can be loaded with stated dependencies ... OK
* checking whether the namespace can be unloaded cleanly ... OK
* checking loading without being on the library search path ... OK
* checking dependencies in R code ... NOTE
Packages in Depends field not imported from:
‘Rcpp’ ‘dplyr’ ‘genieclust’ ‘glmnet’ ‘kernlab’ ‘reshape’
These packages need to be imported from (in the NAMESPACE file)
for when this namespace is loaded but not attached.
* checking S3 generic/method consistency ... OK
* checking replacement functions ... OK
* checking foreign function calls ... OK
* checking R code for possible problems ... NOTE
Index.15and28: no visible global function definition for ‘dist’
Index.15and28: no visible global function definition for ‘as.dist’
Index.sPlussMoins: no visible global function definition for ‘dist’
Index.sPlussMoins: no visible global function definition for ‘as.dist’
Index.sPlussMoins: no visible global function definition for ‘median’
Indice.cindex: no visible global function definition for ‘dist’
clusterVoting: no visible global function definition for ‘calinhara’
clusterVoting: no visible global function definition for
‘generalised_dunn_index’
clusterVoting: no visible global function definition for
‘silhouette_index’
clusterVoting: no visible global function definition for
‘negated_davies_bouldin_index’
clusterVoting: no visible binding for global variable ‘k’
clusterVoting: no visible binding for global variable ‘Frequency’
clusteringMethodSelection: no visible binding for global variable
‘value’
clusteringMethodSelection: no visible binding for global variable
‘methods’
featureSelection: no visible binding for global variable ‘featureSet’
featureSelection: no visible binding for global variable ‘means’
Undefined global functions or variables:
Frequency as.dist calinhara dist featureSet generalised_dunn_index k
means median methods negated_davies_bouldin_index silhouette_index
value
Consider adding
importFrom("stats", "as.dist", "dist", "median")
importFrom("utils", "methods")
to your NAMESPACE file.
* checking Rd files ... OK
* checking Rd metadata ... OK
* checking Rd cross-references ... OK
* checking for missing documentation entries ... OK
* checking for code/documentation mismatches ... OK
* checking Rd \usage sections ... OK
* checking Rd contents ... OK
* checking for unstated dependencies in examples ... OK
* checking contents of ‘data’ directory ... OK
* checking data for non-ASCII characters ... OK
* checking LazyData ... OK
* checking data for ASCII and uncompressed saves ... OK
* checking files in ‘vignettes’ ... OK
* checking examples ... OK
Examples with CPU (user + system) or elapsed time > 5s
user system elapsed
get_feature_selection_optimal_number_of_features 55.453 0.155 59.124
get_feature_selection_scores 54.846 0.107 61.775
plot_feature_selection 38.756 0.083 42.118
plot_partition_agreement 38.104 0.067 43.633
get_sample_memberships 37.845 0.093 43.309
get_cluster_voting_scores 36.952 0.134 39.294
get_feature_selection_optimal_features 36.879 0.087 40.710
get_partition_agreement_scores 36.715 0.119 40.125
get_cluster_voting_memberships 36.616 0.175 39.111
get_cluster_voting_metric_votes 36.714 0.060 40.651
get_cluster_voting_k_votes 36.118 0.159 41.329
omada 30.646 0.068 33.328
plot_cluster_voting 25.958 0.032 27.844
plot_average_stabilities 12.860 0.016 14.259
get_optimal_number_of_features 11.926 0.020 12.306
get_optimal_features 11.899 0.020 12.993
get_optimal_stability_score 10.711 0.012 11.343
get_optimal_memberships 10.361 0.007 11.138
get_optimal_parameter_used 10.325 0.008 11.042
featureSelection 10.229 0.028 11.817
get_average_feature_k_stabilities 6.380 0.052 6.565
clusterVoting 5.771 0.092 6.363
* checking for unstated dependencies in ‘tests’ ... OK
* checking tests ...
Running ‘testthat.R’
OK
* checking for unstated dependencies in vignettes ... OK
* checking package vignettes ... OK
* checking running R code from vignettes ... SKIPPED
* checking re-building of vignette outputs ... SKIPPED
* checking PDF version of manual ... OK
* DONE
Status: 3 NOTEs
See
‘/home/biocbuild/bbs-3.21-bioc/meat/omada.Rcheck/00check.log’
for details.
omada.Rcheck/00install.out
############################################################################## ############################################################################## ### ### Running command: ### ### /home/biocbuild/R/R/bin/R CMD INSTALL omada ### ############################################################################## ############################################################################## * installing to library ‘/home/biocbuild/R/R-devel_2025-02-19/site-library’ * installing *source* package ‘omada’ ... ** this is package ‘omada’ version ‘1.10.0’ ** using staged installation ** R ** data *** moving datasets to lazyload DB ** inst ** byte-compile and prepare package for lazy loading ** help *** installing help indices ** building package indices ** installing vignettes ** testing if installed package can be loaded from temporary location ** testing if installed package can be loaded from final location ** testing if installed package keeps a record of temporary installation path * DONE (omada)
omada.Rcheck/tests/testthat.Rout
R Under development (unstable) (2025-02-19 r87757) -- "Unsuffered Consequences"
Copyright (C) 2025 The R Foundation for Statistical Computing
Platform: aarch64-unknown-linux-gnu
R is free software and comes with ABSOLUTELY NO WARRANTY.
You are welcome to redistribute it under certain conditions.
Type 'license()' or 'licence()' for distribution details.
R is a collaborative project with many contributors.
Type 'contributors()' for more information and
'citation()' on how to cite R or R packages in publications.
Type 'demo()' for some demos, 'help()' for on-line help, or
'help.start()' for an HTML browser interface to help.
Type 'q()' to quit R.
> library(testthat)
> library(omada)
Loading required package: pdfCluster
pdfCluster 1.0-4
Loading required package: kernlab
Loading required package: fpc
Loading required package: Rcpp
Loading required package: diceR
Loading required package: ggplot2
Attaching package: 'ggplot2'
The following object is masked from 'package:kernlab':
alpha
Loading required package: reshape
Loading required package: genieclust
Loading required package: clValid
Loading required package: cluster
Loading required package: glmnet
Loading required package: Matrix
Attaching package: 'Matrix'
The following object is masked from 'package:reshape':
expand
Loaded glmnet 4.1-8
Loading required package: dplyr
Attaching package: 'dplyr'
The following object is masked from 'package:reshape':
rename
The following object is masked from 'package:pdfCluster':
groups
The following object is masked from 'package:testthat':
matches
The following objects are masked from 'package:stats':
filter, lag
The following objects are masked from 'package:base':
intersect, setdiff, setequal, union
>
> test_check("omada")
[ FAIL 0 | WARN 1 | SKIP 0 | PASS 38 ]
[ FAIL 0 | WARN 1 | SKIP 0 | PASS 38 ]
>
> proc.time()
user system elapsed
111.480 0.793 193.705
omada.Rcheck/omada-Ex.timings
| name | user | system | elapsed | |
| clusterVoting | 5.771 | 0.092 | 6.363 | |
| clusteringMethodSelection | 2.138 | 0.052 | 2.511 | |
| feasibilityAnalysis | 1.541 | 0.020 | 1.654 | |
| feasibilityAnalysisDataBased | 3.876 | 0.103 | 4.199 | |
| featureSelection | 10.229 | 0.028 | 11.817 | |
| get_agreement_scores | 0.197 | 0.008 | 0.205 | |
| get_average_feature_k_stabilities | 6.380 | 0.052 | 6.565 | |
| get_average_stabilities_per_k | 1.112 | 0.016 | 1.135 | |
| get_average_stability | 1.146 | 0.000 | 1.246 | |
| get_cluster_memberships_k | 1.437 | 0.036 | 1.480 | |
| get_cluster_voting_k_votes | 36.118 | 0.159 | 41.329 | |
| get_cluster_voting_memberships | 36.616 | 0.175 | 39.111 | |
| get_cluster_voting_metric_votes | 36.714 | 0.060 | 40.651 | |
| get_cluster_voting_scores | 36.952 | 0.134 | 39.294 | |
| get_feature_selection_optimal_features | 36.879 | 0.087 | 40.710 | |
| get_feature_selection_optimal_number_of_features | 55.453 | 0.155 | 59.124 | |
| get_feature_selection_scores | 54.846 | 0.107 | 61.775 | |
| get_generated_dataset | 3.843 | 0.004 | 4.147 | |
| get_internal_metric_scores | 1.839 | 0.004 | 2.265 | |
| get_max_stability | 1.126 | 0.016 | 1.156 | |
| get_metric_votes_k | 1.463 | 0.020 | 1.675 | |
| get_optimal_features | 11.899 | 0.020 | 12.993 | |
| get_optimal_memberships | 10.361 | 0.007 | 11.138 | |
| get_optimal_number_of_features | 11.926 | 0.020 | 12.306 | |
| get_optimal_parameter_used | 10.325 | 0.008 | 11.042 | |
| get_optimal_stability_score | 10.711 | 0.012 | 11.343 | |
| get_partition_agreement_scores | 36.715 | 0.119 | 40.125 | |
| get_sample_memberships | 37.845 | 0.093 | 43.309 | |
| get_vote_frequencies_k | 1.475 | 0.005 | 1.584 | |
| omada | 30.646 | 0.068 | 33.328 | |
| optimalClustering | 0.47 | 0.00 | 0.58 | |
| partitionAgreement | 0.404 | 0.008 | 0.445 | |
| plot_average_stabilities | 12.860 | 0.016 | 14.259 | |
| plot_cluster_voting | 25.958 | 0.032 | 27.844 | |
| plot_feature_selection | 38.756 | 0.083 | 42.118 | |
| plot_partition_agreement | 38.104 | 0.067 | 43.633 | |
| plot_vote_frequencies | 1.770 | 0.000 | 1.957 | |
| toy_gene_memberships | 0.016 | 0.000 | 0.016 | |
| toy_genes | 0.001 | 0.000 | 0.001 | |