| Back to Multiple platform build/check report for BioC 3.22: simplified long |
|
This page was generated on 2025-11-24 12:05 -0500 (Mon, 24 Nov 2025).
| Hostname | OS | Arch (*) | R version | Installed pkgs |
|---|---|---|---|---|
| nebbiolo2 | Linux (Ubuntu 24.04.3 LTS) | x86_64 | 4.5.2 (2025-10-31) -- "[Not] Part in a Rumble" | 4873 |
| merida1 | macOS 12.7.6 Monterey | x86_64 | 4.5.2 Patched (2025-11-05 r88990) -- "[Not] Part in a Rumble" | 4654 |
| kjohnson1 | macOS 13.7.5 Ventura | arm64 | 4.5.2 Patched (2025-11-04 r88984) -- "[Not] Part in a Rumble" | 4600 |
| taishan | Linux (openEuler 24.03 LTS) | aarch64 | 4.5.0 (2025-04-11) -- "How About a Twenty-Six" | 4668 |
| Click on any hostname to see more info about the system (e.g. compilers) (*) as reported by 'uname -p', except on Windows and Mac OS X | ||||
| Package 1493/2361 | Hostname | OS / Arch | INSTALL | BUILD | CHECK | BUILD BIN | ||||||||
| omada 1.12.0 (landing page) Sokratis Kariotis
| nebbiolo2 | Linux (Ubuntu 24.04.3 LTS) / x86_64 | OK | OK | OK | |||||||||
| merida1 | macOS 12.7.6 Monterey / x86_64 | OK | OK | OK | OK | |||||||||
| kjohnson1 | macOS 13.7.5 Ventura / arm64 | OK | OK | OK | OK | |||||||||
| taishan | Linux (openEuler 24.03 LTS) / aarch64 | OK | OK | OK | ||||||||||
|
To the developers/maintainers of the omada package: - Allow up to 24 hours (and sometimes 48 hours) for your latest push to git@git.bioconductor.org:packages/omada.git to reflect on this report. See Troubleshooting Build Report for more information. - Use the following Renviron settings to reproduce errors and warnings. - If 'R CMD check' started to fail recently on the Linux builder(s) over a missing dependency, add the missing dependency to 'Suggests:' in your DESCRIPTION file. See Renviron.bioc for more information. |
| Package: omada |
| Version: 1.12.0 |
| Command: /Library/Frameworks/R.framework/Resources/bin/R CMD check --install=check:omada.install-out.txt --library=/Library/Frameworks/R.framework/Resources/library --no-vignettes --timings omada_1.12.0.tar.gz |
| StartedAt: 2025-11-21 08:59:53 -0500 (Fri, 21 Nov 2025) |
| EndedAt: 2025-11-21 09:21:14 -0500 (Fri, 21 Nov 2025) |
| EllapsedTime: 1281.2 seconds |
| RetCode: 0 |
| Status: OK |
| CheckDir: omada.Rcheck |
| Warnings: 0 |
##############################################################################
##############################################################################
###
### Running command:
###
### /Library/Frameworks/R.framework/Resources/bin/R CMD check --install=check:omada.install-out.txt --library=/Library/Frameworks/R.framework/Resources/library --no-vignettes --timings omada_1.12.0.tar.gz
###
##############################################################################
##############################################################################
* using log directory ‘/Users/biocbuild/bbs-3.22-bioc/meat/omada.Rcheck’
* using R version 4.5.2 Patched (2025-11-05 r88990)
* using platform: x86_64-apple-darwin20
* R was compiled by
Apple clang version 14.0.0 (clang-1400.0.29.202)
GNU Fortran (GCC) 14.2.0
* running under: macOS Monterey 12.7.6
* using session charset: UTF-8
* using option ‘--no-vignettes’
* checking for file ‘omada/DESCRIPTION’ ... OK
* checking extension type ... Package
* this is package ‘omada’ version ‘1.12.0’
* package encoding: UTF-8
* checking package namespace information ... OK
* checking package dependencies ... INFO
Depends: includes the non-default packages:
'pdfCluster', 'kernlab', 'fpc', 'Rcpp', 'diceR', 'ggplot2',
'reshape', 'genieclust', 'clValid', 'glmnet', 'dplyr'
Adding so many packages to the search path is excessive and importing
selectively is preferable.
* checking if this is a source package ... OK
* checking if there is a namespace ... OK
* checking for hidden files and directories ... OK
* checking for portable file names ... OK
* checking for sufficient/correct file permissions ... OK
* checking whether package ‘omada’ can be installed ... OK
* checking installed package size ... OK
* checking package directory ... OK
* checking ‘build’ directory ... OK
* checking DESCRIPTION meta-information ... OK
* checking top-level files ... NOTE
File
LICENSE
is not mentioned in the DESCRIPTION file.
* checking for left-over files ... OK
* checking index information ... OK
* checking package subdirectories ... OK
* checking code files for non-ASCII characters ... OK
* checking R files for syntax errors ... OK
* checking whether the package can be loaded ... OK
* checking whether the package can be loaded with stated dependencies ... OK
* checking whether the package can be unloaded cleanly ... OK
* checking whether the namespace can be loaded with stated dependencies ... OK
* checking whether the namespace can be unloaded cleanly ... OK
* checking dependencies in R code ... NOTE
Packages in Depends field not imported from:
‘Rcpp’ ‘dplyr’ ‘genieclust’ ‘glmnet’ ‘kernlab’ ‘reshape’
These packages need to be imported from (in the NAMESPACE file)
for when this namespace is loaded but not attached.
* checking S3 generic/method consistency ... OK
* checking replacement functions ... OK
* checking foreign function calls ... OK
* checking R code for possible problems ... NOTE
Index.15and28: no visible global function definition for ‘dist’
Index.15and28: no visible global function definition for ‘as.dist’
Index.sPlussMoins: no visible global function definition for ‘dist’
Index.sPlussMoins: no visible global function definition for ‘as.dist’
Index.sPlussMoins: no visible global function definition for ‘median’
Indice.cindex: no visible global function definition for ‘dist’
clusterVoting: no visible global function definition for ‘calinhara’
clusterVoting: no visible global function definition for
‘generalised_dunn_index’
clusterVoting: no visible global function definition for
‘silhouette_index’
clusterVoting: no visible global function definition for
‘negated_davies_bouldin_index’
clusterVoting: no visible binding for global variable ‘k’
clusterVoting: no visible binding for global variable ‘Frequency’
clusteringMethodSelection: no visible binding for global variable
‘value’
clusteringMethodSelection: no visible binding for global variable
‘methods’
featureSelection: no visible binding for global variable ‘featureSet’
featureSelection: no visible binding for global variable ‘means’
Undefined global functions or variables:
Frequency as.dist calinhara dist featureSet generalised_dunn_index k
means median methods negated_davies_bouldin_index silhouette_index
value
Consider adding
importFrom("stats", "as.dist", "dist", "median")
importFrom("utils", "methods")
to your NAMESPACE file.
* checking Rd files ... OK
* checking Rd metadata ... OK
* checking Rd cross-references ... OK
* checking for missing documentation entries ... OK
* checking for code/documentation mismatches ... OK
* checking Rd \usage sections ... OK
* checking Rd contents ... OK
* checking for unstated dependencies in examples ... OK
* checking contents of ‘data’ directory ... OK
* checking data for non-ASCII characters ... OK
* checking LazyData ... OK
* checking data for ASCII and uncompressed saves ... OK
* checking files in ‘vignettes’ ... OK
* checking examples ... OK
Examples with CPU (user + system) or elapsed time > 5s
user system elapsed
get_feature_selection_scores 76.358 0.699 78.836
get_feature_selection_optimal_number_of_features 72.422 0.653 74.075
plot_partition_agreement 54.072 0.568 101.555
get_cluster_voting_scores 52.970 0.435 54.054
get_cluster_voting_k_votes 51.569 0.427 56.813
get_feature_selection_optimal_features 51.090 0.489 52.070
plot_feature_selection 50.416 0.429 64.003
get_partition_agreement_scores 50.185 0.446 51.772
get_sample_memberships 49.766 0.419 52.015
get_cluster_voting_metric_votes 49.078 0.394 51.840
get_cluster_voting_memberships 47.423 0.403 48.865
plot_cluster_voting 38.500 0.329 40.447
omada 37.931 0.333 39.792
plot_average_stabilities 17.030 0.124 17.592
get_optimal_number_of_features 16.387 0.116 17.035
get_optimal_features 15.924 0.169 16.895
get_optimal_stability_score 14.346 0.106 14.949
get_optimal_parameter_used 13.708 0.108 14.155
get_optimal_memberships 13.348 0.127 13.833
featureSelection 12.609 0.079 13.669
get_average_feature_k_stabilities 9.301 0.065 11.032
clusterVoting 7.690 0.487 8.850
get_generated_dataset 6.150 0.032 6.470
feasibilityAnalysisDataBased 5.278 0.109 5.662
* checking for unstated dependencies in ‘tests’ ... OK
* checking tests ...
Running ‘testthat.R’
OK
* checking for unstated dependencies in vignettes ... OK
* checking package vignettes ... OK
* checking running R code from vignettes ... SKIPPED
* checking re-building of vignette outputs ... SKIPPED
* checking PDF version of manual ... OK
* DONE
Status: 3 NOTEs
See
‘/Users/biocbuild/bbs-3.22-bioc/meat/omada.Rcheck/00check.log’
for details.
omada.Rcheck/00install.out
############################################################################## ############################################################################## ### ### Running command: ### ### /Library/Frameworks/R.framework/Resources/bin/R CMD INSTALL omada ### ############################################################################## ############################################################################## * installing to library ‘/Library/Frameworks/R.framework/Versions/4.5-x86_64/Resources/library’ * installing *source* package ‘omada’ ... ** this is package ‘omada’ version ‘1.12.0’ ** using staged installation ** R ** data *** moving datasets to lazyload DB ** inst ** byte-compile and prepare package for lazy loading ** help *** installing help indices ** building package indices ** installing vignettes ** testing if installed package can be loaded from temporary location ** testing if installed package can be loaded from final location ** testing if installed package keeps a record of temporary installation path * DONE (omada)
omada.Rcheck/tests/testthat.Rout
R version 4.5.2 Patched (2025-11-05 r88990) -- "[Not] Part in a Rumble"
Copyright (C) 2025 The R Foundation for Statistical Computing
Platform: x86_64-apple-darwin20
R is free software and comes with ABSOLUTELY NO WARRANTY.
You are welcome to redistribute it under certain conditions.
Type 'license()' or 'licence()' for distribution details.
R is a collaborative project with many contributors.
Type 'contributors()' for more information and
'citation()' on how to cite R or R packages in publications.
Type 'demo()' for some demos, 'help()' for on-line help, or
'help.start()' for an HTML browser interface to help.
Type 'q()' to quit R.
> library(testthat)
> library(omada)
Loading required package: pdfCluster
pdfCluster 1.0-4
Loading required package: kernlab
Loading required package: fpc
Loading required package: Rcpp
Loading required package: diceR
Loading required package: ggplot2
Attaching package: 'ggplot2'
The following object is masked from 'package:kernlab':
alpha
Loading required package: reshape
Loading required package: genieclust
Loading required package: clValid
Loading required package: cluster
Loading required package: glmnet
Loading required package: Matrix
Attaching package: 'Matrix'
The following object is masked from 'package:reshape':
expand
Loaded glmnet 4.1-10
Loading required package: dplyr
Attaching package: 'dplyr'
The following object is masked from 'package:reshape':
rename
The following object is masked from 'package:pdfCluster':
groups
The following objects are masked from 'package:stats':
filter, lag
The following objects are masked from 'package:base':
intersect, setdiff, setequal, union
>
> test_check("omada")
[ FAIL 0 | WARN 1 | SKIP 0 | PASS 38 ]
[ FAIL 0 | WARN 1 | SKIP 0 | PASS 38 ]
>
> proc.time()
user system elapsed
146.799 1.759 177.620
omada.Rcheck/omada-Ex.timings
| name | user | system | elapsed | |
| clusterVoting | 7.690 | 0.487 | 8.850 | |
| clusteringMethodSelection | 3.118 | 0.060 | 3.468 | |
| feasibilityAnalysis | 2.578 | 0.032 | 2.719 | |
| feasibilityAnalysisDataBased | 5.278 | 0.109 | 5.662 | |
| featureSelection | 12.609 | 0.079 | 13.669 | |
| get_agreement_scores | 0.259 | 0.002 | 0.309 | |
| get_average_feature_k_stabilities | 9.301 | 0.065 | 11.032 | |
| get_average_stabilities_per_k | 1.869 | 0.010 | 2.220 | |
| get_average_stability | 1.876 | 0.009 | 2.134 | |
| get_cluster_memberships_k | 1.665 | 0.093 | 2.078 | |
| get_cluster_voting_k_votes | 51.569 | 0.427 | 56.813 | |
| get_cluster_voting_memberships | 47.423 | 0.403 | 48.865 | |
| get_cluster_voting_metric_votes | 49.078 | 0.394 | 51.840 | |
| get_cluster_voting_scores | 52.970 | 0.435 | 54.054 | |
| get_feature_selection_optimal_features | 51.090 | 0.489 | 52.070 | |
| get_feature_selection_optimal_number_of_features | 72.422 | 0.653 | 74.075 | |
| get_feature_selection_scores | 76.358 | 0.699 | 78.836 | |
| get_generated_dataset | 6.150 | 0.032 | 6.470 | |
| get_internal_metric_scores | 1.948 | 0.110 | 2.105 | |
| get_max_stability | 1.846 | 0.017 | 1.915 | |
| get_metric_votes_k | 1.655 | 0.072 | 1.805 | |
| get_optimal_features | 15.924 | 0.169 | 16.895 | |
| get_optimal_memberships | 13.348 | 0.127 | 13.833 | |
| get_optimal_number_of_features | 16.387 | 0.116 | 17.035 | |
| get_optimal_parameter_used | 13.708 | 0.108 | 14.155 | |
| get_optimal_stability_score | 14.346 | 0.106 | 14.949 | |
| get_partition_agreement_scores | 50.185 | 0.446 | 51.772 | |
| get_sample_memberships | 49.766 | 0.419 | 52.015 | |
| get_vote_frequencies_k | 1.613 | 0.066 | 1.746 | |
| omada | 37.931 | 0.333 | 39.792 | |
| optimalClustering | 0.179 | 0.007 | 0.189 | |
| partitionAgreement | 0.540 | 0.003 | 0.549 | |
| plot_average_stabilities | 17.030 | 0.124 | 17.592 | |
| plot_cluster_voting | 38.500 | 0.329 | 40.447 | |
| plot_feature_selection | 50.416 | 0.429 | 64.003 | |
| plot_partition_agreement | 54.072 | 0.568 | 101.555 | |
| plot_vote_frequencies | 2.241 | 0.096 | 4.562 | |
| toy_gene_memberships | 0.027 | 0.008 | 0.074 | |
| toy_genes | 0.002 | 0.004 | 0.006 | |