| Back to Multiple platform build/check report for BioC 3.22: simplified long | 
  | 
This page was generated on 2025-11-03 12:05 -0500 (Mon, 03 Nov 2025).
| Hostname | OS | Arch (*) | R version | Installed pkgs | 
|---|---|---|---|---|
| nebbiolo2 | Linux (Ubuntu 24.04.3 LTS) | x86_64 | 4.5.1 Patched (2025-08-23 r88802) -- "Great Square Root" | 4902 | 
| lconway | macOS 12.7.6 Monterey | x86_64 | 4.5.1 Patched (2025-09-10 r88807) -- "Great Square Root" | 4692 | 
| kjohnson3 | macOS 13.7.7 Ventura | arm64 | 4.5.1 Patched (2025-09-10 r88807) -- "Great Square Root" | 4638 | 
| Click on any hostname to see more info about the system (e.g. compilers) (*) as reported by 'uname -p', except on Windows and Mac OS X | ||||
| Package 1473/2361 | Hostname | OS / Arch | INSTALL | BUILD | CHECK | BUILD BIN | ||||||||
| notame 1.0.0  (landing page) Vilhelm Suksi 
  | nebbiolo2 | Linux (Ubuntu 24.04.3 LTS) / x86_64 | OK | OK | OK | |||||||||
| lconway | macOS 12.7.6 Monterey / x86_64 | OK | OK | OK | OK | |||||||||
| kjohnson3 | macOS 13.7.7 Ventura / arm64 | OK | OK | OK | OK | |||||||||
| 
To the developers/maintainers of the notame package: - Allow up to 24 hours (and sometimes 48 hours) for your latest push to git@git.bioconductor.org:packages/notame.git to reflect on this report. See Troubleshooting Build Report for more information. - Use the following Renviron settings to reproduce errors and warnings. - If 'R CMD check' started to fail recently on the Linux builder(s) over a missing dependency, add the missing dependency to 'Suggests:' in your DESCRIPTION file. See Renviron.bioc for more information.  | 
| Package: notame | 
| Version: 1.0.0 | 
| Command: /Library/Frameworks/R.framework/Resources/bin/R CMD check --install=check:notame.install-out.txt --library=/Library/Frameworks/R.framework/Resources/library --no-vignettes --timings notame_1.0.0.tar.gz | 
| StartedAt: 2025-11-02 21:09:23 -0500 (Sun, 02 Nov 2025) | 
| EndedAt: 2025-11-02 21:10:58 -0500 (Sun, 02 Nov 2025) | 
| EllapsedTime: 95.2 seconds | 
| RetCode: 0 | 
| Status: OK | 
| CheckDir: notame.Rcheck | 
| Warnings: 0 | 
##############################################################################
##############################################################################
###
### Running command:
###
###   /Library/Frameworks/R.framework/Resources/bin/R CMD check --install=check:notame.install-out.txt --library=/Library/Frameworks/R.framework/Resources/library --no-vignettes --timings notame_1.0.0.tar.gz
###
##############################################################################
##############################################################################
* using log directory ‘/Users/biocbuild/bbs-3.22-bioc/meat/notame.Rcheck’
* using R version 4.5.1 Patched (2025-09-10 r88807)
* using platform: aarch64-apple-darwin20
* R was compiled by
    Apple clang version 16.0.0 (clang-1600.0.26.6)
    GNU Fortran (GCC) 14.2.0
* running under: macOS Ventura 13.7.7
* using session charset: UTF-8
* using option ‘--no-vignettes’
* checking for file ‘notame/DESCRIPTION’ ... OK
* checking extension type ... Package
* this is package ‘notame’ version ‘1.0.0’
* package encoding: UTF-8
* checking package namespace information ... OK
* checking package dependencies ... OK
* checking if this is a source package ... OK
* checking if there is a namespace ... OK
* checking for hidden files and directories ... OK
* checking for portable file names ... OK
* checking for sufficient/correct file permissions ... OK
* checking whether package ‘notame’ can be installed ... OK
* checking installed package size ... OK
* checking package directory ... OK
* checking ‘build’ directory ... OK
* checking DESCRIPTION meta-information ... NOTE
License stub is invalid DCF.
* checking top-level files ... OK
* checking for left-over files ... OK
* checking index information ... OK
* checking package subdirectories ... OK
* checking code files for non-ASCII characters ... OK
* checking R files for syntax errors ... OK
* checking whether the package can be loaded ... OK
* checking whether the package can be loaded with stated dependencies ... OK
* checking whether the package can be unloaded cleanly ... OK
* checking whether the namespace can be loaded with stated dependencies ... OK
* checking whether the namespace can be unloaded cleanly ... OK
* checking whether startup messages can be suppressed ... OK
* checking dependencies in R code ... OK
* checking S3 generic/method consistency ... OK
* checking replacement functions ... OK
* checking foreign function calls ... OK
* checking R code for possible problems ... OK
* checking Rd files ... OK
* checking Rd metadata ... OK
* checking Rd cross-references ... OK
* checking for missing documentation entries ... OK
* checking for code/documentation mismatches ... OK
* checking Rd \usage sections ... OK
* checking Rd contents ... OK
* checking for unstated dependencies in examples ... OK
* checking contents of ‘data’ directory ... OK
* checking data for non-ASCII characters ... OK
* checking data for ASCII and uncompressed saves ... OK
* checking files in ‘vignettes’ ... OK
* checking examples ... OK
* checking for unstated dependencies in ‘tests’ ... OK
* checking tests ...
  Running ‘testthat.R’
 OK
* checking for unstated dependencies in vignettes ... OK
* checking package vignettes ... OK
* checking running R code from vignettes ... SKIPPED
* checking re-building of vignette outputs ... SKIPPED
* checking PDF version of manual ... OK
* DONE
Status: 1 NOTE
See
  ‘/Users/biocbuild/bbs-3.22-bioc/meat/notame.Rcheck/00check.log’
for details.
notame.Rcheck/00install.out
############################################################################## ############################################################################## ### ### Running command: ### ### /Library/Frameworks/R.framework/Resources/bin/R CMD INSTALL notame ### ############################################################################## ############################################################################## * installing to library ‘/Library/Frameworks/R.framework/Versions/4.5-arm64/Resources/library’ * installing *source* package ‘notame’ ... ** this is package ‘notame’ version ‘1.0.0’ ** using staged installation ** R ** data ** inst ** byte-compile and prepare package for lazy loading ** help *** installing help indices ** building package indices ** installing vignettes ** testing if installed package can be loaded from temporary location ** testing if installed package can be loaded from final location ** testing if installed package keeps a record of temporary installation path * DONE (notame)
notame.Rcheck/tests/testthat.Rout
R version 4.5.1 Patched (2025-09-10 r88807) -- "Great Square Root"
Copyright (C) 2025 The R Foundation for Statistical Computing
Platform: aarch64-apple-darwin20
R is free software and comes with ABSOLUTELY NO WARRANTY.
You are welcome to redistribute it under certain conditions.
Type 'license()' or 'licence()' for distribution details.
R is a collaborative project with many contributors.
Type 'contributors()' for more information and
'citation()' on how to cite R or R packages in publications.
Type 'demo()' for some demos, 'help()' for on-line help, or
'help.start()' for an HTML browser interface to help.
Type 'q()' to quit R.
> library(testthat)
> library(notame)
Loading required package: ggplot2
Loading required package: SummarizedExperiment
Loading required package: MatrixGenerics
Loading required package: matrixStats
Attaching package: 'MatrixGenerics'
The following objects are masked from 'package:matrixStats':
    colAlls, colAnyNAs, colAnys, colAvgsPerRowSet, colCollapse,
    colCounts, colCummaxs, colCummins, colCumprods, colCumsums,
    colDiffs, colIQRDiffs, colIQRs, colLogSumExps, colMadDiffs,
    colMads, colMaxs, colMeans2, colMedians, colMins, colOrderStats,
    colProds, colQuantiles, colRanges, colRanks, colSdDiffs, colSds,
    colSums2, colTabulates, colVarDiffs, colVars, colWeightedMads,
    colWeightedMeans, colWeightedMedians, colWeightedSds,
    colWeightedVars, rowAlls, rowAnyNAs, rowAnys, rowAvgsPerColSet,
    rowCollapse, rowCounts, rowCummaxs, rowCummins, rowCumprods,
    rowCumsums, rowDiffs, rowIQRDiffs, rowIQRs, rowLogSumExps,
    rowMadDiffs, rowMads, rowMaxs, rowMeans2, rowMedians, rowMins,
    rowOrderStats, rowProds, rowQuantiles, rowRanges, rowRanks,
    rowSdDiffs, rowSds, rowSums2, rowTabulates, rowVarDiffs, rowVars,
    rowWeightedMads, rowWeightedMeans, rowWeightedMedians,
    rowWeightedSds, rowWeightedVars
Loading required package: GenomicRanges
Loading required package: stats4
Loading required package: BiocGenerics
Loading required package: generics
Attaching package: 'generics'
The following objects are masked from 'package:base':
    as.difftime, as.factor, as.ordered, intersect, is.element, setdiff,
    setequal, union
Attaching package: 'BiocGenerics'
The following objects are masked from 'package:stats':
    IQR, mad, sd, var, xtabs
The following objects are masked from 'package:base':
    Filter, Find, Map, Position, Reduce, anyDuplicated, aperm, append,
    as.data.frame, basename, cbind, colnames, dirname, do.call,
    duplicated, eval, evalq, get, grep, grepl, is.unsorted, lapply,
    mapply, match, mget, order, paste, pmax, pmax.int, pmin, pmin.int,
    rank, rbind, rownames, sapply, saveRDS, table, tapply, unique,
    unsplit, which.max, which.min
Loading required package: S4Vectors
Attaching package: 'S4Vectors'
The following object is masked from 'package:utils':
    findMatches
The following objects are masked from 'package:base':
    I, expand.grid, unname
Loading required package: IRanges
Loading required package: Seqinfo
Loading required package: Biobase
Welcome to Bioconductor
    Vignettes contain introductory material; view with
    'browseVignettes()'. To cite Bioconductor, see
    'citation("Biobase")', and for packages 'citation("pkgname")'.
Attaching package: 'Biobase'
The following object is masked from 'package:MatrixGenerics':
    rowMedians
The following objects are masked from 'package:matrixStats':
    anyMissing, rowMedians
> 
> test_check("notame")
Running tests in parallel requires the 3rd edition
INFO [2025-11-02 21:10:46] Pheno data was cleaned
INFO [2025-11-02 21:10:46] Checking provided sample ID column
INFO [2025-11-02 21:10:46] Column 'Sample_ID' created from id
INFO [2025-11-02 21:10:46] Pheno data was cleaned
INFO [2025-11-02 21:10:46] Sample ID generated from injection orders and prefix ID_
INFO [2025-11-02 21:10:46] Pheno data was cleaned
INFO [2025-11-02 21:10:46] Pheno data was cleaned
INFO [2025-11-02 21:10:46] Adding running index to 'QC' sample IDs
INFO [2025-11-02 21:10:46] Pheno data was cleaned
INFO [2025-11-02 21:10:46] Initializing 'Flag' column with unflagged features
INFO [2025-11-02 21:10:46] Assigning HILIC_pos as the value of the Split column for each feature
INFO [2025-11-02 21:10:46] Feature data was cleaned
INFO [2025-11-02 21:10:46] Initializing 'Flag' column with unflagged features
INFO [2025-11-02 21:10:46] Feature_ID column not found, creating feature IDs
INFO [2025-11-02 21:10:46] Initializing 'Flag' column with unflagged features
INFO [2025-11-02 21:10:46] Feature_ID column not found, creating feature IDs
INFO [2025-11-02 21:10:46] Initializing 'Flag' column with unflagged features
INFO [2025-11-02 21:10:46] Feature_ID column not found, creating feature IDs
INFO [2025-11-02 21:10:46] Identified m/z column Average_Mz and retention time column Average_Rt_min
INFO [2025-11-02 21:10:46] Identified m/z column Average_Mz and retention time column Average_Rt_min
INFO [2025-11-02 21:10:46] Creating feature IDs from Split, m/z and retention time
INFO [2025-11-02 21:10:46] Feature data was cleaned
INFO [2025-11-02 21:10:46] Identified m/z column Mass and retention time column RetentionTime
INFO [2025-11-02 21:10:46] Identified m/z column Mass and retention time column RetentionTime
INFO [2025-11-02 21:10:46] Creating feature IDs from Split, m/z and retention time
INFO [2025-11-02 21:10:46] Corner detected correctly at row 4, column D
INFO [2025-11-02 21:10:46] 
Extracting sample information from rows 1 to 4 and columns E to P
INFO [2025-11-02 21:10:46] Replacing spaces in sample information column names with underscores (_)
INFO [2025-11-02 21:10:46] Naming the last column of sample information "easy_Datafile"
INFO [2025-11-02 21:10:46] 
Extracting feature information from rows 5 to 14 and columns A to D
INFO [2025-11-02 21:10:46] 
Extracting feature abundances from rows 5 to 14 and columns E to P
INFO [2025-11-02 21:10:46] Sample ID generated from injection orders and prefix TEST_
INFO [2025-11-02 21:10:46] Pheno data was cleaned
INFO [2025-11-02 21:10:46] Initializing 'Flag' column with unflagged features
INFO [2025-11-02 21:10:46] Assigning easy as the value of the Split column for each feature
INFO [2025-11-02 21:10:46] Feature_ID column not found, creating feature IDs
INFO [2025-11-02 21:10:46] Identified m/z column Mass and retention time column RetentionTime
INFO [2025-11-02 21:10:46] Identified m/z column Mass and retention time column RetentionTime
INFO [2025-11-02 21:10:46] Creating feature IDs from Split, m/z and retention time
INFO [2025-11-02 21:10:46] Feature data was cleaned
INFO [2025-11-02 21:10:46] 
Checking sample information
INFO [2025-11-02 21:10:46] Checking 'Injection_order' column in feature data
INFO [2025-11-02 21:10:46] Checking 'Sample_ID' column in pheno data
INFO [2025-11-02 21:10:46] Checking 'QC' column in feature data
INFO [2025-11-02 21:10:46] Checking that feature abundances only contain numeric values
INFO [2025-11-02 21:10:46] 
Checking feature information
INFO [2025-11-02 21:10:46] Checking that feature IDs are unique and not storedas numbers
INFO [2025-11-02 21:10:46] Checking that m/z and retention time values are reasonable.
INFO [2025-11-02 21:10:46] Identified m/z column Mass and retention time column RetentionTime
INFO [2025-11-02 21:10:46] Identified m/z column Mass and retention time column RetentionTime
INFO [2025-11-02 21:10:46] Checking that feature data includes a 'Split' column
INFO [2025-11-02 21:10:46] Checking that feature data includes a 'Flag' column
INFO [2025-11-02 21:10:46] Identified m/z column Mass and retention time column RetentionTime
INFO [2025-11-02 21:10:46] Identified m/z column Mass and retention time column RetentionTime
INFO [2025-11-02 21:10:46] Creating feature IDs from Split, m/z and retention time
INFO [2025-11-02 21:10:46] Corner detected correctly at row 4, column F
INFO [2025-11-02 21:10:46] 
Extracting sample information from rows 1 to 4 and columns G to R
INFO [2025-11-02 21:10:46] Replacing spaces in sample information column names with underscores (_)
INFO [2025-11-02 21:10:46] Naming the last column of sample information "Datafile"
INFO [2025-11-02 21:10:46] 
Extracting feature information from rows 5 to 20 and columns A to F
INFO [2025-11-02 21:10:46] 
Extracting feature abundances from rows 5 to 20 and columns G to R
INFO [2025-11-02 21:10:46] Sample ID generated from injection orders and prefix TEST_
INFO [2025-11-02 21:10:46] Pheno data was cleaned
INFO [2025-11-02 21:10:46] Initializing 'Flag' column with unflagged features
INFO [2025-11-02 21:10:46] Creating Split column from Column, Mode
INFO [2025-11-02 21:10:46] Feature_ID column not found, creating feature IDs
INFO [2025-11-02 21:10:46] Identified m/z column Mass and retention time column RetentionTime
INFO [2025-11-02 21:10:46] Identified m/z column Mass and retention time column RetentionTime
INFO [2025-11-02 21:10:46] Creating feature IDs from Split, m/z and retention time
INFO [2025-11-02 21:10:46] Feature data was cleaned
INFO [2025-11-02 21:10:46] 
Checking sample information
INFO [2025-11-02 21:10:46] Checking 'Injection_order' column in feature data
INFO [2025-11-02 21:10:46] Checking 'Sample_ID' column in pheno data
INFO [2025-11-02 21:10:46] Checking 'QC' column in feature data
INFO [2025-11-02 21:10:46] Checking that feature abundances only contain numeric values
INFO [2025-11-02 21:10:46] 
Checking feature information
INFO [2025-11-02 21:10:46] Checking that feature IDs are unique and not storedas numbers
INFO [2025-11-02 21:10:46] Checking that m/z and retention time values are reasonable.
INFO [2025-11-02 21:10:46] Identified m/z column Mass and retention time column RetentionTime
INFO [2025-11-02 21:10:46] Identified m/z column Mass and retention time column RetentionTime
INFO [2025-11-02 21:10:46] Checking that feature data includes a 'Split' column
INFO [2025-11-02 21:10:46] Checking that feature data includes a 'Flag' column
INFO [2025-11-02 21:10:46] Pheno data was cleaned
INFO [2025-11-02 21:10:46] Feature data was cleaned
INFO [2025-11-02 21:10:46] Pheno data was cleaned
INFO [2025-11-02 21:10:46] Feature data was cleaned
INFO [2025-11-02 21:10:46] Detecting corner position
INFO [2025-11-02 21:10:46] Corner detected correctly at row 11, column H
INFO [2025-11-02 21:10:46] 
Extracting sample information from rows 1 to 11 and columns I to BF
INFO [2025-11-02 21:10:46] Replacing spaces in sample information column names with underscores (_)
INFO [2025-11-02 21:10:46] Naming the last column of sample information "hilic_neg_Datafile"
INFO [2025-11-02 21:10:46] 
Extracting feature information from rows 12 to 31 and columns A to H
INFO [2025-11-02 21:10:46] 
Extracting feature abundances from rows 12 to 31 and columns I to BF
INFO [2025-11-02 21:10:46] Pheno data was cleaned
INFO [2025-11-02 21:10:46] Feature data was cleaned
INFO [2025-11-02 21:10:46] 
Checking sample information
INFO [2025-11-02 21:10:46] Checking 'Injection_order' column in feature data
INFO [2025-11-02 21:10:46] Checking 'Sample_ID' column in pheno data
INFO [2025-11-02 21:10:46] Checking 'QC' column in feature data
INFO [2025-11-02 21:10:46] Checking that feature abundances only contain numeric values
INFO [2025-11-02 21:10:46] 
Checking feature information
INFO [2025-11-02 21:10:46] Checking that feature IDs are unique and not storedas numbers
INFO [2025-11-02 21:10:46] Checking that m/z and retention time values are reasonable.
INFO [2025-11-02 21:10:46] Identified m/z column Average_Mz and retention time column Average_Rt_min
INFO [2025-11-02 21:10:46] Identified m/z column Average_Mz and retention time column Average_Rt_min
INFO [2025-11-02 21:10:46] Checking that feature data includes a 'Split' column
INFO [2025-11-02 21:10:46] Checking that feature data includes a 'Flag' column
INFO [2025-11-02 21:10:46] Detecting corner position
INFO [2025-11-02 21:10:46] Corner detected correctly at row 11, column H
INFO [2025-11-02 21:10:46] 
Extracting sample information from rows 1 to 11 and columns I to BF
INFO [2025-11-02 21:10:46] Replacing spaces in sample information column names with underscores (_)
INFO [2025-11-02 21:10:46] Naming the last column of sample information "hilic_pos_Datafile"
INFO [2025-11-02 21:10:46] 
Extracting feature information from rows 12 to 31 and columns A to H
INFO [2025-11-02 21:10:46] 
Extracting feature abundances from rows 12 to 31 and columns I to BF
INFO [2025-11-02 21:10:46] Pheno data was cleaned
INFO [2025-11-02 21:10:46] Feature data was cleaned
INFO [2025-11-02 21:10:46] 
Checking sample information
INFO [2025-11-02 21:10:46] Checking 'Injection_order' column in feature data
INFO [2025-11-02 21:10:46] Checking 'Sample_ID' column in pheno data
INFO [2025-11-02 21:10:46] Checking 'QC' column in feature data
INFO [2025-11-02 21:10:46] Checking that feature abundances only contain numeric values
INFO [2025-11-02 21:10:46] 
Checking feature information
INFO [2025-11-02 21:10:46] Checking that feature IDs are unique and not storedas numbers
INFO [2025-11-02 21:10:46] Checking that m/z and retention time values are reasonable.
INFO [2025-11-02 21:10:46] Identified m/z column Average_Mz and retention time column Average_Rt_min
INFO [2025-11-02 21:10:46] Identified m/z column Average_Mz and retention time column Average_Rt_min
INFO [2025-11-02 21:10:46] Checking that feature data includes a 'Split' column
INFO [2025-11-02 21:10:46] Checking that feature data includes a 'Flag' column
INFO [2025-11-02 21:10:46] Detecting corner position
INFO [2025-11-02 21:10:46] Corner detected correctly at row 11, column H
INFO [2025-11-02 21:10:46] 
Extracting sample information from rows 1 to 11 and columns I to BF
INFO [2025-11-02 21:10:46] Replacing spaces in sample information column names with underscores (_)
INFO [2025-11-02 21:10:46] Naming the last column of sample information "rp_neg_Datafile"
INFO [2025-11-02 21:10:46] 
Extracting feature information from rows 12 to 31 and columns A to H
INFO [2025-11-02 21:10:46] 
Extracting feature abundances from rows 12 to 31 and columns I to BF
INFO [2025-11-02 21:10:46] Pheno data was cleaned
INFO [2025-11-02 21:10:46] Feature data was cleaned
INFO [2025-11-02 21:10:46] 
Checking sample information
INFO [2025-11-02 21:10:46] Checking 'Injection_order' column in feature data
INFO [2025-11-02 21:10:46] Checking 'Sample_ID' column in pheno data
INFO [2025-11-02 21:10:46] Checking 'QC' column in feature data
INFO [2025-11-02 21:10:46] Checking that feature abundances only contain numeric values
INFO [2025-11-02 21:10:46] 
Checking feature information
INFO [2025-11-02 21:10:46] Checking that feature IDs are unique and not storedas numbers
INFO [2025-11-02 21:10:46] Checking that m/z and retention time values are reasonable.
INFO [2025-11-02 21:10:46] Identified m/z column Average_Mz and retention time column Average_Rt_min
INFO [2025-11-02 21:10:46] Identified m/z column Average_Mz and retention time column Average_Rt_min
INFO [2025-11-02 21:10:46] Checking that feature data includes a 'Split' column
INFO [2025-11-02 21:10:46] Checking that feature data includes a 'Flag' column
INFO [2025-11-02 21:10:46] Detecting corner position
INFO [2025-11-02 21:10:46] Corner detected correctly at row 11, column H
INFO [2025-11-02 21:10:46] 
Extracting sample information from rows 1 to 11 and columns I to BF
INFO [2025-11-02 21:10:46] Replacing spaces in sample information column names with underscores (_)
INFO [2025-11-02 21:10:46] Naming the last column of sample information "rp_pos_Datafile"
INFO [2025-11-02 21:10:46] 
Extracting feature information from rows 12 to 31 and columns A to H
INFO [2025-11-02 21:10:46] 
Extracting feature abundances from rows 12 to 31 and columns I to BF
INFO [2025-11-02 21:10:46] Pheno data was cleaned
INFO [2025-11-02 21:10:46] Feature data was cleaned
INFO [2025-11-02 21:10:46] 
Checking sample information
INFO [2025-11-02 21:10:46] Checking 'Injection_order' column in feature data
INFO [2025-11-02 21:10:46] Checking 'Sample_ID' column in pheno data
INFO [2025-11-02 21:10:46] Checking 'QC' column in feature data
INFO [2025-11-02 21:10:46] Checking that feature abundances only contain numeric values
INFO [2025-11-02 21:10:46] 
Checking feature information
INFO [2025-11-02 21:10:46] Checking that feature IDs are unique and not storedas numbers
INFO [2025-11-02 21:10:46] Checking that m/z and retention time values are reasonable.
INFO [2025-11-02 21:10:46] Identified m/z column Average_Mz and retention time column Average_Rt_min
INFO [2025-11-02 21:10:46] Identified m/z column Average_Mz and retention time column Average_Rt_min
INFO [2025-11-02 21:10:46] Checking that feature data includes a 'Split' column
INFO [2025-11-02 21:10:46] Checking that feature data includes a 'Flag' column
INFO [2025-11-02 21:10:47] Injection order differs between modes.Creating dummy injection order
INFO [2025-11-02 21:10:47] Dummy injection order (row numbers) created
INFO [2025-11-02 21:10:47] Merging objects with unequal amounts of samples.
INFO [2025-11-02 21:10:47] Samples only in first object:
INFO [2025-11-02 21:10:47] ID_666
INFO [2025-11-02 21:10:47] Samples only in second object:
INFO [2025-11-02 21:10:47] Demo_2
INFO [2025-11-02 21:10:47] Injection order differs between modes.Creating dummy injection order
INFO [2025-11-02 21:10:47] Dummy injection order (row numbers) created
INFO [2025-11-02 21:10:47] Merging objects with unequal amounts of samples.
INFO [2025-11-02 21:10:47] Samples only in first object:
INFO [2025-11-02 21:10:47] ID_666
INFO [2025-11-02 21:10:47] Samples only in second object:
INFO [2025-11-02 21:10:47] 
INFO [2025-11-02 21:10:47] Injection order differs between modes.Creating dummy injection order
INFO [2025-11-02 21:10:47] Dummy injection order (row numbers) created
INFO [2025-11-02 21:10:47] Merging objects with unequal amounts of samples.
INFO [2025-11-02 21:10:47] Samples only in first object:
INFO [2025-11-02 21:10:47] ID_666, Demo_22
INFO [2025-11-02 21:10:47] Samples only in second object:
INFO [2025-11-02 21:10:47] ID_999
INFO [2025-11-02 21:10:47] Starting logging
INFO [2025-11-02 21:10:47] Finished analysis. Sun Nov  2 21:10:47 2025
Session info:
INFO [2025-11-02 21:10:47] R version 4.5.1 Patched (2025-09-10 r88807)
INFO [2025-11-02 21:10:47] Platform: aarch64-apple-darwin20
INFO [2025-11-02 21:10:47] Running under: macOS Ventura 13.7.7
INFO [2025-11-02 21:10:47] 
INFO [2025-11-02 21:10:47] Matrix products: default
INFO [2025-11-02 21:10:47] BLAS:   /Library/Frameworks/R.framework/Versions/4.5-arm64/Resources/lib/libRblas.0.dylib 
INFO [2025-11-02 21:10:47] LAPACK: /Library/Frameworks/R.framework/Versions/4.5-arm64/Resources/lib/libRlapack.dylib;  LAPACK version 3.12.1
INFO [2025-11-02 21:10:47] 
INFO [2025-11-02 21:10:47] locale:
INFO [2025-11-02 21:10:47] [1] C/en_US.UTF-8/en_US.UTF-8/C/en_GB/en_US.UTF-8
INFO [2025-11-02 21:10:47] 
INFO [2025-11-02 21:10:47] time zone: America/New_York
INFO [2025-11-02 21:10:47] tzcode source: internal
INFO [2025-11-02 21:10:47] 
INFO [2025-11-02 21:10:47] attached base packages:
INFO [2025-11-02 21:10:47] [1] stats4    stats     graphics  grDevices utils     datasets  methods  
INFO [2025-11-02 21:10:47] [8] base     
INFO [2025-11-02 21:10:47] 
INFO [2025-11-02 21:10:47] other attached packages:
INFO [2025-11-02 21:10:47]  [1] notame_1.0.0                SummarizedExperiment_1.40.0
INFO [2025-11-02 21:10:47]  [3] Biobase_2.70.0              GenomicRanges_1.62.0       
INFO [2025-11-02 21:10:47]  [5] Seqinfo_1.0.0               IRanges_2.44.0             
INFO [2025-11-02 21:10:47]  [7] S4Vectors_0.48.0            BiocGenerics_0.56.0        
INFO [2025-11-02 21:10:47]  [9] generics_0.1.4              MatrixGenerics_1.22.0      
INFO [2025-11-02 21:10:47] [11] matrixStats_1.5.0           ggplot2_4.0.0              
INFO [2025-11-02 21:10:47] [13] testthat_3.2.3             
INFO [2025-11-02 21:10:47] 
INFO [2025-11-02 21:10:47] loaded via a namespace (and not attached):
INFO [2025-11-02 21:10:47]  [1] tidyr_1.3.1          futile.options_1.0.1 SparseArray_1.10.1  
INFO [2025-11-02 21:10:47]  [4] stringi_1.8.7        lattice_0.22-7       magrittr_2.0.4      
INFO [2025-11-02 21:10:47]  [7] grid_4.5.1           RColorBrewer_1.1-3   Matrix_1.7-4        
INFO [2025-11-02 21:10:47] [10] zip_2.3.3            brio_1.1.5           formatR_1.14        
INFO [2025-11-02 21:10:47] [13] purrr_1.1.0          viridisLite_0.4.2    scales_1.4.0        
INFO [2025-11-02 21:10:47] [16] abind_1.4-8          cli_3.6.5            rlang_1.1.6         
INFO [2025-11-02 21:10:47] [19] XVector_0.50.0       futile.logger_1.4.3  withr_3.0.2         
INFO [2025-11-02 21:10:47] [22] DelayedArray_0.36.0  S4Arrays_1.10.0      tools_4.5.1         
INFO [2025-11-02 21:10:47] [25] dplyr_1.1.4          lambda.r_1.2.4       vctrs_0.6.5         
INFO [2025-11-02 21:10:47] [28] R6_2.6.1             lifecycle_1.0.4      pkgconfig_2.0.3     
INFO [2025-11-02 21:10:47] [31] waldo_0.6.2          desc_1.4.3           pillar_1.11.1       
INFO [2025-11-02 21:10:47] [34] openxlsx_4.2.8.1     gtable_0.3.6         glue_1.8.0          
INFO [2025-11-02 21:10:47] [37] Rcpp_1.1.0           tibble_3.3.0         tidyselect_1.2.1    
INFO [2025-11-02 21:10:47] [40] dichromat_2.0-0.1    farver_2.1.2         compiler_4.5.1      
INFO [2025-11-02 21:10:47] [43] S7_0.2.0            
INFO [2025-11-02 21:10:47] New line
INFO [2025-11-02 21:10:47] Starting logging
INFO [2025-11-02 21:10:47] New line
INFO [2025-11-02 21:10:47] Finished analysis. Sun Nov  2 21:10:47 2025
Session info:
INFO [2025-11-02 21:10:47] R version 4.5.1 Patched (2025-09-10 r88807)
INFO [2025-11-02 21:10:47] Platform: aarch64-apple-darwin20
INFO [2025-11-02 21:10:47] Running under: macOS Ventura 13.7.7
INFO [2025-11-02 21:10:47] 
INFO [2025-11-02 21:10:47] Matrix products: default
INFO [2025-11-02 21:10:47] BLAS:   /Library/Frameworks/R.framework/Versions/4.5-arm64/Resources/lib/libRblas.0.dylib 
INFO [2025-11-02 21:10:47] LAPACK: /Library/Frameworks/R.framework/Versions/4.5-arm64/Resources/lib/libRlapack.dylib;  LAPACK version 3.12.1
INFO [2025-11-02 21:10:47] 
INFO [2025-11-02 21:10:47] locale:
INFO [2025-11-02 21:10:47] [1] C/en_US.UTF-8/en_US.UTF-8/C/en_GB/en_US.UTF-8
INFO [2025-11-02 21:10:47] 
INFO [2025-11-02 21:10:47] time zone: America/New_York
INFO [2025-11-02 21:10:47] tzcode source: internal
INFO [2025-11-02 21:10:47] 
INFO [2025-11-02 21:10:47] attached base packages:
INFO [2025-11-02 21:10:47] [1] stats4    stats     graphics  grDevices utils     datasets  methods  
INFO [2025-11-02 21:10:47] [8] base     
INFO [2025-11-02 21:10:47] 
INFO [2025-11-02 21:10:47] other attached packages:
INFO [2025-11-02 21:10:47]  [1] notame_1.0.0                SummarizedExperiment_1.40.0
INFO [2025-11-02 21:10:47]  [3] Biobase_2.70.0              GenomicRanges_1.62.0       
INFO [2025-11-02 21:10:47]  [5] Seqinfo_1.0.0               IRanges_2.44.0             
INFO [2025-11-02 21:10:47]  [7] S4Vectors_0.48.0            BiocGenerics_0.56.0        
INFO [2025-11-02 21:10:47]  [9] generics_0.1.4              MatrixGenerics_1.22.0      
INFO [2025-11-02 21:10:47] [11] matrixStats_1.5.0           ggplot2_4.0.0              
INFO [2025-11-02 21:10:47] [13] testthat_3.2.3             
INFO [2025-11-02 21:10:47] 
INFO [2025-11-02 21:10:47] loaded via a namespace (and not attached):
INFO [2025-11-02 21:10:47]  [1] tidyr_1.3.1          futile.options_1.0.1 SparseArray_1.10.1  
INFO [2025-11-02 21:10:47]  [4] stringi_1.8.7        lattice_0.22-7       magrittr_2.0.4      
INFO [2025-11-02 21:10:47]  [7] grid_4.5.1           RColorBrewer_1.1-3   Matrix_1.7-4        
INFO [2025-11-02 21:10:47] [10] zip_2.3.3            brio_1.1.5           formatR_1.14        
INFO [2025-11-02 21:10:47] [13] purrr_1.1.0          viridisLite_0.4.2    scales_1.4.0        
INFO [2025-11-02 21:10:47] [16] abind_1.4-8          cli_3.6.5            rlang_1.1.6         
INFO [2025-11-02 21:10:47] [19] XVector_0.50.0       futile.logger_1.4.3  withr_3.0.2         
INFO [2025-11-02 21:10:47] [22] DelayedArray_0.36.0  S4Arrays_1.10.0      tools_4.5.1         
INFO [2025-11-02 21:10:47] [25] dplyr_1.1.4          lambda.r_1.2.4       vctrs_0.6.5         
INFO [2025-11-02 21:10:47] [28] R6_2.6.1             lifecycle_1.0.4      pkgconfig_2.0.3     
INFO [2025-11-02 21:10:47] [31] waldo_0.6.2          desc_1.4.3           pillar_1.11.1       
INFO [2025-11-02 21:10:47] [34] openxlsx_4.2.8.1     gtable_0.3.6         glue_1.8.0          
INFO [2025-11-02 21:10:47] [37] Rcpp_1.1.0           tibble_3.3.0         tidyselect_1.2.1    
INFO [2025-11-02 21:10:47] [40] dichromat_2.0-0.1    farver_2.1.2         compiler_4.5.1      
INFO [2025-11-02 21:10:47] [43] S7_0.2.0            
INFO [2025-11-02 21:10:47] New line
INFO [2025-11-02 21:10:47] 
Starting random forest imputation at 2025-11-02 21:10:47.364359
INFO [2025-11-02 21:10:49] Out-of-bag error in random forest imputation: 0.467
INFO [2025-11-02 21:10:49] Random forest imputation finished at 2025-11-02 21:10:49.273878 
INFO [2025-11-02 21:10:49] 
Starting random forest imputation at 2025-11-02 21:10:49.641197
INFO [2025-11-02 21:10:51] Out-of-bag error in random forest imputation: 0.472
INFO [2025-11-02 21:10:51] Random forest imputation finished at 2025-11-02 21:10:51.351923 
INFO [2025-11-02 21:10:51] 
Starting random forest imputation at 2025-11-02 21:10:51.356894
INFO [2025-11-02 21:10:52] Out-of-bag error in random forest imputation: 0.469
INFO [2025-11-02 21:10:52] Random forest imputation finished at 2025-11-02 21:10:52.366217 
INFO [2025-11-02 21:10:52] 
Starting random forest imputation at 2025-11-02 21:10:52.378676
INFO [2025-11-02 21:10:53] Out-of-bag error in random forest imputation: 0.468
INFO [2025-11-02 21:10:53] Random forest imputation finished at 2025-11-02 21:10:53.387961 
INFO [2025-11-02 21:10:53] Starting PQN normalization
INFO [2025-11-02 21:10:53] Using median of qc samples as reference spectrum
INFO [2025-11-02 21:10:53] Starting PQN normalization
INFO [2025-11-02 21:10:53] Using median of all samples as reference spectrum
INFO [2025-11-02 21:10:53] Starting PQN normalization
INFO [2025-11-02 21:10:53] Using mean of qc samples as reference spectrum
INFO [2025-11-02 21:10:53] Starting PQN normalization
INFO [2025-11-02 21:10:53] Using mean of all samples as reference spectrum
INFO [2025-11-02 21:10:53] 
92% of features flagged for low quality
INFO [2025-11-02 21:10:53] Starting PQN normalization
INFO [2025-11-02 21:10:53] Using median of qc samples as reference spectrum
INFO [2025-11-02 21:10:53] Starting drift correction
INFO [2025-11-02 21:10:53] Zero values in feature abundances detected. Zeroes will be replaced with 1.1.
INFO [2025-11-02 21:10:54] Recomputing quality metrics for drift corrected data
INFO [2025-11-02 21:10:54] Drift correction performed
INFO [2025-11-02 21:10:54] Inspecting drift correction results
INFO [2025-11-02 21:10:54] Original quality metrics missing, recomputing
INFO [2025-11-02 21:10:55] Drift correction results inspected: Drift_corrected: 100%
[ FAIL 0 | WARN 5 | SKIP 0 | PASS 84 ]
[ FAIL 0 | WARN 5 | SKIP 0 | PASS 84 ]
> 
> proc.time()
   user  system elapsed 
 11.164   1.214  12.584 
notame.Rcheck/notame-Ex.timings
| name | user | system | elapsed | |
| assess_quality | 0.062 | 0.004 | 0.066 | |
| citations | 0.091 | 0.009 | 0.102 | |
| cluster_features | 0.078 | 0.009 | 0.088 | |
| combined_data | 0.021 | 0.011 | 0.030 | |
| compress_clusters | 0.051 | 0.004 | 0.055 | |
| correct_drift | 1.339 | 0.136 | 1.425 | |
| drop_flagged | 0.033 | 0.008 | 0.041 | |
| drop_qcs | 0.012 | 0.005 | 0.017 | |
| finish_log | 0.009 | 0.004 | 0.012 | |
| fix_MSMS | 0.033 | 0.008 | 0.047 | |
| fix_object | 0.041 | 0.011 | 0.058 | |
| flag | 0.012 | 0.004 | 0.015 | |
| flag_contaminants | 0.060 | 0.012 | 0.078 | |
| flag_detection | 0.073 | 0.007 | 0.094 | |
| flag_quality | 0.067 | 0.003 | 0.076 | |
| flag_report | 0.100 | 0.002 | 0.111 | |
| import_from_excel | 0.105 | 0.013 | 0.130 | |
| impute_rf | 1.216 | 0.203 | 2.151 | |
| impute_simple | 0.025 | 0.001 | 0.027 | |
| init_log | 0.001 | 0.001 | 0.001 | |
| inverse_normalize | 0.013 | 0.002 | 0.016 | |
| join_colData | 0.010 | 0.001 | 0.012 | |
| join_rowData | 0.008 | 0.001 | 0.009 | |
| log_text | 0.001 | 0.000 | 0.002 | |
| mark_nas | 0.011 | 0.002 | 0.013 | |
| merge_notame_sets | 0.141 | 0.002 | 0.154 | |
| pca_bhattacharyya_dist | 2.613 | 0.205 | 3.041 | |
| perform_repeatability | 0.051 | 0.002 | 0.055 | |
| pqn_normalization | 0.020 | 0.001 | 0.021 | |
| quality | 0.030 | 0.003 | 0.034 | |
| ruvs_qc | 0.067 | 0.004 | 0.074 | |
| write_to_excel | 0.066 | 0.008 | 0.078 | |