Back to Multiple platform build/check report for BioC 3.22:   simplified   long
ABCDEFGHIJKLM[N]OPQRSTUVWXYZ

This page was generated on 2025-10-31 12:03 -0400 (Fri, 31 Oct 2025).

HostnameOSArch (*)R versionInstalled pkgs
nebbiolo2Linux (Ubuntu 24.04.3 LTS)x86_644.5.1 Patched (2025-08-23 r88802) -- "Great Square Root" 4901
lconwaymacOS 12.7.6 Montereyx86_644.5.1 Patched (2025-09-10 r88807) -- "Great Square Root" 4691
kjohnson3macOS 13.7.7 Venturaarm644.5.1 Patched (2025-09-10 r88807) -- "Great Square Root" 4637
Click on any hostname to see more info about the system (e.g. compilers)      (*) as reported by 'uname -p', except on Windows and Mac OS X

Package 1473/2361HostnameOS / ArchINSTALLBUILDCHECKBUILD BIN
notame 1.0.0  (landing page)
Vilhelm Suksi
Snapshot Date: 2025-10-30 13:45 -0400 (Thu, 30 Oct 2025)
git_url: https://git.bioconductor.org/packages/notame
git_branch: RELEASE_3_22
git_last_commit: e9edc04
git_last_commit_date: 2025-10-29 11:38:23 -0400 (Wed, 29 Oct 2025)
nebbiolo2Linux (Ubuntu 24.04.3 LTS) / x86_64  OK    OK    OK  UNNEEDED, same version is already published
lconwaymacOS 12.7.6 Monterey / x86_64  OK    OK    OK    OK  UNNEEDED, same version is already published
kjohnson3macOS 13.7.7 Ventura / arm64  OK    OK    OK    OK  UNNEEDED, same version is already published


CHECK results for notame on nebbiolo2

To the developers/maintainers of the notame package:
- Allow up to 24 hours (and sometimes 48 hours) for your latest push to git@git.bioconductor.org:packages/notame.git to reflect on this report. See Troubleshooting Build Report for more information.
- Use the following Renviron settings to reproduce errors and warnings.
- If 'R CMD check' started to fail recently on the Linux builder(s) over a missing dependency, add the missing dependency to 'Suggests:' in your DESCRIPTION file. See Renviron.bioc for more information.

raw results


Summary

Package: notame
Version: 1.0.0
Command: /home/biocbuild/bbs-3.22-bioc/R/bin/R CMD check --install=check:notame.install-out.txt --library=/home/biocbuild/bbs-3.22-bioc/R/site-library --timings notame_1.0.0.tar.gz
StartedAt: 2025-10-31 02:08:59 -0400 (Fri, 31 Oct 2025)
EndedAt: 2025-10-31 02:15:45 -0400 (Fri, 31 Oct 2025)
EllapsedTime: 406.4 seconds
RetCode: 0
Status:   OK  
CheckDir: notame.Rcheck
Warnings: 0

Command output

##############################################################################
##############################################################################
###
### Running command:
###
###   /home/biocbuild/bbs-3.22-bioc/R/bin/R CMD check --install=check:notame.install-out.txt --library=/home/biocbuild/bbs-3.22-bioc/R/site-library --timings notame_1.0.0.tar.gz
###
##############################################################################
##############################################################################


* using log directory ‘/home/biocbuild/bbs-3.22-bioc/meat/notame.Rcheck’
* using R version 4.5.1 Patched (2025-08-23 r88802)
* using platform: x86_64-pc-linux-gnu
* R was compiled by
    gcc (Ubuntu 13.3.0-6ubuntu2~24.04) 13.3.0
    GNU Fortran (Ubuntu 13.3.0-6ubuntu2~24.04) 13.3.0
* running under: Ubuntu 24.04.3 LTS
* using session charset: UTF-8
* checking for file ‘notame/DESCRIPTION’ ... OK
* checking extension type ... Package
* this is package ‘notame’ version ‘1.0.0’
* package encoding: UTF-8
* checking package namespace information ... OK
* checking package dependencies ... OK
* checking if this is a source package ... OK
* checking if there is a namespace ... OK
* checking for hidden files and directories ... OK
* checking for portable file names ... OK
* checking for sufficient/correct file permissions ... OK
* checking whether package ‘notame’ can be installed ... OK
* checking installed package size ... OK
* checking package directory ... OK
* checking ‘build’ directory ... OK
* checking DESCRIPTION meta-information ... NOTE
License stub is invalid DCF.
* checking top-level files ... OK
* checking for left-over files ... OK
* checking index information ... OK
* checking package subdirectories ... OK
* checking code files for non-ASCII characters ... OK
* checking R files for syntax errors ... OK
* checking whether the package can be loaded ... OK
* checking whether the package can be loaded with stated dependencies ... OK
* checking whether the package can be unloaded cleanly ... OK
* checking whether the namespace can be loaded with stated dependencies ... OK
* checking whether the namespace can be unloaded cleanly ... OK
* checking loading without being on the library search path ... OK
* checking whether startup messages can be suppressed ... OK
* checking dependencies in R code ... OK
* checking S3 generic/method consistency ... OK
* checking replacement functions ... OK
* checking foreign function calls ... OK
* checking R code for possible problems ... OK
* checking Rd files ... OK
* checking Rd metadata ... OK
* checking Rd cross-references ... OK
* checking for missing documentation entries ... OK
* checking for code/documentation mismatches ... OK
* checking Rd \usage sections ... OK
* checking Rd contents ... OK
* checking for unstated dependencies in examples ... OK
* checking contents of ‘data’ directory ... OK
* checking data for non-ASCII characters ... OK
* checking data for ASCII and uncompressed saves ... OK
* checking files in ‘vignettes’ ... OK
* checking examples ... OK
Examples with CPU (user + system) or elapsed time > 5s
                        user system elapsed
pca_bhattacharyya_dist 6.963  0.687    7.65
* checking for unstated dependencies in ‘tests’ ... OK
* checking tests ...
  Running ‘testthat.R’
 OK
* checking for unstated dependencies in vignettes ... OK
* checking package vignettes ... OK
* checking re-building of vignette outputs ... OK
* checking PDF version of manual ... OK
* DONE

Status: 1 NOTE
See
  ‘/home/biocbuild/bbs-3.22-bioc/meat/notame.Rcheck/00check.log’
for details.


Installation output

notame.Rcheck/00install.out

##############################################################################
##############################################################################
###
### Running command:
###
###   /home/biocbuild/bbs-3.22-bioc/R/bin/R CMD INSTALL notame
###
##############################################################################
##############################################################################


* installing to library ‘/home/biocbuild/bbs-3.22-bioc/R/site-library’
* installing *source* package ‘notame’ ...
** this is package ‘notame’ version ‘1.0.0’
** using staged installation
** R
** data
** inst
** byte-compile and prepare package for lazy loading
** help
*** installing help indices
** building package indices
** installing vignettes
** testing if installed package can be loaded from temporary location
** testing if installed package can be loaded from final location
** testing if installed package keeps a record of temporary installation path
* DONE (notame)

Tests output

notame.Rcheck/tests/testthat.Rout


R version 4.5.1 Patched (2025-08-23 r88802) -- "Great Square Root"
Copyright (C) 2025 The R Foundation for Statistical Computing
Platform: x86_64-pc-linux-gnu

R is free software and comes with ABSOLUTELY NO WARRANTY.
You are welcome to redistribute it under certain conditions.
Type 'license()' or 'licence()' for distribution details.

R is a collaborative project with many contributors.
Type 'contributors()' for more information and
'citation()' on how to cite R or R packages in publications.

Type 'demo()' for some demos, 'help()' for on-line help, or
'help.start()' for an HTML browser interface to help.
Type 'q()' to quit R.

> library(testthat)
> library(notame)
Loading required package: ggplot2
Loading required package: SummarizedExperiment
Loading required package: MatrixGenerics
Loading required package: matrixStats

Attaching package: 'MatrixGenerics'

The following objects are masked from 'package:matrixStats':

    colAlls, colAnyNAs, colAnys, colAvgsPerRowSet, colCollapse,
    colCounts, colCummaxs, colCummins, colCumprods, colCumsums,
    colDiffs, colIQRDiffs, colIQRs, colLogSumExps, colMadDiffs,
    colMads, colMaxs, colMeans2, colMedians, colMins, colOrderStats,
    colProds, colQuantiles, colRanges, colRanks, colSdDiffs, colSds,
    colSums2, colTabulates, colVarDiffs, colVars, colWeightedMads,
    colWeightedMeans, colWeightedMedians, colWeightedSds,
    colWeightedVars, rowAlls, rowAnyNAs, rowAnys, rowAvgsPerColSet,
    rowCollapse, rowCounts, rowCummaxs, rowCummins, rowCumprods,
    rowCumsums, rowDiffs, rowIQRDiffs, rowIQRs, rowLogSumExps,
    rowMadDiffs, rowMads, rowMaxs, rowMeans2, rowMedians, rowMins,
    rowOrderStats, rowProds, rowQuantiles, rowRanges, rowRanks,
    rowSdDiffs, rowSds, rowSums2, rowTabulates, rowVarDiffs, rowVars,
    rowWeightedMads, rowWeightedMeans, rowWeightedMedians,
    rowWeightedSds, rowWeightedVars

Loading required package: GenomicRanges
Loading required package: stats4
Loading required package: BiocGenerics
Loading required package: generics

Attaching package: 'generics'

The following objects are masked from 'package:base':

    as.difftime, as.factor, as.ordered, intersect, is.element, setdiff,
    setequal, union


Attaching package: 'BiocGenerics'

The following objects are masked from 'package:stats':

    IQR, mad, sd, var, xtabs

The following objects are masked from 'package:base':

    Filter, Find, Map, Position, Reduce, anyDuplicated, aperm, append,
    as.data.frame, basename, cbind, colnames, dirname, do.call,
    duplicated, eval, evalq, get, grep, grepl, is.unsorted, lapply,
    mapply, match, mget, order, paste, pmax, pmax.int, pmin, pmin.int,
    rank, rbind, rownames, sapply, saveRDS, table, tapply, unique,
    unsplit, which.max, which.min

Loading required package: S4Vectors

Attaching package: 'S4Vectors'

The following object is masked from 'package:utils':

    findMatches

The following objects are masked from 'package:base':

    I, expand.grid, unname

Loading required package: IRanges
Loading required package: Seqinfo
Loading required package: Biobase
Welcome to Bioconductor

    Vignettes contain introductory material; view with
    'browseVignettes()'. To cite Bioconductor, see
    'citation("Biobase")', and for packages 'citation("pkgname")'.


Attaching package: 'Biobase'

The following object is masked from 'package:MatrixGenerics':

    rowMedians

The following objects are masked from 'package:matrixStats':

    anyMissing, rowMedians

> 
> test_check("notame")
Running tests in parallel requires the 3rd edition
INFO [2025-10-31 02:12:33] Pheno data was cleaned
INFO [2025-10-31 02:12:33] Checking provided sample ID column
INFO [2025-10-31 02:12:33] Column 'Sample_ID' created from id
INFO [2025-10-31 02:12:33] Pheno data was cleaned
INFO [2025-10-31 02:12:33] Sample ID generated from injection orders and prefix ID_
INFO [2025-10-31 02:12:33] Pheno data was cleaned
INFO [2025-10-31 02:12:33] Pheno data was cleaned
INFO [2025-10-31 02:12:33] Adding running index to 'QC' sample IDs
INFO [2025-10-31 02:12:33] Pheno data was cleaned
INFO [2025-10-31 02:12:33] Initializing 'Flag' column with unflagged features
INFO [2025-10-31 02:12:33] Assigning HILIC_pos as the value of the Split column for each feature
INFO [2025-10-31 02:12:33] Feature data was cleaned
INFO [2025-10-31 02:12:33] Initializing 'Flag' column with unflagged features
INFO [2025-10-31 02:12:33] Feature_ID column not found, creating feature IDs
INFO [2025-10-31 02:12:33] Initializing 'Flag' column with unflagged features
INFO [2025-10-31 02:12:33] Feature_ID column not found, creating feature IDs
INFO [2025-10-31 02:12:33] Initializing 'Flag' column with unflagged features
INFO [2025-10-31 02:12:33] Feature_ID column not found, creating feature IDs
INFO [2025-10-31 02:12:33] Identified m/z column Average_Mz and retention time column Average_Rt_min
INFO [2025-10-31 02:12:33] Identified m/z column Average_Mz and retention time column Average_Rt_min
INFO [2025-10-31 02:12:33] Creating feature IDs from Split, m/z and retention time
INFO [2025-10-31 02:12:33] Feature data was cleaned
INFO [2025-10-31 02:12:33] Identified m/z column Mass and retention time column RetentionTime
INFO [2025-10-31 02:12:33] Identified m/z column Mass and retention time column RetentionTime
INFO [2025-10-31 02:12:33] Creating feature IDs from Split, m/z and retention time
INFO [2025-10-31 02:12:33] Corner detected correctly at row 4, column D
INFO [2025-10-31 02:12:33] 
Extracting sample information from rows 1 to 4 and columns E to P
INFO [2025-10-31 02:12:33] Replacing spaces in sample information column names with underscores (_)
INFO [2025-10-31 02:12:33] Naming the last column of sample information "easy_Datafile"
INFO [2025-10-31 02:12:33] 
Extracting feature information from rows 5 to 14 and columns A to D
INFO [2025-10-31 02:12:33] 
Extracting feature abundances from rows 5 to 14 and columns E to P
INFO [2025-10-31 02:12:33] Sample ID generated from injection orders and prefix TEST_
INFO [2025-10-31 02:12:33] Pheno data was cleaned
INFO [2025-10-31 02:12:33] Initializing 'Flag' column with unflagged features
INFO [2025-10-31 02:12:33] Assigning easy as the value of the Split column for each feature
INFO [2025-10-31 02:12:33] Feature_ID column not found, creating feature IDs
INFO [2025-10-31 02:12:33] Identified m/z column Mass and retention time column RetentionTime
INFO [2025-10-31 02:12:33] Identified m/z column Mass and retention time column RetentionTime
INFO [2025-10-31 02:12:33] Creating feature IDs from Split, m/z and retention time
INFO [2025-10-31 02:12:33] Feature data was cleaned
INFO [2025-10-31 02:12:33] 
Checking sample information
INFO [2025-10-31 02:12:33] Checking 'Injection_order' column in feature data
INFO [2025-10-31 02:12:33] Checking 'Sample_ID' column in pheno data
INFO [2025-10-31 02:12:33] Checking 'QC' column in feature data
INFO [2025-10-31 02:12:33] Checking that feature abundances only contain numeric values
INFO [2025-10-31 02:12:33] 
Checking feature information
INFO [2025-10-31 02:12:33] Checking that feature IDs are unique and not storedas numbers
INFO [2025-10-31 02:12:33] Checking that m/z and retention time values are reasonable.
INFO [2025-10-31 02:12:33] Identified m/z column Mass and retention time column RetentionTime
INFO [2025-10-31 02:12:33] Identified m/z column Mass and retention time column RetentionTime
INFO [2025-10-31 02:12:33] Checking that feature data includes a 'Split' column
INFO [2025-10-31 02:12:33] Checking that feature data includes a 'Flag' column
INFO [2025-10-31 02:12:33] Identified m/z column Mass and retention time column RetentionTime
INFO [2025-10-31 02:12:33] Identified m/z column Mass and retention time column RetentionTime
INFO [2025-10-31 02:12:33] Creating feature IDs from Split, m/z and retention time
INFO [2025-10-31 02:12:33] Corner detected correctly at row 4, column F
INFO [2025-10-31 02:12:33] 
Extracting sample information from rows 1 to 4 and columns G to R
INFO [2025-10-31 02:12:33] Replacing spaces in sample information column names with underscores (_)
INFO [2025-10-31 02:12:33] Naming the last column of sample information "Datafile"
INFO [2025-10-31 02:12:33] 
Extracting feature information from rows 5 to 20 and columns A to F
INFO [2025-10-31 02:12:33] 
Extracting feature abundances from rows 5 to 20 and columns G to R
INFO [2025-10-31 02:12:33] Sample ID generated from injection orders and prefix TEST_
INFO [2025-10-31 02:12:33] Pheno data was cleaned
INFO [2025-10-31 02:12:33] Initializing 'Flag' column with unflagged features
INFO [2025-10-31 02:12:33] Creating Split column from Column, Mode
INFO [2025-10-31 02:12:33] Feature_ID column not found, creating feature IDs
INFO [2025-10-31 02:12:33] Identified m/z column Mass and retention time column RetentionTime
INFO [2025-10-31 02:12:33] Identified m/z column Mass and retention time column RetentionTime
INFO [2025-10-31 02:12:34] Creating feature IDs from Split, m/z and retention time
INFO [2025-10-31 02:12:34] Feature data was cleaned
INFO [2025-10-31 02:12:34] 
Checking sample information
INFO [2025-10-31 02:12:34] Checking 'Injection_order' column in feature data
INFO [2025-10-31 02:12:34] Checking 'Sample_ID' column in pheno data
INFO [2025-10-31 02:12:34] Checking 'QC' column in feature data
INFO [2025-10-31 02:12:34] Checking that feature abundances only contain numeric values
INFO [2025-10-31 02:12:34] 
Checking feature information
INFO [2025-10-31 02:12:34] Checking that feature IDs are unique and not storedas numbers
INFO [2025-10-31 02:12:34] Checking that m/z and retention time values are reasonable.
INFO [2025-10-31 02:12:34] Identified m/z column Mass and retention time column RetentionTime
INFO [2025-10-31 02:12:34] Identified m/z column Mass and retention time column RetentionTime
INFO [2025-10-31 02:12:34] Checking that feature data includes a 'Split' column
INFO [2025-10-31 02:12:34] Checking that feature data includes a 'Flag' column
INFO [2025-10-31 02:12:34] Pheno data was cleaned
INFO [2025-10-31 02:12:34] Feature data was cleaned
INFO [2025-10-31 02:12:34] Pheno data was cleaned
INFO [2025-10-31 02:12:34] Feature data was cleaned
INFO [2025-10-31 02:12:34] Detecting corner position
INFO [2025-10-31 02:12:34] Corner detected correctly at row 11, column H
INFO [2025-10-31 02:12:34] 
Extracting sample information from rows 1 to 11 and columns I to BF
INFO [2025-10-31 02:12:34] Replacing spaces in sample information column names with underscores (_)
INFO [2025-10-31 02:12:34] Naming the last column of sample information "hilic_neg_Datafile"
INFO [2025-10-31 02:12:34] 
Extracting feature information from rows 12 to 31 and columns A to H
INFO [2025-10-31 02:12:34] 
Extracting feature abundances from rows 12 to 31 and columns I to BF
INFO [2025-10-31 02:12:34] Pheno data was cleaned
INFO [2025-10-31 02:12:34] Feature data was cleaned
INFO [2025-10-31 02:12:34] 
Checking sample information
INFO [2025-10-31 02:12:34] Checking 'Injection_order' column in feature data
INFO [2025-10-31 02:12:34] Checking 'Sample_ID' column in pheno data
INFO [2025-10-31 02:12:34] Checking 'QC' column in feature data
INFO [2025-10-31 02:12:34] Checking that feature abundances only contain numeric values
INFO [2025-10-31 02:12:34] 
Checking feature information
INFO [2025-10-31 02:12:34] Checking that feature IDs are unique and not storedas numbers
INFO [2025-10-31 02:12:34] Checking that m/z and retention time values are reasonable.
INFO [2025-10-31 02:12:34] Identified m/z column Average_Mz and retention time column Average_Rt_min
INFO [2025-10-31 02:12:34] Identified m/z column Average_Mz and retention time column Average_Rt_min
INFO [2025-10-31 02:12:34] Checking that feature data includes a 'Split' column
INFO [2025-10-31 02:12:34] Checking that feature data includes a 'Flag' column
INFO [2025-10-31 02:12:34] Detecting corner position
INFO [2025-10-31 02:12:34] Corner detected correctly at row 11, column H
INFO [2025-10-31 02:12:34] 
Extracting sample information from rows 1 to 11 and columns I to BF
INFO [2025-10-31 02:12:34] Replacing spaces in sample information column names with underscores (_)
INFO [2025-10-31 02:12:34] Naming the last column of sample information "hilic_pos_Datafile"
INFO [2025-10-31 02:12:34] 
Extracting feature information from rows 12 to 31 and columns A to H
INFO [2025-10-31 02:12:34] 
Extracting feature abundances from rows 12 to 31 and columns I to BF
INFO [2025-10-31 02:12:34] Pheno data was cleaned
INFO [2025-10-31 02:12:34] Feature data was cleaned
INFO [2025-10-31 02:12:34] 
Checking sample information
INFO [2025-10-31 02:12:34] Checking 'Injection_order' column in feature data
INFO [2025-10-31 02:12:34] Checking 'Sample_ID' column in pheno data
INFO [2025-10-31 02:12:34] Checking 'QC' column in feature data
INFO [2025-10-31 02:12:34] Checking that feature abundances only contain numeric values
INFO [2025-10-31 02:12:34] 
Checking feature information
INFO [2025-10-31 02:12:34] Checking that feature IDs are unique and not storedas numbers
INFO [2025-10-31 02:12:34] Checking that m/z and retention time values are reasonable.
INFO [2025-10-31 02:12:34] Identified m/z column Average_Mz and retention time column Average_Rt_min
INFO [2025-10-31 02:12:34] Identified m/z column Average_Mz and retention time column Average_Rt_min
INFO [2025-10-31 02:12:34] Checking that feature data includes a 'Split' column
INFO [2025-10-31 02:12:34] Checking that feature data includes a 'Flag' column
INFO [2025-10-31 02:12:34] Detecting corner position
INFO [2025-10-31 02:12:34] Corner detected correctly at row 11, column H
INFO [2025-10-31 02:12:34] 
Extracting sample information from rows 1 to 11 and columns I to BF
INFO [2025-10-31 02:12:34] Replacing spaces in sample information column names with underscores (_)
INFO [2025-10-31 02:12:34] Naming the last column of sample information "rp_neg_Datafile"
INFO [2025-10-31 02:12:34] 
Extracting feature information from rows 12 to 31 and columns A to H
INFO [2025-10-31 02:12:34] 
Extracting feature abundances from rows 12 to 31 and columns I to BF
INFO [2025-10-31 02:12:34] Pheno data was cleaned
INFO [2025-10-31 02:12:34] Feature data was cleaned
INFO [2025-10-31 02:12:34] 
Checking sample information
INFO [2025-10-31 02:12:34] Checking 'Injection_order' column in feature data
INFO [2025-10-31 02:12:34] Checking 'Sample_ID' column in pheno data
INFO [2025-10-31 02:12:34] Checking 'QC' column in feature data
INFO [2025-10-31 02:12:34] Checking that feature abundances only contain numeric values
INFO [2025-10-31 02:12:34] 
Checking feature information
INFO [2025-10-31 02:12:34] Checking that feature IDs are unique and not storedas numbers
INFO [2025-10-31 02:12:34] Checking that m/z and retention time values are reasonable.
INFO [2025-10-31 02:12:34] Identified m/z column Average_Mz and retention time column Average_Rt_min
INFO [2025-10-31 02:12:34] Identified m/z column Average_Mz and retention time column Average_Rt_min
INFO [2025-10-31 02:12:34] Checking that feature data includes a 'Split' column
INFO [2025-10-31 02:12:34] Checking that feature data includes a 'Flag' column
INFO [2025-10-31 02:12:34] Detecting corner position
INFO [2025-10-31 02:12:34] Corner detected correctly at row 11, column H
INFO [2025-10-31 02:12:34] 
Extracting sample information from rows 1 to 11 and columns I to BF
INFO [2025-10-31 02:12:34] Replacing spaces in sample information column names with underscores (_)
INFO [2025-10-31 02:12:34] Naming the last column of sample information "rp_pos_Datafile"
INFO [2025-10-31 02:12:34] 
Extracting feature information from rows 12 to 31 and columns A to H
INFO [2025-10-31 02:12:34] 
Extracting feature abundances from rows 12 to 31 and columns I to BF
INFO [2025-10-31 02:12:34] Pheno data was cleaned
INFO [2025-10-31 02:12:34] Feature data was cleaned
INFO [2025-10-31 02:12:34] 
Checking sample information
INFO [2025-10-31 02:12:34] Checking 'Injection_order' column in feature data
INFO [2025-10-31 02:12:34] Checking 'Sample_ID' column in pheno data
INFO [2025-10-31 02:12:34] Checking 'QC' column in feature data
INFO [2025-10-31 02:12:34] Checking that feature abundances only contain numeric values
INFO [2025-10-31 02:12:34] 
Checking feature information
INFO [2025-10-31 02:12:34] Checking that feature IDs are unique and not storedas numbers
INFO [2025-10-31 02:12:34] Checking that m/z and retention time values are reasonable.
INFO [2025-10-31 02:12:34] Identified m/z column Average_Mz and retention time column Average_Rt_min
INFO [2025-10-31 02:12:34] Identified m/z column Average_Mz and retention time column Average_Rt_min
INFO [2025-10-31 02:12:34] Checking that feature data includes a 'Split' column
INFO [2025-10-31 02:12:34] Checking that feature data includes a 'Flag' column
INFO [2025-10-31 02:12:35] Injection order differs between modes.Creating dummy injection order
INFO [2025-10-31 02:12:35] Dummy injection order (row numbers) created
INFO [2025-10-31 02:12:35] Merging objects with unequal amounts of samples.
INFO [2025-10-31 02:12:35] Samples only in first object:
INFO [2025-10-31 02:12:35] ID_666

INFO [2025-10-31 02:12:35] Samples only in second object:
INFO [2025-10-31 02:12:35] Demo_2

INFO [2025-10-31 02:12:35] Injection order differs between modes.Creating dummy injection order
INFO [2025-10-31 02:12:35] Dummy injection order (row numbers) created
INFO [2025-10-31 02:12:35] Merging objects with unequal amounts of samples.
INFO [2025-10-31 02:12:35] Samples only in first object:
INFO [2025-10-31 02:12:35] ID_666

INFO [2025-10-31 02:12:35] Samples only in second object:
INFO [2025-10-31 02:12:35] 

INFO [2025-10-31 02:12:35] Injection order differs between modes.Creating dummy injection order
INFO [2025-10-31 02:12:35] Dummy injection order (row numbers) created
INFO [2025-10-31 02:12:35] Merging objects with unequal amounts of samples.
INFO [2025-10-31 02:12:35] Samples only in first object:
INFO [2025-10-31 02:12:35] ID_666, Demo_22

INFO [2025-10-31 02:12:35] Samples only in second object:
INFO [2025-10-31 02:12:35] ID_999

INFO [2025-10-31 02:12:35] Starting logging
INFO [2025-10-31 02:12:35] Finished analysis. Fri Oct 31 02:12:35 2025
Session info:

INFO [2025-10-31 02:12:35] R version 4.5.1 Patched (2025-08-23 r88802)
INFO [2025-10-31 02:12:35] Platform: x86_64-pc-linux-gnu
INFO [2025-10-31 02:12:35] Running under: Ubuntu 24.04.3 LTS
INFO [2025-10-31 02:12:35] 
INFO [2025-10-31 02:12:35] Matrix products: default
INFO [2025-10-31 02:12:35] BLAS:   /home/biocbuild/bbs-3.22-bioc/R/lib/libRblas.so 
INFO [2025-10-31 02:12:35] LAPACK: /usr/lib/x86_64-linux-gnu/lapack/liblapack.so.3.12.0  LAPACK version 3.12.0
INFO [2025-10-31 02:12:35] 
INFO [2025-10-31 02:12:35] locale:
INFO [2025-10-31 02:12:35]  [1] LC_CTYPE=en_US.UTF-8       LC_NUMERIC=C              
INFO [2025-10-31 02:12:35]  [3] LC_TIME=en_GB              LC_COLLATE=C              
INFO [2025-10-31 02:12:35]  [5] LC_MONETARY=en_US.UTF-8    LC_MESSAGES=en_US.UTF-8   
INFO [2025-10-31 02:12:35]  [7] LC_PAPER=en_US.UTF-8       LC_NAME=C                 
INFO [2025-10-31 02:12:35]  [9] LC_ADDRESS=C               LC_TELEPHONE=C            
INFO [2025-10-31 02:12:35] [11] LC_MEASUREMENT=en_US.UTF-8 LC_IDENTIFICATION=C       
INFO [2025-10-31 02:12:35] 
INFO [2025-10-31 02:12:35] time zone: America/New_York
INFO [2025-10-31 02:12:35] tzcode source: system (glibc)
INFO [2025-10-31 02:12:35] 
INFO [2025-10-31 02:12:35] attached base packages:
INFO [2025-10-31 02:12:35] [1] stats4    stats     graphics  grDevices utils     datasets  methods  
INFO [2025-10-31 02:12:35] [8] base     
INFO [2025-10-31 02:12:35] 
INFO [2025-10-31 02:12:35] other attached packages:
INFO [2025-10-31 02:12:35]  [1] notame_1.0.0                SummarizedExperiment_1.40.0
INFO [2025-10-31 02:12:35]  [3] Biobase_2.70.0              GenomicRanges_1.62.0       
INFO [2025-10-31 02:12:35]  [5] Seqinfo_1.0.0               IRanges_2.44.0             
INFO [2025-10-31 02:12:35]  [7] S4Vectors_0.48.0            BiocGenerics_0.56.0        
INFO [2025-10-31 02:12:35]  [9] generics_0.1.4              MatrixGenerics_1.22.0      
INFO [2025-10-31 02:12:35] [11] matrixStats_1.5.0           ggplot2_4.0.0              
INFO [2025-10-31 02:12:35] [13] testthat_3.2.3             
INFO [2025-10-31 02:12:35] 
INFO [2025-10-31 02:12:35] loaded via a namespace (and not attached):
INFO [2025-10-31 02:12:35]  [1] Matrix_1.7-4         gtable_0.3.6         futile.logger_1.4.3 
INFO [2025-10-31 02:12:35]  [4] dplyr_1.1.4          compiler_4.5.1       brio_1.1.5          
INFO [2025-10-31 02:12:35]  [7] zip_2.3.3            Rcpp_1.1.0           tidyselect_1.2.1    
INFO [2025-10-31 02:12:35] [10] tidyr_1.3.1          scales_1.4.0         lattice_0.22-7      
INFO [2025-10-31 02:12:35] [13] XVector_0.50.0       R6_2.6.1             S4Arrays_1.10.0     
INFO [2025-10-31 02:12:35] [16] openxlsx_4.2.8       tibble_3.3.0         DelayedArray_0.36.0 
INFO [2025-10-31 02:12:35] [19] desc_1.4.3           pillar_1.11.1        RColorBrewer_1.1-3  
INFO [2025-10-31 02:12:35] [22] rlang_1.1.6          stringi_1.8.7        S7_0.2.0            
INFO [2025-10-31 02:12:35] [25] viridisLite_0.4.2    SparseArray_1.10.0   cli_3.6.5           
INFO [2025-10-31 02:12:35] [28] formatR_1.14         withr_3.0.2          magrittr_2.0.4      
INFO [2025-10-31 02:12:35] [31] futile.options_1.0.1 grid_4.5.1           lifecycle_1.0.4     
INFO [2025-10-31 02:12:35] [34] waldo_0.6.2          vctrs_0.6.5          glue_1.8.0          
INFO [2025-10-31 02:12:35] [37] lambda.r_1.2.4       farver_2.1.2         abind_1.4-8         
INFO [2025-10-31 02:12:35] [40] purrr_1.1.0          tools_4.5.1          pkgconfig_2.0.3     
INFO [2025-10-31 02:12:36] New line
INFO [2025-10-31 02:12:36] Starting logging
INFO [2025-10-31 02:12:36] New line
INFO [2025-10-31 02:12:36] Finished analysis. Fri Oct 31 02:12:36 2025
Session info:

INFO [2025-10-31 02:12:36] R version 4.5.1 Patched (2025-08-23 r88802)
INFO [2025-10-31 02:12:36] Platform: x86_64-pc-linux-gnu
INFO [2025-10-31 02:12:36] Running under: Ubuntu 24.04.3 LTS
INFO [2025-10-31 02:12:36] 
INFO [2025-10-31 02:12:36] Matrix products: default
INFO [2025-10-31 02:12:36] BLAS:   /home/biocbuild/bbs-3.22-bioc/R/lib/libRblas.so 
INFO [2025-10-31 02:12:36] LAPACK: /usr/lib/x86_64-linux-gnu/lapack/liblapack.so.3.12.0  LAPACK version 3.12.0
INFO [2025-10-31 02:12:36] 
INFO [2025-10-31 02:12:36] locale:
INFO [2025-10-31 02:12:36]  [1] LC_CTYPE=en_US.UTF-8       LC_NUMERIC=C              
INFO [2025-10-31 02:12:36]  [3] LC_TIME=en_GB              LC_COLLATE=C              
INFO [2025-10-31 02:12:36]  [5] LC_MONETARY=en_US.UTF-8    LC_MESSAGES=en_US.UTF-8   
INFO [2025-10-31 02:12:36]  [7] LC_PAPER=en_US.UTF-8       LC_NAME=C                 
INFO [2025-10-31 02:12:36]  [9] LC_ADDRESS=C               LC_TELEPHONE=C            
INFO [2025-10-31 02:12:36] [11] LC_MEASUREMENT=en_US.UTF-8 LC_IDENTIFICATION=C       
INFO [2025-10-31 02:12:36] 
INFO [2025-10-31 02:12:36] time zone: America/New_York
INFO [2025-10-31 02:12:36] tzcode source: system (glibc)
INFO [2025-10-31 02:12:36] 
INFO [2025-10-31 02:12:36] attached base packages:
INFO [2025-10-31 02:12:36] [1] stats4    stats     graphics  grDevices utils     datasets  methods  
INFO [2025-10-31 02:12:36] [8] base     
INFO [2025-10-31 02:12:36] 
INFO [2025-10-31 02:12:36] other attached packages:
INFO [2025-10-31 02:12:36]  [1] notame_1.0.0                SummarizedExperiment_1.40.0
INFO [2025-10-31 02:12:36]  [3] Biobase_2.70.0              GenomicRanges_1.62.0       
INFO [2025-10-31 02:12:36]  [5] Seqinfo_1.0.0               IRanges_2.44.0             
INFO [2025-10-31 02:12:36]  [7] S4Vectors_0.48.0            BiocGenerics_0.56.0        
INFO [2025-10-31 02:12:36]  [9] generics_0.1.4              MatrixGenerics_1.22.0      
INFO [2025-10-31 02:12:36] [11] matrixStats_1.5.0           ggplot2_4.0.0              
INFO [2025-10-31 02:12:36] [13] testthat_3.2.3             
INFO [2025-10-31 02:12:36] 
INFO [2025-10-31 02:12:36] loaded via a namespace (and not attached):
INFO [2025-10-31 02:12:36]  [1] Matrix_1.7-4         gtable_0.3.6         futile.logger_1.4.3 
INFO [2025-10-31 02:12:36]  [4] dplyr_1.1.4          compiler_4.5.1       brio_1.1.5          
INFO [2025-10-31 02:12:36]  [7] zip_2.3.3            Rcpp_1.1.0           tidyselect_1.2.1    
INFO [2025-10-31 02:12:36] [10] tidyr_1.3.1          scales_1.4.0         lattice_0.22-7      
INFO [2025-10-31 02:12:36] [13] XVector_0.50.0       R6_2.6.1             S4Arrays_1.10.0     
INFO [2025-10-31 02:12:36] [16] openxlsx_4.2.8       tibble_3.3.0         DelayedArray_0.36.0 
INFO [2025-10-31 02:12:36] [19] desc_1.4.3           pillar_1.11.1        RColorBrewer_1.1-3  
INFO [2025-10-31 02:12:36] [22] rlang_1.1.6          stringi_1.8.7        S7_0.2.0            
INFO [2025-10-31 02:12:36] [25] viridisLite_0.4.2    SparseArray_1.10.0   cli_3.6.5           
INFO [2025-10-31 02:12:36] [28] formatR_1.14         withr_3.0.2          magrittr_2.0.4      
INFO [2025-10-31 02:12:36] [31] futile.options_1.0.1 grid_4.5.1           lifecycle_1.0.4     
INFO [2025-10-31 02:12:36] [34] waldo_0.6.2          vctrs_0.6.5          glue_1.8.0          
INFO [2025-10-31 02:12:36] [37] lambda.r_1.2.4       farver_2.1.2         abind_1.4-8         
INFO [2025-10-31 02:12:36] [40] purrr_1.1.0          tools_4.5.1          pkgconfig_2.0.3     
INFO [2025-10-31 02:12:36] New line
INFO [2025-10-31 02:12:36] 
Starting random forest imputation at 2025-10-31 02:12:36.302289
INFO [2025-10-31 02:12:38] Out-of-bag error in random forest imputation: 0.471
INFO [2025-10-31 02:12:38] Random forest imputation finished at 2025-10-31 02:12:38.529311 

INFO [2025-10-31 02:12:38] 
Starting random forest imputation at 2025-10-31 02:12:38.735662
INFO [2025-10-31 02:12:42] Out-of-bag error in random forest imputation: 0.472
INFO [2025-10-31 02:12:42] Random forest imputation finished at 2025-10-31 02:12:42.355987 

INFO [2025-10-31 02:12:42] 
Starting random forest imputation at 2025-10-31 02:12:42.369537
INFO [2025-10-31 02:12:44] Out-of-bag error in random forest imputation: 0.469
INFO [2025-10-31 02:12:44] Random forest imputation finished at 2025-10-31 02:12:44.725528 

INFO [2025-10-31 02:12:44] 
Starting random forest imputation at 2025-10-31 02:12:44.771822
INFO [2025-10-31 02:12:47] Out-of-bag error in random forest imputation: 0.468
INFO [2025-10-31 02:12:47] Random forest imputation finished at 2025-10-31 02:12:47.590783 

INFO [2025-10-31 02:12:47] Starting PQN normalization
INFO [2025-10-31 02:12:47] Using median of qc samples as reference spectrum
INFO [2025-10-31 02:12:47] Starting PQN normalization
INFO [2025-10-31 02:12:47] Using median of all samples as reference spectrum
INFO [2025-10-31 02:12:47] Starting PQN normalization
INFO [2025-10-31 02:12:48] Using mean of qc samples as reference spectrum
INFO [2025-10-31 02:12:48] Starting PQN normalization
INFO [2025-10-31 02:12:48] Using mean of all samples as reference spectrum
INFO [2025-10-31 02:12:48] 
92% of features flagged for low quality
INFO [2025-10-31 02:12:48] Starting PQN normalization
INFO [2025-10-31 02:12:48] Using median of qc samples as reference spectrum
INFO [2025-10-31 02:12:48] Starting drift correction
INFO [2025-10-31 02:12:48] Zero values in feature abundances detected. Zeroes will be replaced with 1.1.
INFO [2025-10-31 02:12:51] Recomputing quality metrics for drift corrected data
INFO [2025-10-31 02:12:51] Drift correction performed
INFO [2025-10-31 02:12:51] Inspecting drift correction results
INFO [2025-10-31 02:12:51] Original quality metrics missing, recomputing
INFO [2025-10-31 02:12:52] Drift correction results inspected: Drift_corrected: 100%
[ FAIL 0 | WARN 5 | SKIP 0 | PASS 84 ]

[ FAIL 0 | WARN 5 | SKIP 0 | PASS 84 ]
> 
> proc.time()
   user  system elapsed 
 29.817   2.385  29.381 

Example timings

notame.Rcheck/notame-Ex.timings

nameusersystemelapsed
assess_quality0.1840.0280.212
citations0.2920.0010.294
cluster_features0.2340.0500.285
combined_data0.0470.0110.058
compress_clusters0.1220.0240.146
correct_drift3.1580.3593.332
drop_flagged0.0990.0100.109
drop_qcs0.0350.0030.039
finish_log0.0240.0110.040
fix_MSMS0.1060.0060.112
fix_object0.1310.0100.142
flag0.0250.0040.029
flag_contaminants0.1760.0130.189
flag_detection0.2170.0020.219
flag_quality0.1950.0000.195
flag_report0.3060.0020.307
import_from_excel0.2650.0090.276
impute_rf1.7310.2341.605
impute_simple0.0760.0060.082
init_log0.0020.0010.003
inverse_normalize0.0380.0020.040
join_colData0.0310.0010.032
join_rowData0.0220.0010.023
log_text0.0030.0010.004
mark_nas0.0320.0040.036
merge_notame_sets0.4650.0120.478
pca_bhattacharyya_dist6.9630.6877.650
perform_repeatability0.1870.0030.190
pqn_normalization0.0720.0010.073
quality0.1470.0100.157
ruvs_qc0.1580.0090.167
write_to_excel0.1810.0020.183