| Back to Multiple platform build/check report for BioC 3.22: simplified long |
|
This page was generated on 2025-11-04 12:04 -0500 (Tue, 04 Nov 2025).
| Hostname | OS | Arch (*) | R version | Installed pkgs |
|---|---|---|---|---|
| nebbiolo2 | Linux (Ubuntu 24.04.3 LTS) | x86_64 | 4.5.1 Patched (2025-08-23 r88802) -- "Great Square Root" | 4902 |
| lconway | macOS 12.7.6 Monterey | x86_64 | 4.5.1 Patched (2025-09-10 r88807) -- "Great Square Root" | 4692 |
| kjohnson3 | macOS 13.7.7 Ventura | arm64 | 4.5.1 Patched (2025-09-10 r88807) -- "Great Square Root" | 4638 |
| Click on any hostname to see more info about the system (e.g. compilers) (*) as reported by 'uname -p', except on Windows and Mac OS X | ||||
| Package 1194/2361 | Hostname | OS / Arch | INSTALL | BUILD | CHECK | BUILD BIN | ||||||||
| maser 1.28.0 (landing page) Diogo F.T. Veiga
| nebbiolo2 | Linux (Ubuntu 24.04.3 LTS) / x86_64 | OK | OK | OK | |||||||||
| lconway | macOS 12.7.6 Monterey / x86_64 | OK | OK | OK | OK | |||||||||
| kjohnson3 | macOS 13.7.7 Ventura / arm64 | OK | OK | OK | OK | |||||||||
|
To the developers/maintainers of the maser package: - Allow up to 24 hours (and sometimes 48 hours) for your latest push to git@git.bioconductor.org:packages/maser.git to reflect on this report. See Troubleshooting Build Report for more information. - Use the following Renviron settings to reproduce errors and warnings. - If 'R CMD check' started to fail recently on the Linux builder(s) over a missing dependency, add the missing dependency to 'Suggests:' in your DESCRIPTION file. See Renviron.bioc for more information. |
| Package: maser |
| Version: 1.28.0 |
| Command: /Library/Frameworks/R.framework/Resources/bin/R CMD check --install=check:maser.install-out.txt --library=/Library/Frameworks/R.framework/Resources/library --no-vignettes --timings maser_1.28.0.tar.gz |
| StartedAt: 2025-11-03 22:14:26 -0500 (Mon, 03 Nov 2025) |
| EndedAt: 2025-11-03 22:21:36 -0500 (Mon, 03 Nov 2025) |
| EllapsedTime: 429.9 seconds |
| RetCode: 0 |
| Status: OK |
| CheckDir: maser.Rcheck |
| Warnings: 0 |
##############################################################################
##############################################################################
###
### Running command:
###
### /Library/Frameworks/R.framework/Resources/bin/R CMD check --install=check:maser.install-out.txt --library=/Library/Frameworks/R.framework/Resources/library --no-vignettes --timings maser_1.28.0.tar.gz
###
##############################################################################
##############################################################################
* using log directory ‘/Users/biocbuild/bbs-3.22-bioc/meat/maser.Rcheck’
* using R version 4.5.1 Patched (2025-09-10 r88807)
* using platform: x86_64-apple-darwin20
* R was compiled by
Apple clang version 14.0.0 (clang-1400.0.29.202)
GNU Fortran (GCC) 14.2.0
* running under: macOS Monterey 12.7.6
* using session charset: UTF-8
* using option ‘--no-vignettes’
* checking for file ‘maser/DESCRIPTION’ ... OK
* checking extension type ... Package
* this is package ‘maser’ version ‘1.28.0’
* package encoding: UTF-8
* checking package namespace information ... OK
* checking package dependencies ... OK
* checking if this is a source package ... OK
* checking if there is a namespace ... OK
* checking for hidden files and directories ... OK
* checking for portable file names ... OK
* checking for sufficient/correct file permissions ... OK
* checking whether package ‘maser’ can be installed ... OK
* checking installed package size ... OK
* checking package directory ... OK
* checking ‘build’ directory ... OK
* checking DESCRIPTION meta-information ... OK
* checking top-level files ... OK
* checking for left-over files ... OK
* checking index information ... OK
* checking package subdirectories ... OK
* checking code files for non-ASCII characters ... OK
* checking R files for syntax errors ... OK
* checking whether the package can be loaded ... OK
* checking whether the package can be loaded with stated dependencies ... OK
* checking whether the package can be unloaded cleanly ... OK
* checking whether the namespace can be loaded with stated dependencies ... OK
* checking whether the namespace can be unloaded cleanly ... OK
* checking whether startup messages can be suppressed ... OK
* checking dependencies in R code ... OK
* checking S3 generic/method consistency ... OK
* checking replacement functions ... OK
* checking foreign function calls ... OK
* checking R code for possible problems ... NOTE
availableFeaturesUniprotKB: no visible global function definition for
'read.csv'
availableFeaturesUniprotKB: no visible binding for global variable
'Category'
availableFeaturesUniprotKB: no visible binding for global variable
'Name'
filterByIds: no visible binding for global variable 'ID'
mapTranscriptsA3SSevent: no visible global function definition for
'subjectHits'
mapTranscriptsA5SSevent: no visible global function definition for
'subjectHits'
mapTranscriptsMXEevent: no visible global function definition for
'subjectHits'
mapTranscriptsRIevent: no visible global function definition for
'subjectHits'
mapTranscriptsSEevent: no visible global function definition for
'subjectHits'
overlappingFeatures: no visible global function definition for
'subjectHits'
urlTracksUniprotKB: no visible global function definition for
'read.csv'
Undefined global functions or variables:
Category ID Name read.csv subjectHits
Consider adding
importFrom("utils", "read.csv")
to your NAMESPACE file.
* checking Rd files ... OK
* checking Rd metadata ... OK
* checking Rd cross-references ... OK
* checking for missing documentation entries ... OK
* checking for code/documentation mismatches ... OK
* checking Rd \usage sections ... OK
* checking Rd contents ... OK
* checking for unstated dependencies in examples ... OK
* checking R/sysdata.rda ... OK
* checking files in ‘vignettes’ ... OK
* checking examples ... OK
Examples with CPU (user + system) or elapsed time > 5s
user system elapsed
plotTranscripts 7.371 0.067 7.484
plotUniprotKBFeatures 6.608 0.143 7.711
mapProteinFeaturesToEvents 5.105 0.142 6.280
* checking for unstated dependencies in vignettes ... OK
* checking package vignettes ... OK
* checking running R code from vignettes ... SKIPPED
* checking re-building of vignette outputs ... SKIPPED
* checking PDF version of manual ... OK
* DONE
Status: 1 NOTE
See
‘/Users/biocbuild/bbs-3.22-bioc/meat/maser.Rcheck/00check.log’
for details.
maser.Rcheck/00install.out
############################################################################## ############################################################################## ### ### Running command: ### ### /Library/Frameworks/R.framework/Resources/bin/R CMD INSTALL maser ### ############################################################################## ############################################################################## * installing to library ‘/Library/Frameworks/R.framework/Versions/4.5-x86_64/Resources/library’ * installing *source* package ‘maser’ ... ** this is package ‘maser’ version ‘1.28.0’ ** using staged installation ** R ** inst ** byte-compile and prepare package for lazy loading ** help *** installing help indices ** building package indices ** installing vignettes ** testing if installed package can be loaded from temporary location ** testing if installed package can be loaded from final location ** testing if installed package keeps a record of temporary installation path * DONE (maser)
maser.Rcheck/maser-Ex.timings
| name | user | system | elapsed | |
| PSI-Maser-character-method | 0.933 | 0.033 | 0.974 | |
| PSI | 1.790 | 0.049 | 1.846 | |
| annotation-Maser-method | 0.673 | 0.010 | 0.688 | |
| availableFeaturesUniprotKB | 0.036 | 0.005 | 0.104 | |
| boxplot_PSI_levels | 1.920 | 0.096 | 2.027 | |
| counts-Maser-method | 0.620 | 0.010 | 0.633 | |
| display | 1.774 | 0.062 | 1.857 | |
| dotplot | 1.603 | 0.017 | 1.684 | |
| filterByCoverage | 1.035 | 0.010 | 1.049 | |
| filterByEventId | 0.966 | 0.008 | 0.978 | |
| geneEvents | 0.990 | 0.009 | 1.004 | |
| granges-Maser-method | 0.708 | 0.011 | 0.722 | |
| mapProteinFeaturesToEvents | 5.105 | 0.142 | 6.280 | |
| mapTranscriptsToEvents | 1.767 | 0.023 | 1.802 | |
| maser | 0.697 | 0.008 | 0.709 | |
| pca | 1.383 | 0.014 | 1.408 | |
| plotGenePSI | 2.062 | 0.021 | 2.098 | |
| plotTranscripts | 7.371 | 0.067 | 7.484 | |
| plotUniprotKBFeatures | 6.608 | 0.143 | 7.711 | |
| splicingDistribution | 1.464 | 0.016 | 1.488 | |
| summary-Maser-method | 0.791 | 0.010 | 0.807 | |
| topEvents | 1.066 | 0.013 | 1.088 | |
| volcano | 1.402 | 0.020 | 1.433 | |