| Back to Multiple platform build/check report for BioC 3.22: simplified long |
|
This page was generated on 2025-11-01 12:03 -0400 (Sat, 01 Nov 2025).
| Hostname | OS | Arch (*) | R version | Installed pkgs |
|---|---|---|---|---|
| nebbiolo2 | Linux (Ubuntu 24.04.3 LTS) | x86_64 | 4.5.1 Patched (2025-08-23 r88802) -- "Great Square Root" | 4901 |
| lconway | macOS 12.7.6 Monterey | x86_64 | 4.5.1 Patched (2025-09-10 r88807) -- "Great Square Root" | 4691 |
| kjohnson3 | macOS 13.7.7 Ventura | arm64 | 4.5.1 Patched (2025-09-10 r88807) -- "Great Square Root" | 4637 |
| Click on any hostname to see more info about the system (e.g. compilers) (*) as reported by 'uname -p', except on Windows and Mac OS X | ||||
| Package 1194/2361 | Hostname | OS / Arch | INSTALL | BUILD | CHECK | BUILD BIN | ||||||||
| maser 1.28.0 (landing page) Diogo F.T. Veiga
| nebbiolo2 | Linux (Ubuntu 24.04.3 LTS) / x86_64 | OK | OK | OK | |||||||||
| lconway | macOS 12.7.6 Monterey / x86_64 | OK | OK | OK | OK | |||||||||
| kjohnson3 | macOS 13.7.7 Ventura / arm64 | OK | OK | OK | OK | |||||||||
|
To the developers/maintainers of the maser package: - Allow up to 24 hours (and sometimes 48 hours) for your latest push to git@git.bioconductor.org:packages/maser.git to reflect on this report. See Troubleshooting Build Report for more information. - Use the following Renviron settings to reproduce errors and warnings. - If 'R CMD check' started to fail recently on the Linux builder(s) over a missing dependency, add the missing dependency to 'Suggests:' in your DESCRIPTION file. See Renviron.bioc for more information. |
| Package: maser |
| Version: 1.28.0 |
| Command: /home/biocbuild/bbs-3.22-bioc/R/bin/R CMD check --install=check:maser.install-out.txt --library=/home/biocbuild/bbs-3.22-bioc/R/site-library --timings maser_1.28.0.tar.gz |
| StartedAt: 2025-11-01 01:11:31 -0400 (Sat, 01 Nov 2025) |
| EndedAt: 2025-11-01 01:19:55 -0400 (Sat, 01 Nov 2025) |
| EllapsedTime: 503.5 seconds |
| RetCode: 0 |
| Status: OK |
| CheckDir: maser.Rcheck |
| Warnings: 0 |
##############################################################################
##############################################################################
###
### Running command:
###
### /home/biocbuild/bbs-3.22-bioc/R/bin/R CMD check --install=check:maser.install-out.txt --library=/home/biocbuild/bbs-3.22-bioc/R/site-library --timings maser_1.28.0.tar.gz
###
##############################################################################
##############################################################################
* using log directory ‘/home/biocbuild/bbs-3.22-bioc/meat/maser.Rcheck’
* using R version 4.5.1 Patched (2025-08-23 r88802)
* using platform: x86_64-pc-linux-gnu
* R was compiled by
gcc (Ubuntu 13.3.0-6ubuntu2~24.04) 13.3.0
GNU Fortran (Ubuntu 13.3.0-6ubuntu2~24.04) 13.3.0
* running under: Ubuntu 24.04.3 LTS
* using session charset: UTF-8
* checking for file ‘maser/DESCRIPTION’ ... OK
* checking extension type ... Package
* this is package ‘maser’ version ‘1.28.0’
* package encoding: UTF-8
* checking package namespace information ... OK
* checking package dependencies ... OK
* checking if this is a source package ... OK
* checking if there is a namespace ... OK
* checking for hidden files and directories ... OK
* checking for portable file names ... OK
* checking for sufficient/correct file permissions ... OK
* checking whether package ‘maser’ can be installed ... OK
* checking installed package size ... OK
* checking package directory ... OK
* checking ‘build’ directory ... OK
* checking DESCRIPTION meta-information ... OK
* checking top-level files ... OK
* checking for left-over files ... OK
* checking index information ... OK
* checking package subdirectories ... OK
* checking code files for non-ASCII characters ... OK
* checking R files for syntax errors ... OK
* checking whether the package can be loaded ... OK
* checking whether the package can be loaded with stated dependencies ... OK
* checking whether the package can be unloaded cleanly ... OK
* checking whether the namespace can be loaded with stated dependencies ... OK
* checking whether the namespace can be unloaded cleanly ... OK
* checking loading without being on the library search path ... OK
* checking whether startup messages can be suppressed ... OK
* checking dependencies in R code ... OK
* checking S3 generic/method consistency ... OK
* checking replacement functions ... OK
* checking foreign function calls ... OK
* checking R code for possible problems ... NOTE
availableFeaturesUniprotKB: no visible global function definition for
'read.csv'
availableFeaturesUniprotKB: no visible binding for global variable
'Category'
availableFeaturesUniprotKB: no visible binding for global variable
'Name'
filterByIds: no visible binding for global variable 'ID'
mapTranscriptsA3SSevent: no visible global function definition for
'subjectHits'
mapTranscriptsA5SSevent: no visible global function definition for
'subjectHits'
mapTranscriptsMXEevent: no visible global function definition for
'subjectHits'
mapTranscriptsRIevent: no visible global function definition for
'subjectHits'
mapTranscriptsSEevent: no visible global function definition for
'subjectHits'
overlappingFeatures: no visible global function definition for
'subjectHits'
urlTracksUniprotKB: no visible global function definition for
'read.csv'
Undefined global functions or variables:
Category ID Name read.csv subjectHits
Consider adding
importFrom("utils", "read.csv")
to your NAMESPACE file.
* checking Rd files ... OK
* checking Rd metadata ... OK
* checking Rd cross-references ... OK
* checking for missing documentation entries ... OK
* checking for code/documentation mismatches ... OK
* checking Rd \usage sections ... OK
* checking Rd contents ... OK
* checking for unstated dependencies in examples ... OK
* checking R/sysdata.rda ... OK
* checking files in ‘vignettes’ ... OK
* checking examples ... OK
Examples with CPU (user + system) or elapsed time > 5s
user system elapsed
plotTranscripts 6.900 0.627 7.527
plotUniprotKBFeatures 6.198 0.457 7.591
mapProteinFeaturesToEvents 4.872 0.544 6.678
* checking for unstated dependencies in vignettes ... OK
* checking package vignettes ... OK
* checking re-building of vignette outputs ... OK
* checking PDF version of manual ... OK
* DONE
Status: 1 NOTE
See
‘/home/biocbuild/bbs-3.22-bioc/meat/maser.Rcheck/00check.log’
for details.
maser.Rcheck/00install.out
############################################################################## ############################################################################## ### ### Running command: ### ### /home/biocbuild/bbs-3.22-bioc/R/bin/R CMD INSTALL maser ### ############################################################################## ############################################################################## * installing to library ‘/home/biocbuild/bbs-3.22-bioc/R/site-library’ * installing *source* package ‘maser’ ... ** this is package ‘maser’ version ‘1.28.0’ ** using staged installation ** R ** inst ** byte-compile and prepare package for lazy loading ** help *** installing help indices ** building package indices ** installing vignettes ** testing if installed package can be loaded from temporary location ** testing if installed package can be loaded from final location ** testing if installed package keeps a record of temporary installation path * DONE (maser)
maser.Rcheck/maser-Ex.timings
| name | user | system | elapsed | |
| PSI-Maser-character-method | 0.754 | 0.016 | 0.771 | |
| PSI | 0.466 | 0.000 | 0.467 | |
| annotation-Maser-method | 1.542 | 0.033 | 1.575 | |
| availableFeaturesUniprotKB | 0.074 | 0.003 | 0.141 | |
| boxplot_PSI_levels | 1.477 | 0.085 | 1.562 | |
| counts-Maser-method | 0.461 | 0.000 | 0.461 | |
| display | 1.350 | 0.045 | 1.396 | |
| dotplot | 1.293 | 0.023 | 1.315 | |
| filterByCoverage | 0.790 | 0.001 | 0.791 | |
| filterByEventId | 0.745 | 0.009 | 0.754 | |
| geneEvents | 0.762 | 0.004 | 0.766 | |
| granges-Maser-method | 0.548 | 0.004 | 0.552 | |
| mapProteinFeaturesToEvents | 4.872 | 0.544 | 6.678 | |
| mapTranscriptsToEvents | 1.477 | 0.017 | 1.494 | |
| maser | 0.483 | 0.000 | 0.484 | |
| pca | 1.091 | 0.005 | 1.095 | |
| plotGenePSI | 1.62 | 0.03 | 1.65 | |
| plotTranscripts | 6.900 | 0.627 | 7.527 | |
| plotUniprotKBFeatures | 6.198 | 0.457 | 7.591 | |
| splicingDistribution | 1.129 | 0.091 | 1.220 | |
| summary-Maser-method | 0.703 | 0.049 | 0.752 | |
| topEvents | 0.876 | 0.025 | 0.901 | |
| volcano | 1.213 | 0.011 | 1.225 | |