| Back to Multiple platform build/check report for BioC 3.21: simplified long |
|
This page was generated on 2025-10-16 11:40 -0400 (Thu, 16 Oct 2025).
| Hostname | OS | Arch (*) | R version | Installed pkgs |
|---|---|---|---|---|
| nebbiolo1 | Linux (Ubuntu 24.04.3 LTS) | x86_64 | 4.5.1 (2025-06-13) -- "Great Square Root" | 4833 |
| merida1 | macOS 12.7.6 Monterey | x86_64 | 4.5.1 RC (2025-06-05 r88288) -- "Great Square Root" | 4614 |
| kjohnson1 | macOS 13.7.5 Ventura | arm64 | 4.5.1 Patched (2025-06-14 r88325) -- "Great Square Root" | 4555 |
| kunpeng2 | Linux (openEuler 24.03 LTS) | aarch64 | R Under development (unstable) (2025-02-19 r87757) -- "Unsuffered Consequences" | 4586 |
| Click on any hostname to see more info about the system (e.g. compilers) (*) as reported by 'uname -p', except on Windows and Mac OS X | ||||
| Package 1044/2341 | Hostname | OS / Arch | INSTALL | BUILD | CHECK | BUILD BIN | ||||||||
| impute 1.82.0 (landing page) Balasubramanian Narasimhan
| nebbiolo1 | Linux (Ubuntu 24.04.3 LTS) / x86_64 | OK | OK | WARNINGS | |||||||||
| merida1 | macOS 12.7.6 Monterey / x86_64 | OK | OK | WARNINGS | OK | |||||||||
| kjohnson1 | macOS 13.7.5 Ventura / arm64 | OK | OK | WARNINGS | OK | |||||||||
| kunpeng2 | Linux (openEuler 24.03 LTS) / aarch64 | OK | OK | WARNINGS | ||||||||||
|
To the developers/maintainers of the impute package: - Allow up to 24 hours (and sometimes 48 hours) for your latest push to git@git.bioconductor.org:packages/impute.git to reflect on this report. See Troubleshooting Build Report for more information. - Use the following Renviron settings to reproduce errors and warnings. - If 'R CMD check' started to fail recently on the Linux builder(s) over a missing dependency, add the missing dependency to 'Suggests:' in your DESCRIPTION file. See Renviron.bioc for more information. |
| Package: impute |
| Version: 1.82.0 |
| Command: rm -rf impute.buildbin-libdir && mkdir impute.buildbin-libdir && /Users/biocbuild/BBS/utils/build-universal.sh impute_1.82.0.tar.gz /Library/Frameworks/R.framework/Resources/bin/R impute.buildbin-libdir |
| StartedAt: 2025-10-15 18:55:55 -0400 (Wed, 15 Oct 2025) |
| EndedAt: 2025-10-15 18:56:01 -0400 (Wed, 15 Oct 2025) |
| EllapsedTime: 5.6 seconds |
| RetCode: 0 |
| Status: OK |
| PackageFile: impute_1.82.0.tgz |
| PackageFileSize: 646.5 KiB |
##############################################################################
##############################################################################
###
### Running command:
###
### rm -rf impute.buildbin-libdir && mkdir impute.buildbin-libdir && /Users/biocbuild/BBS/utils/build-universal.sh impute_1.82.0.tar.gz /Library/Frameworks/R.framework/Resources/bin/R impute.buildbin-libdir
###
##############################################################################
##############################################################################
>>>>>>>
>>>>>>> INSTALLATION WITH 'R CMD INSTALL --preclean --no-multiarch --library=impute.buildbin-libdir impute_1.82.0.tar.gz'
>>>>>>>
* installing *source* package ‘impute’ ...
** this is package ‘impute’ version ‘1.82.0’
** using staged installation
** libs
using Fortran compiler: ‘GNU Fortran (GCC) 14.2.0’
using SDK: ‘MacOSX11.3.sdk’
/opt/gfortran/bin/gfortran -arch arm64 -fPIC -Wall -g -O2 -c knnimpute.f -o knnimpute.o
f951: Warning: Nonconforming tab character in column 1 of line 89 [-Wtabs]
f951: Warning: Nonconforming tab character in column 1 of line 91 [-Wtabs]
f951: Warning: Nonconforming tab character in column 1 of line 92 [-Wtabs]
f951: Warning: Nonconforming tab character in column 1 of line 93 [-Wtabs]
f951: Warning: Nonconforming tab character in column 1 of line 94 [-Wtabs]
f951: Warning: Nonconforming tab character in column 1 of line 95 [-Wtabs]
f951: Warning: Nonconforming tab character in column 1 of line 96 [-Wtabs]
f951: Warning: Nonconforming tab character in column 1 of line 97 [-Wtabs]
f951: Warning: Nonconforming tab character in column 1 of line 98 [-Wtabs]
f951: Warning: Nonconforming tab character in column 3 of line 99 [-Wtabs]
f951: Warning: Nonconforming tab character in column 1 of line 100 [-Wtabs]
f951: Warning: Nonconforming tab character in column 1 of line 101 [-Wtabs]
f951: Warning: Nonconforming tab character in column 1 of line 102 [-Wtabs]
f951: Warning: Nonconforming tab character in column 1 of line 103 [-Wtabs]
f951: Warning: Nonconforming tab character in column 3 of line 104 [-Wtabs]
f951: Warning: Nonconforming tab character in column 1 of line 105 [-Wtabs]
f951: Warning: Nonconforming tab character in column 1 of line 106 [-Wtabs]
f951: Warning: Nonconforming tab character in column 1 of line 107 [-Wtabs]
f951: Warning: Nonconforming tab character in column 1 of line 108 [-Wtabs]
f951: Warning: Nonconforming tab character in column 1 of line 109 [-Wtabs]
f951: Warning: Nonconforming tab character in column 1 of line 110 [-Wtabs]
f951: Warning: Nonconforming tab character in column 1 of line 111 [-Wtabs]
f951: Warning: Nonconforming tab character in column 1 of line 112 [-Wtabs]
f951: Warning: Nonconforming tab character in column 3 of line 113 [-Wtabs]
f951: Warning: Nonconforming tab character in column 1 of line 114 [-Wtabs]
f951: Warning: Nonconforming tab character in column 1 of line 115 [-Wtabs]
f951: Warning: Nonconforming tab character in column 1 of line 116 [-Wtabs]
f951: Warning: Nonconforming tab character in column 1 of line 117 [-Wtabs]
f951: Warning: Nonconforming tab character in column 3 of line 118 [-Wtabs]
f951: Warning: Nonconforming tab character in column 3 of line 119 [-Wtabs]
f951: Warning: Nonconforming tab character in column 3 of line 120 [-Wtabs]
f951: Warning: Nonconforming tab character in column 1 of line 121 [-Wtabs]
f951: Warning: Nonconforming tab character in column 1 of line 122 [-Wtabs]
knnimpute.f:99:72:
99 | 20 pos(k1+1) = pos(k1)
| 1
Warning: Fortran 2018 deleted feature: DO termination statement which is not END DO or CONTINUE with label 20 at (1)
knnimpute.f:113:72:
113 | 35 pos(k1+1) = pos(k1)
| 1
Warning: Fortran 2018 deleted feature: DO termination statement which is not END DO or CONTINUE with label 35 at (1)
knnimpute.f:168:72:
168 | ratio=dabs(dnew-dold)/dold
| ^
Warning: 'dold' may be used uninitialized [-Wmaybe-uninitialized]
knnimpute.f:132:33:
132 | double precision ratio,dold,dnew
| ^
note: 'dold' was declared here
clang -arch arm64 -std=gnu2x -dynamiclib -Wl,-headerpad_max_install_names -undefined dynamic_lookup -L/Library/Frameworks/R.framework/Resources/lib -L/opt/R/arm64/lib -o impute.so knnimpute.o -L/opt/gfortran/lib/gcc/aarch64-apple-darwin20.0/14.2.0 -L/opt/gfortran/lib -lemutls_w -lheapt_w -lgfortran -lquadmath -F/Library/Frameworks/R.framework/.. -framework R
installing to /Users/biocbuild/bbs-3.21-bioc/meat/impute.buildbin-libdir/00LOCK-impute/00new/impute/libs
** R
** data
** byte-compile and prepare package for lazy loading
** help
*** installing help indices
** building package indices
** testing if installed package can be loaded from temporary location
** checking absolute paths in shared objects and dynamic libraries
** testing if installed package can be loaded from final location
** testing if installed package keeps a record of temporary installation path
* DONE (impute)
>>>>>>>
>>>>>>> FIXING PATHS TO DYNAMIC LIBRARIES FOR impute.buildbin-libdir/impute/libs/impute.so
>>>>>>>
>>>>>>> Paths before fix:
impute.buildbin-libdir/impute/libs/impute.so:
impute.so (compatibility version 0.0.0, current version 0.0.0)
/opt/gfortran/lib/gcc/aarch64-apple-darwin20.0/14.2.0/libgfortran.5.dylib (compatibility version 6.0.0, current version 6.0.0)
/opt/gfortran/lib/gcc/aarch64-apple-darwin20.0/14.2.0/libquadmath.0.dylib (compatibility version 1.0.0, current version 1.0.0)
/Library/Frameworks/R.framework/Versions/4.5-arm64/Resources/lib/libR.dylib (compatibility version 4.5.0, current version 4.5.1)
/usr/lib/libSystem.B.dylib (compatibility version 1.0.0, current version 1292.100.5)
>>>>>>> Fix with install_name_tool:
install_name_tool -change "/usr/local/lib/libgcc_s.1.1.dylib" "/Library/Frameworks/R.framework/Versions/4.5-arm64/Resources/lib/libgcc_s.1.1.dylib" "impute.buildbin-libdir/impute/libs/impute.so"
install_name_tool -change "/usr/local/lib/libgfortran.5.dylib" "/Library/Frameworks/R.framework/Versions/4.5-arm64/Resources/lib/libgfortran.5.dylib" "impute.buildbin-libdir/impute/libs/impute.so"
install_name_tool -change "/usr/local/lib/libquadmath.0.dylib" "/Library/Frameworks/R.framework/Versions/4.5-arm64/Resources/lib/libquadmath.0.dylib" "impute.buildbin-libdir/impute/libs/impute.so"
install_name_tool -change "/opt/gfortran/lib/gcc/aarch64-apple-darwin20.0/14.2.0/libgfortran.5.dylib" "/Library/Frameworks/R.framework/Versions/4.5-arm64/Resources/lib/libgfortran.5.dylib" "impute.buildbin-libdir/impute/libs/impute.so"
install_name_tool -change "/opt/gfortran/lib/gcc/aarch64-apple-darwin20.0/14.2.0/libquadmath.0.dylib" "/Library/Frameworks/R.framework/Versions/4.5-arm64/Resources/lib/libquadmath.0.dylib" "impute.buildbin-libdir/impute/libs/impute.so"
>>>>>>> Paths after fix:
impute.buildbin-libdir/impute/libs/impute.so:
impute.so (compatibility version 0.0.0, current version 0.0.0)
/Library/Frameworks/R.framework/Versions/4.5-arm64/Resources/lib/libgfortran.5.dylib (compatibility version 6.0.0, current version 6.0.0)
/Library/Frameworks/R.framework/Versions/4.5-arm64/Resources/lib/libquadmath.0.dylib (compatibility version 1.0.0, current version 1.0.0)
/Library/Frameworks/R.framework/Versions/4.5-arm64/Resources/lib/libR.dylib (compatibility version 4.5.0, current version 4.5.1)
/usr/lib/libSystem.B.dylib (compatibility version 1.0.0, current version 1292.100.5)