| Back to Multiple platform build/check report for BioC 3.21: simplified long |
|
This page was generated on 2025-04-22 13:16 -0400 (Tue, 22 Apr 2025).
| Hostname | OS | Arch (*) | R version | Installed pkgs |
|---|---|---|---|---|
| nebbiolo1 | Linux (Ubuntu 24.04.1 LTS) | x86_64 | 4.5.0 RC (2025-04-04 r88126) -- "How About a Twenty-Six" | 4831 |
| palomino7 | Windows Server 2022 Datacenter | x64 | 4.5.0 RC (2025-04-04 r88126 ucrt) -- "How About a Twenty-Six" | 4573 |
| lconway | macOS 12.7.1 Monterey | x86_64 | 4.5.0 RC (2025-04-04 r88126) -- "How About a Twenty-Six" | 4599 |
| kjohnson3 | macOS 13.7.1 Ventura | arm64 | 4.5.0 RC (2025-04-04 r88126) -- "How About a Twenty-Six" | 4553 |
| kunpeng2 | Linux (openEuler 24.03 LTS) | aarch64 | R Under development (unstable) (2025-02-19 r87757) -- "Unsuffered Consequences" | 4570 |
| Click on any hostname to see more info about the system (e.g. compilers) (*) as reported by 'uname -p', except on Windows and Mac OS X | ||||
| Package 987/2341 | Hostname | OS / Arch | INSTALL | BUILD | CHECK | BUILD BIN | ||||||||
| hiReadsProcessor 1.44.0 (landing page) Nirav V Malani
| nebbiolo1 | Linux (Ubuntu 24.04.1 LTS) / x86_64 | OK | OK | OK | |||||||||
| palomino7 | Windows Server 2022 Datacenter / x64 | ... NOT SUPPORTED ... | ||||||||||||
| lconway | macOS 12.7.1 Monterey / x86_64 | OK | OK | OK | OK | |||||||||
| kjohnson3 | macOS 13.7.1 Ventura / arm64 | OK | OK | OK | OK | |||||||||
| kunpeng2 | Linux (openEuler 24.03 LTS) / aarch64 | OK | OK | OK | ||||||||||
|
To the developers/maintainers of the hiReadsProcessor package: - Allow up to 24 hours (and sometimes 48 hours) for your latest push to git@git.bioconductor.org:packages/hiReadsProcessor.git to reflect on this report. See Troubleshooting Build Report for more information. - Use the following Renviron settings to reproduce errors and warnings. - If 'R CMD check' started to fail recently on the Linux builder(s) over a missing dependency, add the missing dependency to 'Suggests:' in your DESCRIPTION file. See Renviron.bioc for more information. |
| Package: hiReadsProcessor |
| Version: 1.44.0 |
| Command: /Library/Frameworks/R.framework/Resources/bin/R CMD check --install=check:hiReadsProcessor.install-out.txt --library=/Library/Frameworks/R.framework/Resources/library --no-vignettes --timings hiReadsProcessor_1.44.0.tar.gz |
| StartedAt: 2025-04-21 21:16:33 -0400 (Mon, 21 Apr 2025) |
| EndedAt: 2025-04-21 21:21:33 -0400 (Mon, 21 Apr 2025) |
| EllapsedTime: 299.6 seconds |
| RetCode: 0 |
| Status: OK |
| CheckDir: hiReadsProcessor.Rcheck |
| Warnings: 0 |
##############################################################################
##############################################################################
###
### Running command:
###
### /Library/Frameworks/R.framework/Resources/bin/R CMD check --install=check:hiReadsProcessor.install-out.txt --library=/Library/Frameworks/R.framework/Resources/library --no-vignettes --timings hiReadsProcessor_1.44.0.tar.gz
###
##############################################################################
##############################################################################
* using log directory ‘/Users/biocbuild/bbs-3.21-bioc/meat/hiReadsProcessor.Rcheck’
* using R version 4.5.0 RC (2025-04-04 r88126)
* using platform: x86_64-apple-darwin20
* R was compiled by
Apple clang version 14.0.0 (clang-1400.0.29.202)
GNU Fortran (GCC) 14.2.0
* running under: macOS Monterey 12.7.6
* using session charset: UTF-8
* using option ‘--no-vignettes’
* checking for file ‘hiReadsProcessor/DESCRIPTION’ ... OK
* this is package ‘hiReadsProcessor’ version ‘1.44.0’
* checking package namespace information ... OK
* checking package dependencies ... OK
* checking if this is a source package ... OK
* checking if there is a namespace ... OK
* checking for hidden files and directories ... NOTE
Found the following hidden files and directories:
.BBSoptions
These were most likely included in error. See section ‘Package
structure’ in the ‘Writing R Extensions’ manual.
* checking for portable file names ... OK
* checking for sufficient/correct file permissions ... OK
* checking whether package ‘hiReadsProcessor’ can be installed ... OK
* checking installed package size ... OK
* checking package directory ... OK
* checking ‘build’ directory ... OK
* checking DESCRIPTION meta-information ... OK
* checking top-level files ... OK
* checking for left-over files ... OK
* checking index information ... OK
* checking package subdirectories ... OK
* checking code files for non-ASCII characters ... OK
* checking R files for syntax errors ... OK
* checking whether the package can be loaded ... OK
* checking whether the package can be loaded with stated dependencies ... OK
* checking whether the package can be unloaded cleanly ... OK
* checking whether the namespace can be loaded with stated dependencies ... OK
* checking whether the namespace can be unloaded cleanly ... OK
* checking dependencies in R code ... OK
* checking S3 generic/method consistency ... OK
* checking replacement functions ... OK
* checking foreign function calls ... OK
* checking R code for possible problems ... NOTE
chunkize: no visible global function definition for ‘breakInChunks’
chunkize: no visible global function definition for ‘detectCores’
clusterSites : <anonymous>: no visible binding for global variable
‘queryHits’
clusterSites: no visible binding for global variable ‘clusteredValue’
clusterSites: no visible binding for global variable
‘clusteredValue.freq’
crossOverCheck: no visible binding for global variable ‘queryHits’
decodeByBarcode: no visible global function definition for ‘metadata<-’
decodeByBarcode: no visible global function definition for ‘metadata’
extractSeqs : <anonymous>: no visible global function definition for
‘metadata’
extractSeqs : <anonymous> : <anonymous> : <anonymous>: no visible
global function definition for ‘IRanges’
extractSeqs : <anonymous> : <anonymous>: no visible global function
definition for ‘IRanges’
findBarcodes: no visible global function definition for ‘metadata<-’
findBarcodes: no visible global function definition for ‘metadata’
findIntegrations: no visible global function definition for
‘fasta.info’
findIntegrations : <anonymous>: no visible global function definition
for ‘IRanges’
findVector : <anonymous>: no visible global function definition for
‘IRanges’
pairUpAlignments : <anonymous>: no visible binding for global variable
‘queryHits’
pairwiseAlignSeqs: no visible global function definition for
‘IRangesList’
pairwiseAlignSeqs: no visible global function definition for ‘IRanges’
primerIDAlignSeqs: no visible global function definition for ‘IRanges’
primerIDAlignSeqs: no visible global function definition for
‘IRangesList’
pslToRangedObject: no visible global function definition for ‘IRanges’
read.BAMasPSL: no visible global function definition for ‘ScanBamParam’
read.BAMasPSL: no visible global function definition for ‘scanBamFlag’
read.BAMasPSL: no visible global function definition for ‘DataFrame’
read.SeqFolder: no visible global function definition for ‘SimpleList’
read.psl: no visible global function definition for ‘mclapply’
read.psl : <anonymous>: no visible binding for global variable
‘matches’
read.psl : <anonymous>: no visible binding for global variable
‘misMatches’
read.psl : <anonymous>: no visible binding for global variable
‘qBaseInsert’
read.psl : <anonymous>: no visible binding for global variable
‘tBaseInsert’
read.psl: no visible binding for global variable ‘matches’
read.psl: no visible binding for global variable ‘misMatches’
read.psl: no visible binding for global variable ‘qBaseInsert’
read.psl: no visible binding for global variable ‘tBaseInsert’
read.sampleInfo: no visible global function definition for ‘SimpleList’
splitSeqsToFiles: no visible global function definition for
‘fasta.info’
vpairwiseAlignSeqs: no visible global function definition for ‘Rle’
vpairwiseAlignSeqs: no visible global function definition for
‘runLength’
vpairwiseAlignSeqs: no visible global function definition for ‘IRanges’
vpairwiseAlignSeqs: no visible global function definition for
‘runValue’
Undefined global functions or variables:
DataFrame IRanges IRangesList Rle ScanBamParam SimpleList
breakInChunks clusteredValue clusteredValue.freq detectCores
fasta.info matches mclapply metadata metadata<- misMatches
qBaseInsert queryHits runLength runValue scanBamFlag tBaseInsert
* checking Rd files ... OK
* checking Rd metadata ... OK
* checking Rd cross-references ... NOTE
Found the following Rd file(s) with Rd \link{} targets missing package
anchors:
annotateSites.Rd: SerialParam, doAnnotation
blatSeqs.Rd: BiocParallel, SerialParam
clusterSites.Rd: BiocParallel, SerialParam
doRCtest.Rd: vcountPattern, BiocParallel, SerialParam
findAndRemoveVector.Rd: BiocParallel, SerialParam, MulticoreParam,
SnowParam
findAndTrimSeq.Rd: vmatchPattern, pairwiseAlignment, MulticoreParam,
SnowParam
findIntegrations.Rd: BiocParallel, SerialParam, MulticoreParam,
SnowParam
findLTRs.Rd: BiocParallel, SerialParam, pairwiseAlignment,
MulticoreParam, SnowParam
findLinkers.Rd: BiocParallel, SerialParam, pairwiseAlignment,
MulticoreParam, SnowParam
findPrimers.Rd: vmatchPattern, pairwiseAlignment, SerialParam,
MulticoreParam, SnowParam
findVector.Rd: BiocParallel, SerialParam, MulticoreParam, SnowParam
getSonicAbund.Rd: sonicLength, BiocParallel, SerialParam
isuSites.Rd: BiocParallel, SerialParam
otuSites.Rd: BiocParallel, SerialParam
pairUpAlignments.Rd: BiocParallel, SerialParam
pairwiseAlignSeqs.Rd: pairwiseAlignment, BiocParallel, SerialParam,
MulticoreParam, SnowParam
primerIDAlignSeqs.Rd: pairwiseAlignment
read.blast8.Rd: BiocParallel, SerialParam, MulticoreParam, SnowParam
read.psl.Rd: BiocParallel, SerialParam, MulticoreParam, SnowParam
troubleshootLinkers.Rd: BiocParallel, SerialParam, pairwiseAlignment,
MulticoreParam, SnowParam
vpairwiseAlignSeqs.Rd: vmatchPattern, BiocParallel, SerialParam,
MulticoreParam, SnowParam
write.listedDNAStringSet.Rd: BiocParallel, SerialParam,
writeXStringSet, MulticoreParam, SnowParam
Please provide package anchors for all Rd \link{} targets not in the
package itself and the base packages.
* checking for missing documentation entries ... OK
* checking for code/documentation mismatches ... OK
* checking Rd \usage sections ... OK
* checking Rd contents ... OK
* checking for unstated dependencies in examples ... OK
* checking contents of ‘data’ directory ... OK
* checking data for non-ASCII characters ... OK
* checking data for ASCII and uncompressed saves ... OK
* checking files in ‘vignettes’ ... OK
* checking examples ... OK
* checking for unstated dependencies in vignettes ... OK
* checking package vignettes ... OK
* checking running R code from vignettes ... SKIPPED
* checking re-building of vignette outputs ... SKIPPED
* checking PDF version of manual ... OK
* DONE
Status: 3 NOTEs
See
‘/Users/biocbuild/bbs-3.21-bioc/meat/hiReadsProcessor.Rcheck/00check.log’
for details.
hiReadsProcessor.Rcheck/00install.out
############################################################################## ############################################################################## ### ### Running command: ### ### /Library/Frameworks/R.framework/Resources/bin/R CMD INSTALL hiReadsProcessor ### ############################################################################## ############################################################################## * installing to library ‘/Library/Frameworks/R.framework/Versions/4.5-x86_64/Resources/library’ * installing *source* package ‘hiReadsProcessor’ ... ** this is package ‘hiReadsProcessor’ version ‘1.44.0’ ** using staged installation ** R ** data ** inst ** byte-compile and prepare package for lazy loading ** help *** installing help indices ** building package indices ** installing vignettes ** testing if installed package can be loaded from temporary location ** testing if installed package can be loaded from final location ** testing if installed package keeps a record of temporary installation path * DONE (hiReadsProcessor)
hiReadsProcessor.Rcheck/hiReadsProcessor-Ex.timings
| name | user | system | elapsed | |
| addFeature | 0.184 | 0.016 | 0.200 | |
| addListNameToReads | 0.256 | 0.021 | 0.279 | |
| annotateSites | 0.001 | 0.000 | 0.000 | |
| blatSeqs | 0 | 0 | 0 | |
| chunkize | 0.029 | 0.004 | 0.033 | |
| clusterSites | 0.329 | 0.016 | 0.346 | |
| crossOverCheck | 0.094 | 0.001 | 0.094 | |
| dereplicateReads | 0.038 | 0.001 | 0.038 | |
| doRCtest | 3.251 | 0.142 | 3.335 | |
| extractFeature | 0.112 | 0.040 | 0.153 | |
| extractSeqs | 0.393 | 0.040 | 0.435 | |
| findAndTrimSeq | 1.200 | 0.196 | 1.404 | |
| findBarcodes | 0.839 | 0.006 | 0.850 | |
| findIntegrations | 0.001 | 0.000 | 0.000 | |
| findLTRs | 0.000 | 0.001 | 0.000 | |
| findLinkers | 0.000 | 0.000 | 0.001 | |
| findPrimers | 0.001 | 0.000 | 0.000 | |
| findVector | 0 | 0 | 0 | |
| getIntegrationSites | 1.838 | 0.016 | 1.865 | |
| getSectorsForSamples | 0.081 | 0.003 | 0.085 | |
| getSonicAbund | 0.389 | 0.278 | 0.638 | |
| isuSites | 3.730 | 0.216 | 3.967 | |
| otuSites | 4.205 | 0.024 | 4.252 | |
| pairUpAlignments | 0 | 0 | 0 | |
| pairwiseAlignSeqs | 2.268 | 0.746 | 2.902 | |
| primerIDAlignSeqs | 2.997 | 0.441 | 3.397 | |
| pslCols | 0.000 | 0.000 | 0.001 | |
| pslToRangedObject | 0.199 | 0.007 | 0.208 | |
| read.BAMasPSL | 0 | 0 | 0 | |
| read.SeqFolder | 1.083 | 0.038 | 1.134 | |
| read.blast8 | 0 | 0 | 0 | |
| read.psl | 0 | 0 | 0 | |
| read.sampleInfo | 1.048 | 0.012 | 1.066 | |
| read.seqsFromSector | 0 | 0 | 0 | |
| removeReadsWithNs | 0.021 | 0.001 | 0.022 | |
| replicateReads | 0.043 | 0.002 | 0.045 | |
| sampleSummary | 0.659 | 0.018 | 0.681 | |
| splitByBarcode | 0.030 | 0.001 | 0.031 | |
| splitSeqsToFiles | 0.152 | 0.007 | 0.160 | |
| startgfServer | 0 | 0 | 0 | |
| trimSeqs | 0.028 | 0.002 | 0.032 | |
| vpairwiseAlignSeqs | 2.123 | 0.700 | 2.724 | |
| write.listedDNAStringSet | 0.000 | 0.000 | 0.001 | |
| write.psl | 0.019 | 0.004 | 0.023 | |