| Back to Multiple platform build/check report for BioC 3.21: simplified long |
|
This page was generated on 2025-04-22 13:18 -0400 (Tue, 22 Apr 2025).
| Hostname | OS | Arch (*) | R version | Installed pkgs |
|---|---|---|---|---|
| nebbiolo1 | Linux (Ubuntu 24.04.1 LTS) | x86_64 | 4.5.0 RC (2025-04-04 r88126) -- "How About a Twenty-Six" | 4831 |
| palomino7 | Windows Server 2022 Datacenter | x64 | 4.5.0 RC (2025-04-04 r88126 ucrt) -- "How About a Twenty-Six" | 4573 |
| lconway | macOS 12.7.1 Monterey | x86_64 | 4.5.0 RC (2025-04-04 r88126) -- "How About a Twenty-Six" | 4599 |
| kjohnson3 | macOS 13.7.1 Ventura | arm64 | 4.5.0 RC (2025-04-04 r88126) -- "How About a Twenty-Six" | 4553 |
| kunpeng2 | Linux (openEuler 24.03 LTS) | aarch64 | R Under development (unstable) (2025-02-19 r87757) -- "Unsuffered Consequences" | 4570 |
| Click on any hostname to see more info about the system (e.g. compilers) (*) as reported by 'uname -p', except on Windows and Mac OS X | ||||
| Package 791/2341 | Hostname | OS / Arch | INSTALL | BUILD | CHECK | BUILD BIN | ||||||||
| gDNAx 1.6.0 (landing page) Robert Castelo
| nebbiolo1 | Linux (Ubuntu 24.04.1 LTS) / x86_64 | OK | OK | OK | |||||||||
| palomino7 | Windows Server 2022 Datacenter / x64 | OK | ERROR | skipped | skipped | |||||||||
| lconway | macOS 12.7.1 Monterey / x86_64 | OK | OK | OK | OK | |||||||||
| kjohnson3 | macOS 13.7.1 Ventura / arm64 | OK | OK | OK | OK | |||||||||
| kunpeng2 | Linux (openEuler 24.03 LTS) / aarch64 | OK | OK | OK | ||||||||||
|
To the developers/maintainers of the gDNAx package: - Allow up to 24 hours (and sometimes 48 hours) for your latest push to git@git.bioconductor.org:packages/gDNAx.git to reflect on this report. See Troubleshooting Build Report for more information. - Use the following Renviron settings to reproduce errors and warnings. - If 'R CMD check' started to fail recently on the Linux builder(s) over a missing dependency, add the missing dependency to 'Suggests:' in your DESCRIPTION file. See Renviron.bioc for more information. |
| Package: gDNAx |
| Version: 1.6.0 |
| Command: /Library/Frameworks/R.framework/Resources/bin/R CMD check --install=check:gDNAx.install-out.txt --library=/Library/Frameworks/R.framework/Resources/library --no-vignettes --timings gDNAx_1.6.0.tar.gz |
| StartedAt: 2025-04-21 19:28:54 -0400 (Mon, 21 Apr 2025) |
| EndedAt: 2025-04-21 19:34:54 -0400 (Mon, 21 Apr 2025) |
| EllapsedTime: 360.3 seconds |
| RetCode: 0 |
| Status: OK |
| CheckDir: gDNAx.Rcheck |
| Warnings: 0 |
##############################################################################
##############################################################################
###
### Running command:
###
### /Library/Frameworks/R.framework/Resources/bin/R CMD check --install=check:gDNAx.install-out.txt --library=/Library/Frameworks/R.framework/Resources/library --no-vignettes --timings gDNAx_1.6.0.tar.gz
###
##############################################################################
##############################################################################
* using log directory ‘/Users/biocbuild/bbs-3.21-bioc/meat/gDNAx.Rcheck’
* using R version 4.5.0 RC (2025-04-04 r88126)
* using platform: aarch64-apple-darwin20
* R was compiled by
Apple clang version 14.0.0 (clang-1400.0.29.202)
GNU Fortran (GCC) 14.2.0
* running under: macOS Ventura 13.7.1
* using session charset: UTF-8
* using option ‘--no-vignettes’
* checking for file ‘gDNAx/DESCRIPTION’ ... OK
* checking extension type ... Package
* this is package ‘gDNAx’ version ‘1.6.0’
* package encoding: UTF-8
* checking package namespace information ... OK
* checking package dependencies ... OK
* checking if this is a source package ... OK
* checking if there is a namespace ... OK
* checking for hidden files and directories ... OK
* checking for portable file names ... OK
* checking for sufficient/correct file permissions ... OK
* checking whether package ‘gDNAx’ can be installed ... OK
* checking installed package size ... OK
* checking package directory ... OK
* checking ‘build’ directory ... OK
* checking DESCRIPTION meta-information ... OK
* checking top-level files ... OK
* checking for left-over files ... OK
* checking index information ... OK
* checking package subdirectories ... OK
* checking code files for non-ASCII characters ... OK
* checking R files for syntax errors ... OK
* checking whether the package can be loaded ... OK
* checking whether the package can be loaded with stated dependencies ... OK
* checking whether the package can be unloaded cleanly ... OK
* checking whether the namespace can be loaded with stated dependencies ... OK
* checking whether the namespace can be unloaded cleanly ... OK
* checking dependencies in R code ... NOTE
Unexported objects imported by ':::' calls:
‘GenomicAlignments:::.make_GAlignmentPairs_from_GAlignments’
‘GenomicAlignments:::.normargParam’ ‘S4Vectors:::makePowersOfTwo’
See the note in ?`:::` about the use of this operator.
* checking S3 generic/method consistency ... OK
* checking replacement functions ... OK
* checking foreign function calls ... OK
* checking R code for possible problems ... OK
* checking Rd files ... OK
* checking Rd metadata ... OK
* checking Rd cross-references ... OK
* checking for missing documentation entries ... OK
* checking for code/documentation mismatches ... OK
* checking Rd \usage sections ... OK
* checking Rd contents ... OK
* checking for unstated dependencies in examples ... OK
* checking files in ‘vignettes’ ... OK
* checking examples ... OK
Examples with CPU (user + system) or elapsed time > 5s
user system elapsed
filterBAMtx 36.362 3.020 46.528
gDNAtx 33.872 2.907 43.083
gDNAx-class 32.073 2.312 39.600
gDNAdx 28.833 2.455 36.831
strandedness 11.085 1.029 16.979
* checking for unstated dependencies in ‘tests’ ... OK
* checking tests ...
Running ‘runTests.R’
OK
* checking for unstated dependencies in vignettes ... OK
* checking package vignettes ... OK
* checking running R code from vignettes ... SKIPPED
* checking re-building of vignette outputs ... SKIPPED
* checking PDF version of manual ... OK
* DONE
Status: 1 NOTE
See
‘/Users/biocbuild/bbs-3.21-bioc/meat/gDNAx.Rcheck/00check.log’
for details.
gDNAx.Rcheck/00install.out
############################################################################## ############################################################################## ### ### Running command: ### ### /Library/Frameworks/R.framework/Resources/bin/R CMD INSTALL gDNAx ### ############################################################################## ############################################################################## * installing to library ‘/Library/Frameworks/R.framework/Versions/4.5-arm64/Resources/library’ * installing *source* package ‘gDNAx’ ... ** this is package ‘gDNAx’ version ‘1.6.0’ ** using staged installation ** R ** inst ** byte-compile and prepare package for lazy loading ** help *** installing help indices ** building package indices ** installing vignettes ** testing if installed package can be loaded from temporary location ** testing if installed package can be loaded from final location ** testing if installed package keeps a record of temporary installation path * DONE (gDNAx)
gDNAx.Rcheck/tests/runTests.Rout
R version 4.5.0 RC (2025-04-04 r88126) -- "How About a Twenty-Six"
Copyright (C) 2025 The R Foundation for Statistical Computing
Platform: aarch64-apple-darwin20
R is free software and comes with ABSOLUTELY NO WARRANTY.
You are welcome to redistribute it under certain conditions.
Type 'license()' or 'licence()' for distribution details.
R is a collaborative project with many contributors.
Type 'contributors()' for more information and
'citation()' on how to cite R or R packages in publications.
Type 'demo()' for some demos, 'help()' for on-line help, or
'help.start()' for an HTML browser interface to help.
Type 'q()' to quit R.
> require("gDNAx") || stop("unable to load gDNAx package")
Loading required package: gDNAx
[1] TRUE
> BiocGenerics:::testPackage("gDNAx")
Loading required package: GenomicFeatures
Loading required package: BiocGenerics
Loading required package: generics
Attaching package: 'generics'
The following objects are masked from 'package:base':
as.difftime, as.factor, as.ordered, intersect, is.element, setdiff,
setequal, union
Attaching package: 'BiocGenerics'
The following objects are masked from 'package:stats':
IQR, mad, sd, var, xtabs
The following objects are masked from 'package:base':
Filter, Find, Map, Position, Reduce, anyDuplicated, aperm, append,
as.data.frame, basename, cbind, colnames, dirname, do.call,
duplicated, eval, evalq, get, grep, grepl, is.unsorted, lapply,
mapply, match, mget, order, paste, pmax, pmax.int, pmin, pmin.int,
rank, rbind, rownames, sapply, saveRDS, table, tapply, unique,
unsplit, which.max, which.min
Loading required package: S4Vectors
Loading required package: stats4
Attaching package: 'S4Vectors'
The following object is masked from 'package:utils':
findMatches
The following objects are masked from 'package:base':
I, expand.grid, unname
Loading required package: IRanges
Loading required package: GenomeInfoDb
Loading required package: GenomicRanges
Loading required package: AnnotationDbi
Loading required package: Biobase
Welcome to Bioconductor
Vignettes contain introductory material; view with
'browseVignettes()'. To cite Bioconductor, see
'citation("Biobase")', and for packages 'citation("pkgname")'.
see ?gDNAinRNAseqData and browseVignettes('gDNAinRNAseqData') for documentation
loading from cache
require("Rsamtools")
see ?gDNAinRNAseqData and browseVignettes('gDNAinRNAseqData') for documentation
loading from cache
see ?gDNAinRNAseqData and browseVignettes('gDNAinRNAseqData') for documentation
loading from cache
see ?gDNAinRNAseqData and browseVignettes('gDNAinRNAseqData') for documentation
loading from cache
see ?gDNAinRNAseqData and browseVignettes('gDNAinRNAseqData') for documentation
loading from cache
see ?gDNAinRNAseqData and browseVignettes('gDNAinRNAseqData') for documentation
loading from cache
see ?gDNAinRNAseqData and browseVignettes('gDNAinRNAseqData') for documentation
loading from cache
see ?gDNAinRNAseqData and browseVignettes('gDNAinRNAseqData') for documentation
loading from cache
see ?gDNAinRNAseqData and browseVignettes('gDNAinRNAseqData') for documentation
loading from cache
! 2 BAM files had < 200000 alignments overlapping exonic regions
ℹ Library layout: paired-end, 9 (2x50nt).
see ?gDNAinRNAseqData and browseVignettes('gDNAinRNAseqData') for documentation
loading from cache
see ?gDNAinRNAseqData and browseVignettes('gDNAinRNAseqData') for documentation
loading from cache
see ?gDNAinRNAseqData and browseVignettes('gDNAinRNAseqData') for documentation
loading from cache
see ?gDNAinRNAseqData and browseVignettes('gDNAinRNAseqData') for documentation
loading from cache
see ?gDNAinRNAseqData and browseVignettes('gDNAinRNAseqData') for documentation
loading from cache
see ?gDNAinRNAseqData and browseVignettes('gDNAinRNAseqData') for documentation
loading from cache
see ?gDNAinRNAseqData and browseVignettes('gDNAinRNAseqData') for documentation
loading from cache
see ?gDNAinRNAseqData and browseVignettes('gDNAinRNAseqData') for documentation
loading from cache
see ?gDNAinRNAseqData and browseVignettes('gDNAinRNAseqData') for documentation
loading from cache
! 2 BAM files had < 200000 alignments overlapping exonic regions
RUNIT TEST PROTOCOL -- Mon Apr 21 19:34:51 2025
***********************************************
Number of test functions: 7
Number of errors: 0
Number of failures: 0
1 Test Suite :
gDNAx RUnit Tests - 7 test functions, 0 errors, 0 failures
Number of test functions: 7
Number of errors: 0
Number of failures: 0
>
> proc.time()
user system elapsed
49.189 3.927 63.931
gDNAx.Rcheck/gDNAx-Ex.timings
| name | user | system | elapsed | |
| filterBAMtx | 36.362 | 3.020 | 46.528 | |
| gDNAdx | 28.833 | 2.455 | 36.831 | |
| gDNAtx | 33.872 | 2.907 | 43.083 | |
| gDNAx-class | 32.073 | 2.312 | 39.600 | |
| strandedness | 11.085 | 1.029 | 16.979 | |