| Back to Multiple platform build/check report for BioC 3.22: simplified long |
|
This page was generated on 2025-11-24 12:04 -0500 (Mon, 24 Nov 2025).
| Hostname | OS | Arch (*) | R version | Installed pkgs |
|---|---|---|---|---|
| nebbiolo2 | Linux (Ubuntu 24.04.3 LTS) | x86_64 | 4.5.2 (2025-10-31) -- "[Not] Part in a Rumble" | 4873 |
| merida1 | macOS 12.7.6 Monterey | x86_64 | 4.5.2 Patched (2025-11-05 r88990) -- "[Not] Part in a Rumble" | 4654 |
| kjohnson1 | macOS 13.7.5 Ventura | arm64 | 4.5.2 Patched (2025-11-04 r88984) -- "[Not] Part in a Rumble" | 4600 |
| taishan | Linux (openEuler 24.03 LTS) | aarch64 | 4.5.0 (2025-04-11) -- "How About a Twenty-Six" | 4668 |
| Click on any hostname to see more info about the system (e.g. compilers) (*) as reported by 'uname -p', except on Windows and Mac OS X | ||||
| Package 758/2361 | Hostname | OS / Arch | INSTALL | BUILD | CHECK | BUILD BIN | ||||||||
| flowGraph 1.18.0 (landing page) Alice Yue
| nebbiolo2 | Linux (Ubuntu 24.04.3 LTS) / x86_64 | OK | OK | OK | |||||||||
| merida1 | macOS 12.7.6 Monterey / x86_64 | OK | OK | OK | OK | |||||||||
| kjohnson1 | macOS 13.7.5 Ventura / arm64 | OK | OK | OK | OK | |||||||||
| taishan | Linux (openEuler 24.03 LTS) / aarch64 | OK | OK | OK | ||||||||||
|
To the developers/maintainers of the flowGraph package: - Allow up to 24 hours (and sometimes 48 hours) for your latest push to git@git.bioconductor.org:packages/flowGraph.git to reflect on this report. See Troubleshooting Build Report for more information. - Use the following Renviron settings to reproduce errors and warnings. - If 'R CMD check' started to fail recently on the Linux builder(s) over a missing dependency, add the missing dependency to 'Suggests:' in your DESCRIPTION file. See Renviron.bioc for more information. |
| Package: flowGraph |
| Version: 1.18.0 |
| Command: /Library/Frameworks/R.framework/Resources/bin/R CMD check --install=check:flowGraph.install-out.txt --library=/Library/Frameworks/R.framework/Resources/library --no-vignettes --timings flowGraph_1.18.0.tar.gz |
| StartedAt: 2025-11-21 05:12:54 -0500 (Fri, 21 Nov 2025) |
| EndedAt: 2025-11-21 05:23:24 -0500 (Fri, 21 Nov 2025) |
| EllapsedTime: 629.3 seconds |
| RetCode: 0 |
| Status: OK |
| CheckDir: flowGraph.Rcheck |
| Warnings: 0 |
##############################################################################
##############################################################################
###
### Running command:
###
### /Library/Frameworks/R.framework/Resources/bin/R CMD check --install=check:flowGraph.install-out.txt --library=/Library/Frameworks/R.framework/Resources/library --no-vignettes --timings flowGraph_1.18.0.tar.gz
###
##############################################################################
##############################################################################
* using log directory ‘/Users/biocbuild/bbs-3.22-bioc/meat/flowGraph.Rcheck’
* using R version 4.5.2 Patched (2025-11-05 r88990)
* using platform: x86_64-apple-darwin20
* R was compiled by
Apple clang version 14.0.0 (clang-1400.0.29.202)
GNU Fortran (GCC) 14.2.0
* running under: macOS Monterey 12.7.6
* using session charset: UTF-8
* using option ‘--no-vignettes’
* checking for file ‘flowGraph/DESCRIPTION’ ... OK
* checking extension type ... Package
* this is package ‘flowGraph’ version ‘1.18.0’
* checking package namespace information ... OK
* checking package dependencies ... OK
* checking if this is a source package ... OK
* checking if there is a namespace ... OK
* checking for hidden files and directories ... OK
* checking for portable file names ... OK
* checking for sufficient/correct file permissions ... OK
* checking whether package ‘flowGraph’ can be installed ... OK
* checking installed package size ... OK
* checking package directory ... OK
* checking ‘build’ directory ... OK
* checking DESCRIPTION meta-information ... OK
* checking top-level files ... OK
* checking for left-over files ... OK
* checking index information ... OK
* checking package subdirectories ... OK
* checking code files for non-ASCII characters ... OK
* checking R files for syntax errors ... OK
* checking whether the package can be loaded ... OK
* checking whether the package can be loaded with stated dependencies ... OK
* checking whether the package can be unloaded cleanly ... OK
* checking whether the namespace can be loaded with stated dependencies ... OK
* checking whether the namespace can be unloaded cleanly ... OK
* checking dependencies in R code ... OK
* checking S3 generic/method consistency ... OK
* checking replacement functions ... OK
* checking foreign function calls ... OK
* checking R code for possible problems ... NOTE
get_child: no visible binding for global variable ‘no_cores’
get_paren: no visible binding for global variable ‘no_cores’
ms_psig: no visible binding for global variable ‘meta’
Undefined global functions or variables:
meta no_cores
* checking Rd files ... NOTE
checkRd: (-1) fg_get_graph.Rd:13: Lost braces
13 | A list containing two data frames (\code{v} and ]code{e})
| ^
checkRd: (-1) ggdf.Rd:22: Lost braces
22 | code{ggdf} adds to the data frames \code{v} and \code{e} in slot
| ^
* checking Rd metadata ... OK
* checking Rd cross-references ... OK
* checking for missing documentation entries ... OK
* checking for code/documentation mismatches ... OK
* checking Rd \usage sections ... OK
* checking Rd contents ... OK
* checking for unstated dependencies in examples ... OK
* checking contents of ‘data’ directory ... OK
* checking data for non-ASCII characters ... OK
* checking data for ASCII and uncompressed saves ... OK
* checking files in ‘vignettes’ ... OK
* checking examples ... OK
Examples with CPU (user + system) or elapsed time > 5s
user system elapsed
fg_save_plots 114.847 0.798 123.013
fg_load 114.178 0.981 124.231
fg_save 113.515 0.739 123.058
* checking for unstated dependencies in ‘tests’ ... OK
* checking tests ...
Running ‘testthat.R’
OK
* checking for unstated dependencies in vignettes ... OK
* checking package vignettes ... OK
* checking running R code from vignettes ... SKIPPED
* checking re-building of vignette outputs ... SKIPPED
* checking PDF version of manual ... OK
* DONE
Status: 2 NOTEs
See
‘/Users/biocbuild/bbs-3.22-bioc/meat/flowGraph.Rcheck/00check.log’
for details.
flowGraph.Rcheck/00install.out
############################################################################## ############################################################################## ### ### Running command: ### ### /Library/Frameworks/R.framework/Resources/bin/R CMD INSTALL flowGraph ### ############################################################################## ############################################################################## * installing to library ‘/Library/Frameworks/R.framework/Versions/4.5-x86_64/Resources/library’ * installing *source* package ‘flowGraph’ ... ** this is package ‘flowGraph’ version ‘1.18.0’ ** using staged installation ** R ** data ** inst ** byte-compile and prepare package for lazy loading ** help Loading required namespace: flowGraph *** installing help indices ** building package indices ** installing vignettes ** testing if installed package can be loaded from temporary location ** testing if installed package can be loaded from final location ** testing if installed package keeps a record of temporary installation path * DONE (flowGraph)
flowGraph.Rcheck/tests/testthat.Rout
R version 4.5.2 Patched (2025-11-05 r88990) -- "[Not] Part in a Rumble"
Copyright (C) 2025 The R Foundation for Statistical Computing
Platform: x86_64-apple-darwin20
R is free software and comes with ABSOLUTELY NO WARRANTY.
You are welcome to redistribute it under certain conditions.
Type 'license()' or 'licence()' for distribution details.
R is a collaborative project with many contributors.
Type 'contributors()' for more information and
'citation()' on how to cite R or R packages in publications.
Type 'demo()' for some demos, 'help()' for on-line help, or
'help.start()' for an HTML browser interface to help.
Type 'q()' to quit R.
> library(testthat)
> library(flowGraph)
>
> test_check("flowGraph")
[ FAIL 0 | WARN 1 | SKIP 0 | PASS 34 ]
[ FAIL 0 | WARN 1 | SKIP 0 | PASS 34 ]
>
> proc.time()
user system elapsed
13.004 0.673 14.462
flowGraph.Rcheck/flowGraph-Ex.timings
| name | user | system | elapsed | |
| cell_type_layers | 0.006 | 0.002 | 0.007 | |
| fg_add_feature | 0.867 | 0.019 | 0.958 | |
| fg_add_summary | 2.321 | 0.027 | 2.659 | |
| fg_clean_phen | 0.000 | 0.000 | 0.003 | |
| fg_clear_features | 2.156 | 0.025 | 2.761 | |
| fg_clear_summary | 0.878 | 0.010 | 1.037 | |
| fg_extract_phenotypes | 0.691 | 0.010 | 0.738 | |
| fg_extract_raw | 2.120 | 0.021 | 2.313 | |
| fg_extract_samples | 0.676 | 0.008 | 0.746 | |
| fg_feat_cumsum | 0.688 | 0.008 | 0.743 | |
| fg_feat_edge_specenr | 1.063 | 0.009 | 1.124 | |
| fg_feat_mean_class | 0.669 | 0.007 | 0.702 | |
| fg_feat_node_prop | 0.661 | 0.008 | 0.695 | |
| fg_feat_node_specenr | 1.034 | 0.011 | 1.078 | |
| fg_feat_prop_edge | 0.698 | 0.007 | 0.738 | |
| fg_get_feature | 0.652 | 0.007 | 0.678 | |
| fg_get_feature_desc | 2.158 | 0.015 | 2.253 | |
| fg_get_feature_means | 3.206 | 0.019 | 3.329 | |
| fg_get_graph | 0.670 | 0.009 | 0.705 | |
| fg_get_markers | 0.656 | 0.006 | 0.687 | |
| fg_get_meta | 0.653 | 0.007 | 0.694 | |
| fg_get_summary | 4.603 | 0.099 | 4.929 | |
| fg_get_summary_desc | 2.041 | 0.019 | 2.184 | |
| fg_get_summary_index | 4.311 | 0.024 | 4.921 | |
| fg_get_summary_tables | 3.110 | 0.026 | 3.509 | |
| fg_gsub_ids | 0.649 | 0.009 | 0.706 | |
| fg_gsub_markers | 0.800 | 0.009 | 0.859 | |
| fg_load | 114.178 | 0.981 | 124.231 | |
| fg_merge | 0.687 | 0.007 | 0.736 | |
| fg_merge_samples | 0.701 | 0.007 | 0.737 | |
| fg_plot | 1.064 | 0.015 | 1.119 | |
| fg_plot_box | 1.773 | 0.017 | 1.870 | |
| fg_plot_pVSdiff | 0.960 | 0.014 | 1.010 | |
| fg_plot_qq | 3.608 | 0.168 | 3.999 | |
| fg_replace_meta | 0.665 | 0.008 | 0.695 | |
| fg_rm_feature | 2.138 | 0.019 | 2.258 | |
| fg_rm_summary | 0.881 | 0.008 | 0.926 | |
| fg_save | 113.515 | 0.739 | 123.058 | |
| fg_save_plots | 114.847 | 0.798 | 123.013 | |
| fg_set_layout | 0.676 | 0.010 | 0.694 | |
| fg_summary | 0.880 | 0.009 | 0.915 | |
| flowGraph-class | 0.001 | 0.002 | 0.005 | |
| flowGraph | 3.075 | 0.017 | 3.107 | |
| flowGraphSubset | 0.000 | 0.000 | 0.001 | |
| flowGraphSubset_summary_adjust | 0.000 | 0.001 | 0.002 | |
| flowGraphSubset_summary_pars | 0.001 | 0.001 | 0.002 | |
| get_phen_list | 0.028 | 0.002 | 0.030 | |
| get_phen_meta | 0.004 | 0.001 | 0.005 | |
| ggdf | 0.676 | 0.011 | 0.696 | |
| loop_ind_f | 0.001 | 0.001 | 0.001 | |
| meandiff | 0.001 | 0.001 | 0.002 | |
| plot_gr | 3.565 | 0.057 | 3.856 | |
| set_layout_graph | 0.721 | 0.101 | 0.884 | |
| summary_table | 0.008 | 0.001 | 0.009 | |
| time_output | 0.001 | 0.000 | 0.001 | |
| tstr | 0.000 | 0.000 | 0.001 | |