| Back to Multiple platform build/check report for BioC 3.22: simplified long |
|
This page was generated on 2025-11-06 12:00 -0500 (Thu, 06 Nov 2025).
| Hostname | OS | Arch (*) | R version | Installed pkgs |
|---|---|---|---|---|
| nebbiolo2 | Linux (Ubuntu 24.04.3 LTS) | x86_64 | 4.5.1 Patched (2025-08-23 r88802) -- "Great Square Root" | 4902 |
| kjohnson3 | macOS 13.7.7 Ventura | arm64 | 4.5.1 Patched (2025-09-10 r88807) -- "Great Square Root" | 4638 |
| Click on any hostname to see more info about the system (e.g. compilers) (*) as reported by 'uname -p', except on Windows and Mac OS X | ||||
| Package 758/2361 | Hostname | OS / Arch | INSTALL | BUILD | CHECK | BUILD BIN | ||||||||
| flowGraph 1.18.0 (landing page) Alice Yue
| nebbiolo2 | Linux (Ubuntu 24.04.3 LTS) / x86_64 | OK | OK | OK | |||||||||
| kjohnson3 | macOS 13.7.7 Ventura / arm64 | OK | OK | OK | OK | |||||||||
|
To the developers/maintainers of the flowGraph package: - Allow up to 24 hours (and sometimes 48 hours) for your latest push to git@git.bioconductor.org:packages/flowGraph.git to reflect on this report. See Troubleshooting Build Report for more information. - Use the following Renviron settings to reproduce errors and warnings. - If 'R CMD check' started to fail recently on the Linux builder(s) over a missing dependency, add the missing dependency to 'Suggests:' in your DESCRIPTION file. See Renviron.bioc for more information. |
| Package: flowGraph |
| Version: 1.18.0 |
| Command: /home/biocbuild/bbs-3.22-bioc/R/bin/R CMD check --install=check:flowGraph.install-out.txt --library=/home/biocbuild/bbs-3.22-bioc/R/site-library --timings flowGraph_1.18.0.tar.gz |
| StartedAt: 2025-11-05 23:48:11 -0500 (Wed, 05 Nov 2025) |
| EndedAt: 2025-11-05 23:52:40 -0500 (Wed, 05 Nov 2025) |
| EllapsedTime: 269.3 seconds |
| RetCode: 0 |
| Status: OK |
| CheckDir: flowGraph.Rcheck |
| Warnings: 0 |
##############################################################################
##############################################################################
###
### Running command:
###
### /home/biocbuild/bbs-3.22-bioc/R/bin/R CMD check --install=check:flowGraph.install-out.txt --library=/home/biocbuild/bbs-3.22-bioc/R/site-library --timings flowGraph_1.18.0.tar.gz
###
##############################################################################
##############################################################################
* using log directory ‘/home/biocbuild/bbs-3.22-bioc/meat/flowGraph.Rcheck’
* using R version 4.5.1 Patched (2025-08-23 r88802)
* using platform: x86_64-pc-linux-gnu
* R was compiled by
gcc (Ubuntu 13.3.0-6ubuntu2~24.04) 13.3.0
GNU Fortran (Ubuntu 13.3.0-6ubuntu2~24.04) 13.3.0
* running under: Ubuntu 24.04.3 LTS
* using session charset: UTF-8
* checking for file ‘flowGraph/DESCRIPTION’ ... OK
* checking extension type ... Package
* this is package ‘flowGraph’ version ‘1.18.0’
* checking package namespace information ... OK
* checking package dependencies ... OK
* checking if this is a source package ... OK
* checking if there is a namespace ... OK
* checking for hidden files and directories ... OK
* checking for portable file names ... OK
* checking for sufficient/correct file permissions ... OK
* checking whether package ‘flowGraph’ can be installed ... OK
* checking installed package size ... OK
* checking package directory ... OK
* checking ‘build’ directory ... OK
* checking DESCRIPTION meta-information ... OK
* checking top-level files ... OK
* checking for left-over files ... OK
* checking index information ... OK
* checking package subdirectories ... OK
* checking code files for non-ASCII characters ... OK
* checking R files for syntax errors ... OK
* checking whether the package can be loaded ... OK
* checking whether the package can be loaded with stated dependencies ... OK
* checking whether the package can be unloaded cleanly ... OK
* checking whether the namespace can be loaded with stated dependencies ... OK
* checking whether the namespace can be unloaded cleanly ... OK
* checking loading without being on the library search path ... OK
* checking dependencies in R code ... OK
* checking S3 generic/method consistency ... OK
* checking replacement functions ... OK
* checking foreign function calls ... OK
* checking R code for possible problems ... NOTE
get_child: no visible binding for global variable ‘no_cores’
get_paren: no visible binding for global variable ‘no_cores’
ms_psig: no visible binding for global variable ‘meta’
Undefined global functions or variables:
meta no_cores
* checking Rd files ... NOTE
checkRd: (-1) fg_get_graph.Rd:13: Lost braces
13 | A list containing two data frames (\code{v} and ]code{e})
| ^
checkRd: (-1) ggdf.Rd:22: Lost braces
22 | code{ggdf} adds to the data frames \code{v} and \code{e} in slot
| ^
* checking Rd metadata ... OK
* checking Rd cross-references ... OK
* checking for missing documentation entries ... OK
* checking for code/documentation mismatches ... OK
* checking Rd \usage sections ... OK
* checking Rd contents ... OK
* checking for unstated dependencies in examples ... OK
* checking contents of ‘data’ directory ... OK
* checking data for non-ASCII characters ... OK
* checking data for ASCII and uncompressed saves ... OK
* checking files in ‘vignettes’ ... OK
* checking examples ... OK
Examples with CPU (user + system) or elapsed time > 5s
user system elapsed
fg_save_plots 47.612 0.789 48.408
fg_load 46.661 0.873 47.496
fg_save 46.599 0.827 47.429
* checking for unstated dependencies in ‘tests’ ... OK
* checking tests ...
Running ‘testthat.R’
OK
* checking for unstated dependencies in vignettes ... OK
* checking package vignettes ... OK
* checking re-building of vignette outputs ... OK
* checking PDF version of manual ... OK
* DONE
Status: 2 NOTEs
See
‘/home/biocbuild/bbs-3.22-bioc/meat/flowGraph.Rcheck/00check.log’
for details.
flowGraph.Rcheck/00install.out
############################################################################## ############################################################################## ### ### Running command: ### ### /home/biocbuild/bbs-3.22-bioc/R/bin/R CMD INSTALL flowGraph ### ############################################################################## ############################################################################## * installing to library ‘/home/biocbuild/bbs-3.22-bioc/R/site-library’ * installing *source* package ‘flowGraph’ ... ** this is package ‘flowGraph’ version ‘1.18.0’ ** using staged installation ** R ** data ** inst ** byte-compile and prepare package for lazy loading ** help Loading required namespace: flowGraph *** installing help indices ** building package indices ** installing vignettes ** testing if installed package can be loaded from temporary location ** testing if installed package can be loaded from final location ** testing if installed package keeps a record of temporary installation path * DONE (flowGraph)
flowGraph.Rcheck/tests/testthat.Rout
R version 4.5.1 Patched (2025-08-23 r88802) -- "Great Square Root"
Copyright (C) 2025 The R Foundation for Statistical Computing
Platform: x86_64-pc-linux-gnu
R is free software and comes with ABSOLUTELY NO WARRANTY.
You are welcome to redistribute it under certain conditions.
Type 'license()' or 'licence()' for distribution details.
R is a collaborative project with many contributors.
Type 'contributors()' for more information and
'citation()' on how to cite R or R packages in publications.
Type 'demo()' for some demos, 'help()' for on-line help, or
'help.start()' for an HTML browser interface to help.
Type 'q()' to quit R.
> library(testthat)
> library(flowGraph)
>
> test_check("flowGraph")
[ FAIL 0 | WARN 1 | SKIP 0 | PASS 34 ]
[ FAIL 0 | WARN 1 | SKIP 0 | PASS 34 ]
>
> proc.time()
user system elapsed
5.358 0.289 5.635
flowGraph.Rcheck/flowGraph-Ex.timings
| name | user | system | elapsed | |
| cell_type_layers | 0.003 | 0.000 | 0.003 | |
| fg_add_feature | 0.332 | 0.004 | 0.335 | |
| fg_add_summary | 0.870 | 0.004 | 0.876 | |
| fg_clean_phen | 0 | 0 | 0 | |
| fg_clear_features | 0.756 | 0.001 | 0.756 | |
| fg_clear_summary | 0.331 | 0.001 | 0.331 | |
| fg_extract_phenotypes | 0.261 | 0.000 | 0.260 | |
| fg_extract_raw | 0.758 | 0.002 | 0.759 | |
| fg_extract_samples | 0.280 | 0.030 | 0.309 | |
| fg_feat_cumsum | 0.257 | 0.001 | 0.257 | |
| fg_feat_edge_specenr | 0.379 | 0.004 | 0.384 | |
| fg_feat_mean_class | 0.250 | 0.001 | 0.252 | |
| fg_feat_node_prop | 0.248 | 0.000 | 0.249 | |
| fg_feat_node_specenr | 0.375 | 0.001 | 0.376 | |
| fg_feat_prop_edge | 0.267 | 0.001 | 0.270 | |
| fg_get_feature | 0.245 | 0.000 | 0.246 | |
| fg_get_feature_desc | 0.783 | 0.031 | 0.815 | |
| fg_get_feature_means | 1.146 | 0.004 | 1.150 | |
| fg_get_graph | 0.252 | 0.001 | 0.254 | |
| fg_get_markers | 0.256 | 0.000 | 0.258 | |
| fg_get_meta | 0.433 | 0.028 | 0.461 | |
| fg_get_summary | 1.422 | 0.052 | 1.474 | |
| fg_get_summary_desc | 0.680 | 0.000 | 0.679 | |
| fg_get_summary_index | 1.448 | 0.047 | 1.496 | |
| fg_get_summary_tables | 1.027 | 0.000 | 1.029 | |
| fg_gsub_ids | 0.226 | 0.001 | 0.228 | |
| fg_gsub_markers | 0.279 | 0.001 | 0.281 | |
| fg_load | 46.661 | 0.873 | 47.496 | |
| fg_merge | 0.272 | 0.001 | 0.272 | |
| fg_merge_samples | 0.281 | 0.002 | 0.283 | |
| fg_plot | 0.401 | 0.001 | 0.403 | |
| fg_plot_box | 0.692 | 0.003 | 0.694 | |
| fg_plot_pVSdiff | 0.387 | 0.002 | 0.388 | |
| fg_plot_qq | 1.234 | 0.006 | 1.242 | |
| fg_replace_meta | 0.258 | 0.001 | 0.259 | |
| fg_rm_feature | 0.775 | 0.000 | 0.775 | |
| fg_rm_summary | 0.348 | 0.001 | 0.349 | |
| fg_save | 46.599 | 0.827 | 47.429 | |
| fg_save_plots | 47.612 | 0.789 | 48.408 | |
| fg_set_layout | 0.282 | 0.002 | 0.284 | |
| fg_summary | 0.342 | 0.000 | 0.343 | |
| flowGraph-class | 0.001 | 0.000 | 0.001 | |
| flowGraph | 1.156 | 0.003 | 1.159 | |
| flowGraphSubset | 0 | 0 | 0 | |
| flowGraphSubset_summary_adjust | 0 | 0 | 0 | |
| flowGraphSubset_summary_pars | 0.001 | 0.000 | 0.000 | |
| get_phen_list | 0.013 | 0.001 | 0.015 | |
| get_phen_meta | 0.002 | 0.000 | 0.002 | |
| ggdf | 0.280 | 0.001 | 0.282 | |
| loop_ind_f | 0 | 0 | 0 | |
| meandiff | 0 | 0 | 0 | |
| plot_gr | 1.568 | 0.006 | 1.581 | |
| set_layout_graph | 0.280 | 0.002 | 0.281 | |
| summary_table | 0.003 | 0.000 | 0.002 | |
| time_output | 0.000 | 0.000 | 0.001 | |
| tstr | 0.001 | 0.000 | 0.000 | |