Back to Multiple platform build/check report for BioC 3.21:   simplified   long
ABC[D]EFGHIJKLMNOPQRSTUVWXYZ

This page was generated on 2025-05-08 11:47 -0400 (Thu, 08 May 2025).

HostnameOSArch (*)R versionInstalled pkgs
nebbiolo1Linux (Ubuntu 24.04.1 LTS)x86_644.5.0 RC (2025-04-04 r88126) -- "How About a Twenty-Six" 4833
palomino7Windows Server 2022 Datacenterx644.5.0 RC (2025-04-04 r88126 ucrt) -- "How About a Twenty-Six" 4574
merida1macOS 12.7.5 Montereyx86_644.5.0 RC (2025-04-04 r88126) -- "How About a Twenty-Six" 4599
kjohnson1macOS 13.6.6 Venturaarm644.5.0 RC (2025-04-04 r88129) -- "How About a Twenty-Six" 4553
kunpeng2Linux (openEuler 24.03 LTS)aarch64R Under development (unstable) (2025-02-19 r87757) -- "Unsuffered Consequences" 4570
Click on any hostname to see more info about the system (e.g. compilers)      (*) as reported by 'uname -p', except on Windows and Mac OS X

Package 595/2341HostnameOS / ArchINSTALLBUILDCHECKBUILD BIN
dittoSeq 1.20.0  (landing page)
Daniel Bunis
Snapshot Date: 2025-05-05 13:40 -0400 (Mon, 05 May 2025)
git_url: https://git.bioconductor.org/packages/dittoSeq
git_branch: RELEASE_3_21
git_last_commit: 6baca1c
git_last_commit_date: 2025-04-15 11:55:12 -0400 (Tue, 15 Apr 2025)
nebbiolo1Linux (Ubuntu 24.04.1 LTS) / x86_64  OK    OK    OK  UNNEEDED, same version is already published
palomino7Windows Server 2022 Datacenter / x64  OK    OK    OK    OK  UNNEEDED, same version is already published
merida1macOS 12.7.5 Monterey / x86_64  OK    OK    OK    OK  UNNEEDED, same version is already published
kjohnson1macOS 13.6.6 Ventura / arm64  OK    OK    OK    OK  UNNEEDED, same version is already published
kunpeng2Linux (openEuler 24.03 LTS) / aarch64  OK    OK    OK  


CHECK results for dittoSeq on kunpeng2

To the developers/maintainers of the dittoSeq package:
- Allow up to 24 hours (and sometimes 48 hours) for your latest push to git@git.bioconductor.org:packages/dittoSeq.git to reflect on this report. See Troubleshooting Build Report for more information.
- Use the following Renviron settings to reproduce errors and warnings.
- If 'R CMD check' started to fail recently on the Linux builder(s) over a missing dependency, add the missing dependency to 'Suggests:' in your DESCRIPTION file. See Renviron.bioc for more information.
- See Martin Grigorov's blog post for how to debug Linux ARM64 related issues on a x86_64 host.

raw results


Summary

Package: dittoSeq
Version: 1.20.0
Command: /home/biocbuild/R/R/bin/R CMD check --install=check:dittoSeq.install-out.txt --library=/home/biocbuild/R/R/site-library --no-vignettes --timings dittoSeq_1.20.0.tar.gz
StartedAt: 2025-05-06 08:03:12 -0000 (Tue, 06 May 2025)
EndedAt: 2025-05-06 08:12:37 -0000 (Tue, 06 May 2025)
EllapsedTime: 564.4 seconds
RetCode: 0
Status:   OK  
CheckDir: dittoSeq.Rcheck
Warnings: 0

Command output

##############################################################################
##############################################################################
###
### Running command:
###
###   /home/biocbuild/R/R/bin/R CMD check --install=check:dittoSeq.install-out.txt --library=/home/biocbuild/R/R/site-library --no-vignettes --timings dittoSeq_1.20.0.tar.gz
###
##############################################################################
##############################################################################


* using log directory ‘/home/biocbuild/bbs-3.21-bioc/meat/dittoSeq.Rcheck’
* using R Under development (unstable) (2025-02-19 r87757)
* using platform: aarch64-unknown-linux-gnu
* R was compiled by
    aarch64-unknown-linux-gnu-gcc (GCC) 14.2.0
    GNU Fortran (GCC) 14.2.0
* running under: openEuler 24.03 (LTS-SP1)
* using session charset: UTF-8
* using option ‘--no-vignettes’
* checking for file ‘dittoSeq/DESCRIPTION’ ... OK
* checking extension type ... Package
* this is package ‘dittoSeq’ version ‘1.20.0’
* package encoding: UTF-8
* checking package namespace information ... OK
* checking package dependencies ... OK
* checking if this is a source package ... OK
* checking if there is a namespace ... OK
* checking for hidden files and directories ... OK
* checking for portable file names ... OK
* checking for sufficient/correct file permissions ... OK
* checking whether package ‘dittoSeq’ can be installed ... OK
* checking installed package size ... OK
* checking package directory ... OK
* checking ‘build’ directory ... OK
* checking DESCRIPTION meta-information ... NOTE
License stub is invalid DCF.
* checking top-level files ... OK
* checking for left-over files ... OK
* checking index information ... OK
* checking package subdirectories ... OK
* checking code files for non-ASCII characters ... OK
* checking R files for syntax errors ... OK
* checking whether the package can be loaded ... OK
* checking whether the package can be loaded with stated dependencies ... OK
* checking whether the package can be unloaded cleanly ... OK
* checking whether the namespace can be loaded with stated dependencies ... OK
* checking whether the namespace can be unloaded cleanly ... OK
* checking loading without being on the library search path ... OK
* checking dependencies in R code ... OK
* checking S3 generic/method consistency ... OK
* checking replacement functions ... OK
* checking foreign function calls ... OK
* checking R code for possible problems ... OK
* checking Rd files ... NOTE
checkRd: (-1) Darken.Rd:10: Lost braces
    10 | \item{colors}{the color(s) input. Can be a list of colors, for example, /code{dittoColors()}.}
       |                                                                              ^
checkRd: (-1) Lighten.Rd:10: Lost braces
    10 | \item{colors}{the color(s) input. Can be a list of colors, for example, /code{dittoColors()}.}
       |                                                                              ^
* checking Rd metadata ... OK
* checking Rd cross-references ... NOTE
Found the following Rd file(s) with Rd \link{} targets missing package
anchors:
  addDimReduction.Rd: SingleCellExperiment-class
  addPrcomp.Rd: SingleCellExperiment-class
  dittoDimPlot.Rd: ggrepel, SingleCellExperiment
  dittoFreqPlot.Rd: geom_violin
  dittoHeatmap.Rd: pheatmap
  dittoHex.Rd: ggrepel
  dittoPlot.Rd: geom_violin
  dittoPlotVarsAcrossGroups.Rd: geom_violin
  dittoScatterPlot.Rd: ggrepel
  importDittoBulk.Rd: SummarizedExperiment-class,
    SingleCellExperiment-class
  setBulk.Rd: SingleCellExperiment-class
Please provide package anchors for all Rd \link{} targets not in the
package itself and the base packages.
* checking for missing documentation entries ... OK
* checking for code/documentation mismatches ... OK
* checking Rd \usage sections ... OK
* checking Rd contents ... OK
* checking for unstated dependencies in examples ... OK
* checking contents of ‘data’ directory ... OK
* checking data for non-ASCII characters ... OK
* checking LazyData ... OK
* checking data for ASCII and uncompressed saves ... OK
* checking files in ‘vignettes’ ... OK
* checking examples ... OK
Examples with CPU (user + system) or elapsed time > 5s
                              user system elapsed
dittoPlot                   11.856  0.072  11.957
dittoHex                    10.987  0.064  11.077
multi_dittoDimPlotVaryCells  8.547  0.024   8.593
dittoFreqPlot                8.036  0.052   8.123
multi_dittoPlot              7.667  0.223   7.909
dittoDimPlot                 7.736  0.115   7.877
dittoScatterPlot             7.565  0.064   7.649
dittoDotPlot                 6.639  0.024   6.678
* checking for unstated dependencies in ‘tests’ ... OK
* checking tests ...
  Running ‘testthat.R’
 OK
* checking for unstated dependencies in vignettes ... OK
* checking package vignettes ... OK
* checking running R code from vignettes ... SKIPPED
* checking re-building of vignette outputs ... SKIPPED
* checking PDF version of manual ... OK
* DONE

Status: 3 NOTEs
See
  ‘/home/biocbuild/bbs-3.21-bioc/meat/dittoSeq.Rcheck/00check.log’
for details.


Installation output

dittoSeq.Rcheck/00install.out

##############################################################################
##############################################################################
###
### Running command:
###
###   /home/biocbuild/R/R/bin/R CMD INSTALL dittoSeq
###
##############################################################################
##############################################################################


* installing to library ‘/home/biocbuild/R/R-devel_2025-02-19/site-library’
* installing *source* package ‘dittoSeq’ ...
** this is package ‘dittoSeq’ version ‘1.20.0’
** using staged installation
** R
** data
*** moving datasets to lazyload DB
** inst
** byte-compile and prepare package for lazy loading
** help
*** installing help indices
** building package indices
** installing vignettes
** testing if installed package can be loaded from temporary location
** testing if installed package can be loaded from final location
** testing if installed package keeps a record of temporary installation path
* DONE (dittoSeq)

Tests output

dittoSeq.Rcheck/tests/testthat.Rout


R Under development (unstable) (2025-02-19 r87757) -- "Unsuffered Consequences"
Copyright (C) 2025 The R Foundation for Statistical Computing
Platform: aarch64-unknown-linux-gnu

R is free software and comes with ABSOLUTELY NO WARRANTY.
You are welcome to redistribute it under certain conditions.
Type 'license()' or 'licence()' for distribution details.

R is a collaborative project with many contributors.
Type 'contributors()' for more information and
'citation()' on how to cite R or R packages in publications.

Type 'demo()' for some demos, 'help()' for on-line help, or
'help.start()' for an HTML browser interface to help.
Type 'q()' to quit R.

> library(testthat)
> test_check("dittoSeq")
Loading required package: dittoSeq
Loading required package: ggplot2
Loading required package: SummarizedExperiment
Loading required package: MatrixGenerics
Loading required package: matrixStats

Attaching package: 'MatrixGenerics'

The following objects are masked from 'package:matrixStats':

    colAlls, colAnyNAs, colAnys, colAvgsPerRowSet, colCollapse,
    colCounts, colCummaxs, colCummins, colCumprods, colCumsums,
    colDiffs, colIQRDiffs, colIQRs, colLogSumExps, colMadDiffs,
    colMads, colMaxs, colMeans2, colMedians, colMins, colOrderStats,
    colProds, colQuantiles, colRanges, colRanks, colSdDiffs, colSds,
    colSums2, colTabulates, colVarDiffs, colVars, colWeightedMads,
    colWeightedMeans, colWeightedMedians, colWeightedSds,
    colWeightedVars, rowAlls, rowAnyNAs, rowAnys, rowAvgsPerColSet,
    rowCollapse, rowCounts, rowCummaxs, rowCummins, rowCumprods,
    rowCumsums, rowDiffs, rowIQRDiffs, rowIQRs, rowLogSumExps,
    rowMadDiffs, rowMads, rowMaxs, rowMeans2, rowMedians, rowMins,
    rowOrderStats, rowProds, rowQuantiles, rowRanges, rowRanks,
    rowSdDiffs, rowSds, rowSums2, rowTabulates, rowVarDiffs, rowVars,
    rowWeightedMads, rowWeightedMeans, rowWeightedMedians,
    rowWeightedSds, rowWeightedVars

Loading required package: GenomicRanges
Loading required package: stats4
Loading required package: BiocGenerics
Loading required package: generics

Attaching package: 'generics'

The following objects are masked from 'package:base':

    as.difftime, as.factor, as.ordered, intersect, is.element, setdiff,
    setequal, union


Attaching package: 'BiocGenerics'

The following objects are masked from 'package:stats':

    IQR, mad, sd, var, xtabs

The following objects are masked from 'package:base':

    Filter, Find, Map, Position, Reduce, anyDuplicated, aperm, append,
    as.data.frame, basename, cbind, colnames, dirname, do.call,
    duplicated, eval, evalq, get, grep, grepl, is.unsorted, lapply,
    mapply, match, mget, order, paste, pmax, pmax.int, pmin, pmin.int,
    rank, rbind, rownames, sapply, saveRDS, table, tapply, unique,
    unsplit, which.max, which.min

Loading required package: S4Vectors

Attaching package: 'S4Vectors'

The following object is masked from 'package:utils':

    findMatches

The following objects are masked from 'package:base':

    I, expand.grid, unname

Loading required package: IRanges
Loading required package: GenomeInfoDb
Loading required package: Biobase
Welcome to Bioconductor

    Vignettes contain introductory material; view with
    'browseVignettes()'. To cite Bioconductor, see
    'citation("Biobase")', and for packages 'citation("pkgname")'.


Attaching package: 'Biobase'

The following object is masked from 'package:MatrixGenerics':

    rowMedians

The following objects are masked from 'package:matrixStats':

    anyMissing, rowMedians

[ FAIL 0 | WARN 82 | SKIP 0 | PASS 846 ]

[ FAIL 0 | WARN 82 | SKIP 0 | PASS 846 ]
> 
> proc.time()
   user  system elapsed 
217.355   2.042 219.960 

Example timings

dittoSeq.Rcheck/dittoSeq-Ex.timings

nameusersystemelapsed
Darken0.0090.0010.009
Lighten0.0030.0000.003
Simulate2.2150.0552.278
addDimReduction1.0040.0081.015
addPrcomp0.9530.0160.972
demux.SNP.summary2.1900.0642.259
demux.calls.summary2.0730.0122.091
dittoBarPlot3.0210.0563.085
dittoColors0.0130.0080.022
dittoDimPlot7.7360.1157.877
dittoDotPlot6.6390.0246.678
dittoFreqPlot8.0360.0528.123
dittoHeatmap3.7370.0883.835
dittoHex10.987 0.06411.077
dittoPlot11.856 0.07211.957
dittoPlotVarsAcrossGroups3.6210.0123.641
dittoScatterPlot7.5650.0647.649
gene4.4570.1114.581
getGenes0.8230.0040.830
getMetas0.6830.0120.697
getReductions0.9040.0000.907
importDemux2.1920.0042.202
importDittoBulk0.7050.0040.711
isBulk0.7300.0040.736
isGene0.8390.0200.862
isMeta0.6810.0000.683
meta0.7390.0080.749
metaLevels0.6740.0000.675
multi_dittoDimPlot3.6750.0123.697
multi_dittoDimPlotVaryCells8.5470.0248.593
multi_dittoPlot7.6670.2237.909
setBulk0.9210.0040.928