| Back to Multiple platform build/check report for BioC 3.21: simplified long | 
 | 
This page was generated on 2025-10-16 11:39 -0400 (Thu, 16 Oct 2025).
| Hostname | OS | Arch (*) | R version | Installed pkgs | 
|---|---|---|---|---|
| nebbiolo1 | Linux (Ubuntu 24.04.3 LTS) | x86_64 | 4.5.1 (2025-06-13) -- "Great Square Root" | 4833 | 
| merida1 | macOS 12.7.6 Monterey | x86_64 | 4.5.1 RC (2025-06-05 r88288) -- "Great Square Root" | 4614 | 
| kjohnson1 | macOS 13.7.5 Ventura | arm64 | 4.5.1 Patched (2025-06-14 r88325) -- "Great Square Root" | 4555 | 
| kunpeng2 | Linux (openEuler 24.03 LTS) | aarch64 | R Under development (unstable) (2025-02-19 r87757) -- "Unsuffered Consequences" | 4586 | 
| Click on any hostname to see more info about the system (e.g. compilers) (*) as reported by 'uname -p', except on Windows and Mac OS X | ||||
| Package 595/2341 | Hostname | OS / Arch | INSTALL | BUILD | CHECK | BUILD BIN | ||||||||
| dittoSeq 1.20.1  (landing page) Daniel Bunis 
 | nebbiolo1 | Linux (Ubuntu 24.04.3 LTS) / x86_64 | OK | OK | OK |  | ||||||||
| merida1 | macOS 12.7.6 Monterey / x86_64 | OK | OK | OK | OK |  | ||||||||
| kjohnson1 | macOS 13.7.5 Ventura / arm64 | OK | OK | OK | OK |  | ||||||||
| kunpeng2 | Linux (openEuler 24.03 LTS) / aarch64 | OK | OK | ERROR | ||||||||||
| To the developers/maintainers of the dittoSeq package: - Allow up to 24 hours (and sometimes 48 hours) for your latest push to git@git.bioconductor.org:packages/dittoSeq.git to reflect on this report. See Troubleshooting Build Report for more information. - Use the following Renviron settings to reproduce errors and warnings. - If 'R CMD check' started to fail recently on the Linux builder(s) over a missing dependency, add the missing dependency to 'Suggests:' in your DESCRIPTION file. See Renviron.bioc for more information. | 
| Package: dittoSeq | 
| Version: 1.20.1 | 
| Command: /Library/Frameworks/R.framework/Resources/bin/R CMD check --install=check:dittoSeq.install-out.txt --library=/Library/Frameworks/R.framework/Resources/library --no-vignettes --timings dittoSeq_1.20.1.tar.gz | 
| StartedAt: 2025-10-14 02:59:51 -0400 (Tue, 14 Oct 2025) | 
| EndedAt: 2025-10-14 03:19:40 -0400 (Tue, 14 Oct 2025) | 
| EllapsedTime: 1189.5 seconds | 
| RetCode: 0 | 
| Status: OK | 
| CheckDir: dittoSeq.Rcheck | 
| Warnings: 0 | 
##############################################################################
##############################################################################
###
### Running command:
###
###   /Library/Frameworks/R.framework/Resources/bin/R CMD check --install=check:dittoSeq.install-out.txt --library=/Library/Frameworks/R.framework/Resources/library --no-vignettes --timings dittoSeq_1.20.1.tar.gz
###
##############################################################################
##############################################################################
* using log directory ‘/Users/biocbuild/bbs-3.21-bioc/meat/dittoSeq.Rcheck’
* using R version 4.5.1 RC (2025-06-05 r88288)
* using platform: x86_64-apple-darwin20
* R was compiled by
    Apple clang version 14.0.0 (clang-1400.0.29.202)
    GNU Fortran (GCC) 14.2.0
* running under: macOS Monterey 12.7.6
* using session charset: UTF-8
* using option ‘--no-vignettes’
* checking for file ‘dittoSeq/DESCRIPTION’ ... OK
* checking extension type ... Package
* this is package ‘dittoSeq’ version ‘1.20.1’
* package encoding: UTF-8
* checking package namespace information ... OK
* checking package dependencies ... OK
* checking if this is a source package ... OK
* checking if there is a namespace ... OK
* checking for hidden files and directories ... OK
* checking for portable file names ... OK
* checking for sufficient/correct file permissions ... OK
* checking whether package ‘dittoSeq’ can be installed ... OK
* checking installed package size ... OK
* checking package directory ... OK
* checking ‘build’ directory ... OK
* checking DESCRIPTION meta-information ... NOTE
License stub is invalid DCF.
* checking top-level files ... OK
* checking for left-over files ... OK
* checking index information ... OK
* checking package subdirectories ... OK
* checking code files for non-ASCII characters ... OK
* checking R files for syntax errors ... OK
* checking whether the package can be loaded ... OK
* checking whether the package can be loaded with stated dependencies ... OK
* checking whether the package can be unloaded cleanly ... OK
* checking whether the namespace can be loaded with stated dependencies ... OK
* checking whether the namespace can be unloaded cleanly ... OK
* checking dependencies in R code ... OK
* checking S3 generic/method consistency ... OK
* checking replacement functions ... OK
* checking foreign function calls ... OK
* checking R code for possible problems ... OK
* checking Rd files ... OK
* checking Rd metadata ... OK
* checking Rd cross-references ... NOTE
Found the following Rd file(s) with Rd \link{} targets missing package
anchors:
  addDimReduction.Rd: SingleCellExperiment-class
  addPrcomp.Rd: SingleCellExperiment-class
  dittoDimPlot.Rd: ggrepel, SingleCellExperiment
  dittoFreqPlot.Rd: geom_violin
  dittoHeatmap.Rd: pheatmap
  dittoHex.Rd: ggrepel
  dittoPlot.Rd: geom_violin
  dittoPlotVarsAcrossGroups.Rd: geom_violin
  dittoScatterPlot.Rd: ggrepel
  importDittoBulk.Rd: SummarizedExperiment-class,
    SingleCellExperiment-class
  setBulk.Rd: SingleCellExperiment-class
Please provide package anchors for all Rd \link{} targets not in the
package itself and the base packages.
* checking for missing documentation entries ... OK
* checking for code/documentation mismatches ... OK
* checking Rd \usage sections ... OK
* checking Rd contents ... OK
* checking for unstated dependencies in examples ... OK
* checking contents of ‘data’ directory ... OK
* checking data for non-ASCII characters ... OK
* checking LazyData ... OK
* checking data for ASCII and uncompressed saves ... OK
* checking files in ‘vignettes’ ... OK
* checking examples ... OK
Examples with CPU (user + system) or elapsed time > 5s
                              user system elapsed
dittoPlot                   26.207  0.206  30.089
dittoHex                    21.545  0.173  23.099
multi_dittoDimPlotVaryCells 19.807  0.217  21.680
dittoDimPlot                17.832  0.274  20.512
dittoFreqPlot               17.850  0.150  19.103
dittoDotPlot                16.948  0.105  18.925
dittoScatterPlot            15.701  0.103  18.458
multi_dittoPlot             14.603  0.143  16.077
multi_dittoDimPlot           8.714  0.103   9.602
dittoPlotVarsAcrossGroups    8.589  0.147  10.190
gene                         7.759  0.311   9.254
dittoBarPlot                 7.332  0.186   8.817
dittoHeatmap                 6.103  0.178   6.610
Simulate                     5.459  0.345   6.561
demux.calls.summary          4.645  0.050   5.319
* checking for unstated dependencies in ‘tests’ ... OK
* checking tests ...
  Running ‘testthat.R’
 OK
* checking for unstated dependencies in vignettes ... OK
* checking package vignettes ... OK
* checking running R code from vignettes ... SKIPPED
* checking re-building of vignette outputs ... SKIPPED
* checking PDF version of manual ... OK
* DONE
Status: 2 NOTEs
See
  ‘/Users/biocbuild/bbs-3.21-bioc/meat/dittoSeq.Rcheck/00check.log’
for details.
dittoSeq.Rcheck/00install.out
############################################################################## ############################################################################## ### ### Running command: ### ### /Library/Frameworks/R.framework/Resources/bin/R CMD INSTALL dittoSeq ### ############################################################################## ############################################################################## * installing to library ‘/Library/Frameworks/R.framework/Versions/4.5-x86_64/Resources/library’ * installing *source* package ‘dittoSeq’ ... ** this is package ‘dittoSeq’ version ‘1.20.1’ ** using staged installation ** R ** data *** moving datasets to lazyload DB ** inst ** byte-compile and prepare package for lazy loading ** help *** installing help indices ** building package indices ** installing vignettes ** testing if installed package can be loaded from temporary location ** testing if installed package can be loaded from final location ** testing if installed package keeps a record of temporary installation path * DONE (dittoSeq)
dittoSeq.Rcheck/tests/testthat.Rout
R version 4.5.1 RC (2025-06-05 r88288) -- "Great Square Root"
Copyright (C) 2025 The R Foundation for Statistical Computing
Platform: x86_64-apple-darwin20
R is free software and comes with ABSOLUTELY NO WARRANTY.
You are welcome to redistribute it under certain conditions.
Type 'license()' or 'licence()' for distribution details.
R is a collaborative project with many contributors.
Type 'contributors()' for more information and
'citation()' on how to cite R or R packages in publications.
Type 'demo()' for some demos, 'help()' for on-line help, or
'help.start()' for an HTML browser interface to help.
Type 'q()' to quit R.
> library(testthat)
> test_check("dittoSeq")
Loading required package: dittoSeq
Loading required package: ggplot2
Loading required package: SummarizedExperiment
Loading required package: MatrixGenerics
Loading required package: matrixStats
Attaching package: 'MatrixGenerics'
The following objects are masked from 'package:matrixStats':
    colAlls, colAnyNAs, colAnys, colAvgsPerRowSet, colCollapse,
    colCounts, colCummaxs, colCummins, colCumprods, colCumsums,
    colDiffs, colIQRDiffs, colIQRs, colLogSumExps, colMadDiffs,
    colMads, colMaxs, colMeans2, colMedians, colMins, colOrderStats,
    colProds, colQuantiles, colRanges, colRanks, colSdDiffs, colSds,
    colSums2, colTabulates, colVarDiffs, colVars, colWeightedMads,
    colWeightedMeans, colWeightedMedians, colWeightedSds,
    colWeightedVars, rowAlls, rowAnyNAs, rowAnys, rowAvgsPerColSet,
    rowCollapse, rowCounts, rowCummaxs, rowCummins, rowCumprods,
    rowCumsums, rowDiffs, rowIQRDiffs, rowIQRs, rowLogSumExps,
    rowMadDiffs, rowMads, rowMaxs, rowMeans2, rowMedians, rowMins,
    rowOrderStats, rowProds, rowQuantiles, rowRanges, rowRanks,
    rowSdDiffs, rowSds, rowSums2, rowTabulates, rowVarDiffs, rowVars,
    rowWeightedMads, rowWeightedMeans, rowWeightedMedians,
    rowWeightedSds, rowWeightedVars
Loading required package: GenomicRanges
Loading required package: stats4
Loading required package: BiocGenerics
Loading required package: generics
Attaching package: 'generics'
The following objects are masked from 'package:base':
    as.difftime, as.factor, as.ordered, intersect, is.element, setdiff,
    setequal, union
Attaching package: 'BiocGenerics'
The following objects are masked from 'package:stats':
    IQR, mad, sd, var, xtabs
The following objects are masked from 'package:base':
    Filter, Find, Map, Position, Reduce, anyDuplicated, aperm, append,
    as.data.frame, basename, cbind, colnames, dirname, do.call,
    duplicated, eval, evalq, get, grep, grepl, is.unsorted, lapply,
    mapply, match, mget, order, paste, pmax, pmax.int, pmin, pmin.int,
    rank, rbind, rownames, sapply, saveRDS, table, tapply, unique,
    unsplit, which.max, which.min
Loading required package: S4Vectors
Attaching package: 'S4Vectors'
The following object is masked from 'package:utils':
    findMatches
The following objects are masked from 'package:base':
    I, expand.grid, unname
Loading required package: IRanges
Loading required package: GenomeInfoDb
Loading required package: Biobase
Welcome to Bioconductor
    Vignettes contain introductory material; view with
    'browseVignettes()'. To cite Bioconductor, see
    'citation("Biobase")', and for packages 'citation("pkgname")'.
Attaching package: 'Biobase'
The following object is masked from 'package:MatrixGenerics':
    rowMedians
The following objects are masked from 'package:matrixStats':
    anyMissing, rowMedians
[ FAIL 0 | WARN 2 | SKIP 1 | PASS 846 ]
══ Skipped tests (1) ═══════════════════════════════════════════════════════════
• MASS available (1): 'test-utils.R:23:5'
[ FAIL 0 | WARN 2 | SKIP 1 | PASS 846 ]
> 
> proc.time()
   user  system elapsed 
471.898   6.300 521.147 
dittoSeq.Rcheck/dittoSeq-Ex.timings
| name | user | system | elapsed | |
| Darken | 0.013 | 0.001 | 0.019 | |
| Lighten | 0.005 | 0.001 | 0.006 | |
| Simulate | 5.459 | 0.345 | 6.561 | |
| addDimReduction | 1.823 | 0.044 | 2.055 | |
| addPrcomp | 1.848 | 0.047 | 2.103 | |
| demux.SNP.summary | 3.171 | 0.051 | 3.547 | |
| demux.calls.summary | 4.645 | 0.050 | 5.319 | |
| dittoBarPlot | 7.332 | 0.186 | 8.817 | |
| dittoColors | 0.064 | 0.156 | 0.246 | |
| dittoDimPlot | 17.832 | 0.274 | 20.512 | |
| dittoDotPlot | 16.948 | 0.105 | 18.925 | |
| dittoFreqPlot | 17.850 | 0.150 | 19.103 | |
| dittoHeatmap | 6.103 | 0.178 | 6.610 | |
| dittoHex | 21.545 | 0.173 | 23.099 | |
| dittoPlot | 26.207 | 0.206 | 30.089 | |
| dittoPlotVarsAcrossGroups | 8.589 | 0.147 | 10.190 | |
| dittoScatterPlot | 15.701 | 0.103 | 18.458 | |
| gene | 7.759 | 0.311 | 9.254 | |
| getGenes | 1.221 | 0.086 | 1.481 | |
| getMetas | 2.113 | 0.039 | 2.423 | |
| getReductions | 1.549 | 0.038 | 1.803 | |
| importDemux | 3.904 | 0.156 | 4.645 | |
| importDittoBulk | 1.064 | 0.033 | 1.285 | |
| isBulk | 1.084 | 0.031 | 1.317 | |
| isGene | 1.249 | 0.035 | 1.486 | |
| isMeta | 0.979 | 0.031 | 1.275 | |
| meta | 1.082 | 0.042 | 1.337 | |
| metaLevels | 1.020 | 0.032 | 1.187 | |
| multi_dittoDimPlot | 8.714 | 0.103 | 9.602 | |
| multi_dittoDimPlotVaryCells | 19.807 | 0.217 | 21.680 | |
| multi_dittoPlot | 14.603 | 0.143 | 16.077 | |
| setBulk | 1.486 | 0.036 | 1.661 | |