| Back to Multiple platform build/check report for BioC 3.21: simplified long |
|
This page was generated on 2025-04-22 13:16 -0400 (Tue, 22 Apr 2025).
| Hostname | OS | Arch (*) | R version | Installed pkgs |
|---|---|---|---|---|
| nebbiolo1 | Linux (Ubuntu 24.04.1 LTS) | x86_64 | 4.5.0 RC (2025-04-04 r88126) -- "How About a Twenty-Six" | 4831 |
| palomino7 | Windows Server 2022 Datacenter | x64 | 4.5.0 RC (2025-04-04 r88126 ucrt) -- "How About a Twenty-Six" | 4573 |
| lconway | macOS 12.7.1 Monterey | x86_64 | 4.5.0 RC (2025-04-04 r88126) -- "How About a Twenty-Six" | 4599 |
| kjohnson3 | macOS 13.7.1 Ventura | arm64 | 4.5.0 RC (2025-04-04 r88126) -- "How About a Twenty-Six" | 4553 |
| kunpeng2 | Linux (openEuler 24.03 LTS) | aarch64 | R Under development (unstable) (2025-02-19 r87757) -- "Unsuffered Consequences" | 4570 |
| Click on any hostname to see more info about the system (e.g. compilers) (*) as reported by 'uname -p', except on Windows and Mac OS X | ||||
| Package 417/2341 | Hostname | OS / Arch | INSTALL | BUILD | CHECK | BUILD BIN | ||||||||
| cola 2.14.0 (landing page) Zuguang Gu
| nebbiolo1 | Linux (Ubuntu 24.04.1 LTS) / x86_64 | OK | OK | OK | |||||||||
| palomino7 | Windows Server 2022 Datacenter / x64 | OK | OK | OK | OK | |||||||||
| lconway | macOS 12.7.1 Monterey / x86_64 | OK | OK | OK | OK | |||||||||
| kjohnson3 | macOS 13.7.1 Ventura / arm64 | OK | OK | OK | OK | |||||||||
| kunpeng2 | Linux (openEuler 24.03 LTS) / aarch64 | OK | OK | OK | ||||||||||
|
To the developers/maintainers of the cola package: - Allow up to 24 hours (and sometimes 48 hours) for your latest push to git@git.bioconductor.org:packages/cola.git to reflect on this report. See Troubleshooting Build Report for more information. - Use the following Renviron settings to reproduce errors and warnings. - If 'R CMD check' started to fail recently on the Linux builder(s) over a missing dependency, add the missing dependency to 'Suggests:' in your DESCRIPTION file. See Renviron.bioc for more information. |
| Package: cola |
| Version: 2.14.0 |
| Command: /Library/Frameworks/R.framework/Resources/bin/R CMD check --install=check:cola.install-out.txt --library=/Library/Frameworks/R.framework/Resources/library --no-vignettes --timings cola_2.14.0.tar.gz |
| StartedAt: 2025-04-21 19:52:07 -0400 (Mon, 21 Apr 2025) |
| EndedAt: 2025-04-21 19:55:33 -0400 (Mon, 21 Apr 2025) |
| EllapsedTime: 205.8 seconds |
| RetCode: 0 |
| Status: OK |
| CheckDir: cola.Rcheck |
| Warnings: 0 |
##############################################################################
##############################################################################
###
### Running command:
###
### /Library/Frameworks/R.framework/Resources/bin/R CMD check --install=check:cola.install-out.txt --library=/Library/Frameworks/R.framework/Resources/library --no-vignettes --timings cola_2.14.0.tar.gz
###
##############################################################################
##############################################################################
* using log directory ‘/Users/biocbuild/bbs-3.21-bioc/meat/cola.Rcheck’
* using R version 4.5.0 RC (2025-04-04 r88126)
* using platform: x86_64-apple-darwin20
* R was compiled by
Apple clang version 14.0.0 (clang-1400.0.29.202)
GNU Fortran (GCC) 14.2.0
* running under: macOS Monterey 12.7.6
* using session charset: UTF-8
* using option ‘--no-vignettes’
* checking for file ‘cola/DESCRIPTION’ ... OK
* checking extension type ... Package
* this is package ‘cola’ version ‘2.14.0’
* checking package namespace information ... OK
* checking package dependencies ... INFO
Imports includes 27 non-default packages.
Importing from so many packages makes the package vulnerable to any of
them becoming unavailable. Move as many as possible to Suggests and
use conditionally.
* checking if this is a source package ... OK
* checking if there is a namespace ... OK
* checking for hidden files and directories ... OK
* checking for portable file names ... OK
* checking for sufficient/correct file permissions ... OK
* checking whether package ‘cola’ can be installed ... OK
* used C++ compiler: ‘Apple clang version 14.0.0 (clang-1400.0.29.202)’
* used SDK: ‘MacOSX11.3.sdk’
* checking installed package size ... INFO
installed size is 5.8Mb
sub-directories of 1Mb or more:
data 3.2Mb
extdata 1.0Mb
* checking package directory ... OK
* checking ‘build’ directory ... OK
* checking DESCRIPTION meta-information ... NOTE
License stub is invalid DCF.
* checking top-level files ... OK
* checking for left-over files ... OK
* checking index information ... OK
* checking package subdirectories ... OK
* checking code files for non-ASCII characters ... OK
* checking R files for syntax errors ... OK
* checking whether the package can be loaded ... OK
* checking whether the package can be loaded with stated dependencies ... OK
* checking whether the package can be unloaded cleanly ... OK
* checking whether the namespace can be loaded with stated dependencies ... OK
* checking whether the namespace can be unloaded cleanly ... OK
* checking whether startup messages can be suppressed ... OK
* checking dependencies in R code ... OK
* checking S3 generic/method consistency ... OK
* checking replacement functions ... OK
* checking foreign function calls ... OK
* checking R code for possible problems ... OK
* checking Rd files ... OK
* checking Rd metadata ... OK
* checking Rd cross-references ... NOTE
Non-topic package-anchored link(s) in Rd file 'collect_classes-ConsensusPartitionList-method.Rd':
‘[ComplexHeatmap:draw-HeatmapList-method]{draw,HeatmapList-method}’
See section 'Cross-references' in the 'Writing R Extensions' manual.
Found the following Rd file(s) with Rd \link{} targets missing package
anchors:
predict_classes-ConsensusPartition-method.Rd: colorRamp2
predict_classes-matrix-method.Rd: colorRamp2
Please provide package anchors for all Rd \link{} targets not in the
package itself and the base packages.
* checking for missing documentation entries ... OK
* checking for code/documentation mismatches ... OK
* checking Rd \usage sections ... OK
* checking Rd contents ... OK
* checking for unstated dependencies in examples ... OK
* checking contents of ‘data’ directory ... OK
* checking data for non-ASCII characters ... OK
* checking data for ASCII and uncompressed saves ... OK
* checking line endings in C/C++/Fortran sources/headers ... OK
* checking compiled code ... NOTE
Note: information on .o files is not available
* checking files in ‘vignettes’ ... OK
* checking examples ... OK
Examples with CPU (user + system) or elapsed time > 5s
user system elapsed
consensus_partition 20.118 0.267 20.482
* checking for unstated dependencies in ‘tests’ ... OK
* checking tests ...
Running ‘test-all.R’
OK
* checking for unstated dependencies in vignettes ... OK
* checking package vignettes ... OK
* checking running R code from vignettes ... SKIPPED
* checking re-building of vignette outputs ... SKIPPED
* checking PDF version of manual ... OK
* DONE
Status: 3 NOTEs
See
‘/Users/biocbuild/bbs-3.21-bioc/meat/cola.Rcheck/00check.log’
for details.
cola.Rcheck/00install.out
############################################################################## ############################################################################## ### ### Running command: ### ### /Library/Frameworks/R.framework/Resources/bin/R CMD INSTALL cola ### ############################################################################## ############################################################################## * installing to library ‘/Library/Frameworks/R.framework/Versions/4.5-x86_64/Resources/library’ * installing *source* package ‘cola’ ... ** this is package ‘cola’ version ‘2.14.0’ ** using staged installation ** libs using C++ compiler: ‘Apple clang version 14.0.0 (clang-1400.0.29.202)’ using SDK: ‘MacOSX11.3.sdk’ clang++ -arch x86_64 -std=gnu++17 -I"/Library/Frameworks/R.framework/Resources/include" -DNDEBUG -I'/Library/Frameworks/R.framework/Versions/4.5-x86_64/Resources/library/Rcpp/include' -I/opt/R/x86_64/include -fPIC -falign-functions=64 -Wall -g -O2 -c RcppExports.cpp -o RcppExports.o clang++ -arch x86_64 -std=gnu++17 -I"/Library/Frameworks/R.framework/Resources/include" -DNDEBUG -I'/Library/Frameworks/R.framework/Versions/4.5-x86_64/Resources/library/Rcpp/include' -I/opt/R/x86_64/include -fPIC -falign-functions=64 -Wall -g -O2 -c atc.cpp -o atc.o clang++ -arch x86_64 -std=gnu++17 -I"/Library/Frameworks/R.framework/Resources/include" -DNDEBUG -I'/Library/Frameworks/R.framework/Versions/4.5-x86_64/Resources/library/Rcpp/include' -I/opt/R/x86_64/include -fPIC -falign-functions=64 -Wall -g -O2 -c cal_consensus_mat.cpp -o cal_consensus_mat.o clang++ -arch x86_64 -std=gnu++17 -I"/Library/Frameworks/R.framework/Resources/include" -DNDEBUG -I'/Library/Frameworks/R.framework/Versions/4.5-x86_64/Resources/library/Rcpp/include' -I/opt/R/x86_64/include -fPIC -falign-functions=64 -Wall -g -O2 -c pdist.cpp -o pdist.o clang++ -arch x86_64 -std=gnu++17 -dynamiclib -Wl,-headerpad_max_install_names -undefined dynamic_lookup -L/Library/Frameworks/R.framework/Resources/lib -L/opt/R/x86_64/lib -o cola.so RcppExports.o atc.o cal_consensus_mat.o pdist.o -F/Library/Frameworks/R.framework/.. -framework R installing to /Library/Frameworks/R.framework/Versions/4.5-x86_64/Resources/library/00LOCK-cola/00new/cola/libs ** R ** data ** inst ** byte-compile and prepare package for lazy loading ** help *** installing help indices ** building package indices ** installing vignettes ** testing if installed package can be loaded from temporary location ** checking absolute paths in shared objects and dynamic libraries ** testing if installed package can be loaded from final location ** testing if installed package keeps a record of temporary installation path * DONE (cola)
cola.Rcheck/tests/test-all.Rout
R version 4.5.0 RC (2025-04-04 r88126) -- "How About a Twenty-Six"
Copyright (C) 2025 The R Foundation for Statistical Computing
Platform: x86_64-apple-darwin20
R is free software and comes with ABSOLUTELY NO WARRANTY.
You are welcome to redistribute it under certain conditions.
Type 'license()' or 'licence()' for distribution details.
R is a collaborative project with many contributors.
Type 'contributors()' for more information and
'citation()' on how to cite R or R packages in publications.
Type 'demo()' for some demos, 'help()' for on-line help, or
'help.start()' for an HTML browser interface to help.
Type 'q()' to quit R.
> library(testthat)
> suppressWarnings(suppressPackageStartupMessages(library(cola)))
>
> test_check("cola")
[ FAIL 0 | WARN 0 | SKIP 0 | PASS 18 ]
>
>
> proc.time()
user system elapsed
4.638 0.366 5.022
cola.Rcheck/cola-Ex.timings
| name | user | system | elapsed | |
| ATC | 0.034 | 0.005 | 0.039 | |
| ATC_approx | 0.000 | 0.001 | 0.000 | |
| ConsensusPartition-class | 0.000 | 0.000 | 0.001 | |
| ConsensusPartitionList-class | 0 | 0 | 0 | |
| DownSamplingConsensusPartition-class | 0.000 | 0.000 | 0.001 | |
| Extract.ConsensusPartitionList | 0.561 | 0.021 | 0.584 | |
| Extract.HierarchicalPartition | 0.139 | 0.005 | 0.144 | |
| ExtractExtract.ConsensusPartitionList | 0.442 | 0.008 | 0.454 | |
| ExtractExtract.HierarchicalPartition | 0 | 0 | 0 | |
| FCC | 0.133 | 0.007 | 0.141 | |
| HierarchicalPartition-class | 0 | 0 | 0 | |
| PAC | 0.136 | 0.008 | 0.148 | |
| aPAC | 0.141 | 0.007 | 0.148 | |
| adjust_matrix | 0.006 | 0.002 | 0.009 | |
| adjust_outlier | 0.000 | 0.000 | 0.001 | |
| all_leaves-HierarchicalPartition-method | 0.102 | 0.005 | 0.107 | |
| all_nodes-HierarchicalPartition-method | 0.099 | 0.003 | 0.103 | |
| all_partition_methods | 0.000 | 0.000 | 0.001 | |
| all_top_value_methods | 0 | 0 | 0 | |
| cola | 0.062 | 0.002 | 0.064 | |
| cola_opt | 0.028 | 0.002 | 0.030 | |
| cola_report-ConsensusPartition-method | 0.000 | 0.001 | 0.000 | |
| cola_report-ConsensusPartitionList-method | 0.001 | 0.000 | 0.000 | |
| cola_report-HierarchicalPartition-method | 0.000 | 0.000 | 0.001 | |
| cola_report-dispatch | 0.000 | 0.000 | 0.001 | |
| cola_rl | 0.084 | 0.005 | 0.089 | |
| collect_classes-ConsensusPartition-method | 2.030 | 0.060 | 2.098 | |
| collect_classes-ConsensusPartitionList-method | 3.129 | 0.031 | 3.182 | |
| collect_classes-HierarchicalPartition-method | 1.274 | 0.039 | 1.320 | |
| collect_classes-dispatch | 0.000 | 0.001 | 0.000 | |
| collect_plots-ConsensusPartition-method | 0 | 0 | 0 | |
| collect_plots-ConsensusPartitionList-method | 0 | 0 | 0 | |
| collect_plots-dispatch | 0 | 0 | 0 | |
| collect_stats-ConsensusPartition-method | 0.001 | 0.000 | 0.000 | |
| collect_stats-ConsensusPartitionList-method | 0.393 | 0.007 | 0.402 | |
| collect_stats-dispatch | 0 | 0 | 0 | |
| colnames-ConsensusPartition-method | 0 | 0 | 0 | |
| colnames-ConsensusPartitionList-method | 0 | 0 | 0 | |
| colnames-DownSamplingConsensusPartition-method | 0 | 0 | 0 | |
| colnames-HierarchicalPartition-method | 0 | 0 | 0 | |
| colnames-dispatch | 0 | 0 | 0 | |
| compare_partitions-ConsensusPartition-method | 0 | 0 | 0 | |
| compare_signatures-ConsensusPartition-method | 0 | 0 | 0 | |
| compare_signatures-HierarchicalPartition-method | 4.409 | 0.184 | 4.648 | |
| compare_signatures-dispatch | 0 | 0 | 0 | |
| concordance | 0.128 | 0.005 | 0.134 | |
| config_ATC | 0.001 | 0.001 | 0.001 | |
| consensus_heatmap-ConsensusPartition-method | 0.587 | 0.013 | 0.602 | |
| consensus_partition | 20.118 | 0.267 | 20.482 | |
| consensus_partition_by_down_sampling | 0.000 | 0.000 | 0.001 | |
| correspond_between_rankings | 0.057 | 0.002 | 0.059 | |
| correspond_between_two_rankings | 0.029 | 0.002 | 0.031 | |
| david_enrichment | 0 | 0 | 0 | |
| dim.ConsensusPartition | 0 | 0 | 0 | |
| dim.ConsensusPartitionList | 0.001 | 0.000 | 0.001 | |
| dim.DownSamplingConsensusPartition | 0 | 0 | 0 | |
| dim.HierarchicalPartition | 0.001 | 0.000 | 0.001 | |
| dimension_reduction-ConsensusPartition-method | 0.719 | 0.048 | 0.772 | |
| dimension_reduction-DownSamplingConsensusPartition-method | 1.760 | 0.064 | 1.832 | |
| dimension_reduction-HierarchicalPartition-method | 0.589 | 0.024 | 0.617 | |
| dimension_reduction-dispatch | 0 | 0 | 0 | |
| dimension_reduction-matrix-method | 0 | 0 | 0 | |
| find_best_km | 0.000 | 0.001 | 0.000 | |
| functional_enrichment-ANY-method | 0.000 | 0.001 | 0.000 | |
| functional_enrichment-ConsensusPartition-method | 0.000 | 0.000 | 0.001 | |
| functional_enrichment-ConsensusPartitionList-method | 0 | 0 | 0 | |
| functional_enrichment-HierarchicalPartition-method | 0.000 | 0.001 | 0.000 | |
| functional_enrichment-dispatch | 0.000 | 0.000 | 0.001 | |
| get_anno-ConsensusPartition-method | 0 | 0 | 0 | |
| get_anno-ConsensusPartitionList-method | 0.000 | 0.000 | 0.001 | |
| get_anno-DownSamplingConsensusPartition-method | 0.067 | 0.005 | 0.097 | |
| get_anno-HierarchicalPartition-method | 0.000 | 0.000 | 0.001 | |
| get_anno-dispatch | 0 | 0 | 0 | |
| get_anno_col-ConsensusPartition-method | 0 | 0 | 0 | |
| get_anno_col-ConsensusPartitionList-method | 0.000 | 0.000 | 0.001 | |
| get_anno_col-HierarchicalPartition-method | 0 | 0 | 0 | |
| get_anno_col-dispatch | 0 | 0 | 0 | |
| get_children_nodes-HierarchicalPartition-method | 0 | 0 | 0 | |
| get_classes-ConsensusPartition-method | 0.153 | 0.017 | 0.171 | |
| get_classes-ConsensusPartitionList-method | 0.113 | 0.006 | 0.119 | |
| get_classes-DownSamplingConsensusPartition-method | 0.062 | 0.009 | 0.071 | |
| get_classes-HierarchicalPartition-method | 0.100 | 0.003 | 0.105 | |
| get_classes-dispatch | 0 | 0 | 0 | |
| get_consensus-ConsensusPartition-method | 0.128 | 0.039 | 0.168 | |
| get_matrix-ConsensusPartition-method | 0.342 | 0.515 | 0.861 | |
| get_matrix-ConsensusPartitionList-method | 0.358 | 0.552 | 0.915 | |
| get_matrix-DownSamplingConsensusPartition-method | 0 | 0 | 0 | |
| get_matrix-HierarchicalPartition-method | 0.000 | 0.000 | 0.001 | |
| get_matrix-dispatch | 0 | 0 | 0 | |
| get_membership-ConsensusPartition-method | 0.116 | 0.022 | 0.138 | |
| get_membership-ConsensusPartitionList-method | 0.120 | 0.004 | 0.126 | |
| get_membership-dispatch | 0.000 | 0.000 | 0.001 | |
| get_param-ConsensusPartition-method | 0.143 | 0.010 | 0.154 | |
| get_signatures-ConsensusPartition-method | 4.775 | 0.160 | 4.973 | |
| get_signatures-DownSamplingConsensusPartition-method | 0.001 | 0.000 | 0.000 | |
| get_signatures-HierarchicalPartition-method | 0.000 | 0.000 | 0.001 | |
| get_signatures-dispatch | 0 | 0 | 0 | |
| get_stats-ConsensusPartition-method | 0.183 | 0.021 | 0.206 | |
| get_stats-ConsensusPartitionList-method | 0.118 | 0.004 | 0.123 | |
| get_stats-dispatch | 0 | 0 | 0 | |
| golub_cola | 0.157 | 0.003 | 0.162 | |
| golub_cola_ds | 0.090 | 0.003 | 0.094 | |
| golub_cola_rh | 0.139 | 0.003 | 0.144 | |
| hierarchical_partition | 0.000 | 0.001 | 0.001 | |
| is_best_k-ConsensusPartition-method | 0.120 | 0.003 | 0.124 | |
| is_best_k-ConsensusPartitionList-method | 0.132 | 0.004 | 0.137 | |
| is_best_k-dispatch | 0 | 0 | 0 | |
| is_leaf_node-HierarchicalPartition-method | 0.100 | 0.003 | 0.102 | |
| is_stable_k-ConsensusPartition-method | 0.131 | 0.008 | 0.140 | |
| is_stable_k-ConsensusPartitionList-method | 0.137 | 0.003 | 0.141 | |
| is_stable_k-dispatch | 0.000 | 0.000 | 0.001 | |
| knee_finder2 | 0.020 | 0.003 | 0.023 | |
| knitr_add_tab_item | 0 | 0 | 0 | |
| knitr_insert_tabs | 0 | 0 | 0 | |
| map_to_entrez_id | 0 | 0 | 0 | |
| max_depth-HierarchicalPartition-method | 0.095 | 0.003 | 0.099 | |
| membership_heatmap-ConsensusPartition-method | 0.493 | 0.008 | 0.504 | |
| merge_node-HierarchicalPartition-method | 0 | 0 | 0 | |
| merge_node_param | 0 | 0 | 0 | |
| ncol-ConsensusPartition-method | 0.000 | 0.000 | 0.001 | |
| ncol-ConsensusPartitionList-method | 0.000 | 0.000 | 0.001 | |
| ncol-DownSamplingConsensusPartition-method | 0.001 | 0.000 | 0.000 | |
| ncol-HierarchicalPartition-method | 0 | 0 | 0 | |
| ncol-dispatch | 0.000 | 0.001 | 0.000 | |
| node_info-HierarchicalPartition-method | 0.000 | 0.000 | 0.001 | |
| node_level-HierarchicalPartition-method | 0.000 | 0.001 | 0.000 | |
| nrow-ConsensusPartition-method | 0 | 0 | 0 | |
| nrow-ConsensusPartitionList-method | 0.001 | 0.000 | 0.000 | |
| nrow-HierarchicalPartition-method | 0 | 0 | 0 | |
| nrow-dispatch | 0.001 | 0.000 | 0.000 | |
| plot_ecdf-ConsensusPartition-method | 0.139 | 0.003 | 0.144 | |
| predict_classes-ConsensusPartition-method | 0 | 0 | 0 | |
| predict_classes-dispatch | 0.000 | 0.001 | 0.001 | |
| predict_classes-matrix-method | 0 | 0 | 0 | |
| print.hc_table_suggest_best_k | 0 | 0 | 0 | |
| recalc_stats | 0.000 | 0.000 | 0.001 | |
| register_NMF | 0 | 0 | 0 | |
| register_SOM | 0.001 | 0.000 | 0.000 | |
| register_partition_methods | 0.588 | 0.016 | 0.608 | |
| register_top_value_methods | 0.001 | 0.000 | 0.001 | |
| relabel_class | 0.008 | 0.002 | 0.010 | |
| remove_partition_methods | 0.000 | 0.001 | 0.000 | |
| remove_top_value_methods | 0 | 0 | 0 | |
| rownames-ConsensusPartition-method | 0 | 0 | 0 | |
| rownames-ConsensusPartitionList-method | 0 | 0 | 0 | |
| rownames-HierarchicalPartition-method | 0 | 0 | 0 | |
| rownames-dispatch | 0.001 | 0.000 | 0.000 | |
| run_all_consensus_partition_methods | 0 | 0 | 0 | |
| select_partition_number-ConsensusPartition-method | 0.131 | 0.004 | 0.135 | |
| show-ConsensusPartition-method | 0 | 0 | 0 | |
| show-ConsensusPartitionList-method | 0 | 0 | 0 | |
| show-DownSamplingConsensusPartition-method | 0.089 | 0.002 | 0.093 | |
| show-HierarchicalPartition-method | 0.162 | 0.004 | 0.167 | |
| show-dispatch | 0 | 0 | 0 | |
| split_node-HierarchicalPartition-method | 0 | 0 | 0 | |
| suggest_best_k-ConsensusPartition-method | 0.120 | 0.003 | 0.124 | |
| suggest_best_k-ConsensusPartitionList-method | 0.130 | 0.004 | 0.135 | |
| suggest_best_k-HierarchicalPartition-method | 0.111 | 0.003 | 0.115 | |
| suggest_best_k-dispatch | 0 | 0 | 0 | |
| test_between_factors | 0.01 | 0.00 | 0.01 | |
| test_to_known_factors-ConsensusPartition-method | 0.138 | 0.003 | 0.142 | |
| test_to_known_factors-ConsensusPartitionList-method | 0.238 | 0.004 | 0.244 | |
| test_to_known_factors-DownSamplingConsensusPartition-method | 0.085 | 0.002 | 0.088 | |
| test_to_known_factors-HierarchicalPartition-method | 0.122 | 0.004 | 0.127 | |
| test_to_known_factors-dispatch | 0.000 | 0.001 | 0.000 | |
| top_elements_overlap | 0.241 | 0.027 | 0.274 | |
| top_rows_heatmap-ConsensusPartition-method | 0 | 0 | 0 | |
| top_rows_heatmap-ConsensusPartitionList-method | 0 | 0 | 0 | |
| top_rows_heatmap-HierarchicalPartition-method | 0.000 | 0.001 | 0.000 | |
| top_rows_heatmap-dispatch | 0 | 0 | 0 | |
| top_rows_heatmap-matrix-method | 3.232 | 0.231 | 3.482 | |
| top_rows_overlap-ConsensusPartitionList-method | 1.266 | 0.073 | 1.345 | |
| top_rows_overlap-HierarchicalPartition-method | 0.508 | 0.014 | 0.526 | |
| top_rows_overlap-dispatch | 0 | 0 | 0 | |
| top_rows_overlap-matrix-method | 0.144 | 0.004 | 0.151 | |