Back to Multiple platform build/check report for BioC 3.22:   simplified   long
AB[C]DEFGHIJKLMNOPQRSTUVWXYZ

This page was generated on 2025-11-11 12:03 -0500 (Tue, 11 Nov 2025).

HostnameOSArch (*)R versionInstalled pkgs
nebbiolo2Linux (Ubuntu 24.04.3 LTS)x86_644.5.1 Patched (2025-08-23 r88802) -- "Great Square Root" 4902
kjohnson3macOS 13.7.7 Venturaarm644.5.1 Patched (2025-09-10 r88807) -- "Great Square Root" 4638
Click on any hostname to see more info about the system (e.g. compilers)      (*) as reported by 'uname -p', except on Windows and Mac OS X

Package 425/2361HostnameOS / ArchINSTALLBUILDCHECKBUILD BIN
cola 2.16.0  (landing page)
Zuguang Gu
Snapshot Date: 2025-11-10 13:45 -0500 (Mon, 10 Nov 2025)
git_url: https://git.bioconductor.org/packages/cola
git_branch: RELEASE_3_22
git_last_commit: 796a58f
git_last_commit_date: 2025-10-29 10:49:39 -0500 (Wed, 29 Oct 2025)
nebbiolo2Linux (Ubuntu 24.04.3 LTS) / x86_64  OK    OK    OK  UNNEEDED, same version is already published
kjohnson3macOS 13.7.7 Ventura / arm64  OK    OK    OK    OK  UNNEEDED, same version is already published


CHECK results for cola on kjohnson3

To the developers/maintainers of the cola package:
- Allow up to 24 hours (and sometimes 48 hours) for your latest push to git@git.bioconductor.org:packages/cola.git to reflect on this report. See Troubleshooting Build Report for more information.
- Use the following Renviron settings to reproduce errors and warnings.
- If 'R CMD check' started to fail recently on the Linux builder(s) over a missing dependency, add the missing dependency to 'Suggests:' in your DESCRIPTION file. See Renviron.bioc for more information.

raw results


Summary

Package: cola
Version: 2.16.0
Command: /Library/Frameworks/R.framework/Resources/bin/R CMD check --install=check:cola.install-out.txt --library=/Library/Frameworks/R.framework/Resources/library --no-vignettes --timings cola_2.16.0.tar.gz
StartedAt: 2025-11-10 19:22:42 -0500 (Mon, 10 Nov 2025)
EndedAt: 2025-11-10 19:23:54 -0500 (Mon, 10 Nov 2025)
EllapsedTime: 71.9 seconds
RetCode: 0
Status:   OK  
CheckDir: cola.Rcheck
Warnings: 0

Command output

##############################################################################
##############################################################################
###
### Running command:
###
###   /Library/Frameworks/R.framework/Resources/bin/R CMD check --install=check:cola.install-out.txt --library=/Library/Frameworks/R.framework/Resources/library --no-vignettes --timings cola_2.16.0.tar.gz
###
##############################################################################
##############################################################################


* using log directory ‘/Users/biocbuild/bbs-3.22-bioc/meat/cola.Rcheck’
* using R version 4.5.1 Patched (2025-09-10 r88807)
* using platform: aarch64-apple-darwin20
* R was compiled by
    Apple clang version 16.0.0 (clang-1600.0.26.6)
    GNU Fortran (GCC) 14.2.0
* running under: macOS Ventura 13.7.7
* using session charset: UTF-8
* using option ‘--no-vignettes’
* checking for file ‘cola/DESCRIPTION’ ... OK
* checking extension type ... Package
* this is package ‘cola’ version ‘2.16.0’
* checking package namespace information ... OK
* checking package dependencies ... INFO
Imports includes 27 non-default packages.
Importing from so many packages makes the package vulnerable to any of
them becoming unavailable.  Move as many as possible to Suggests and
use conditionally.
* checking if this is a source package ... OK
* checking if there is a namespace ... OK
* checking for hidden files and directories ... OK
* checking for portable file names ... OK
* checking for sufficient/correct file permissions ... OK
* checking whether package ‘cola’ can be installed ... OK
* used C++ compiler: ‘Apple clang version 15.0.0 (clang-1500.1.0.2.5)’
* used SDK: ‘MacOSX11.3.1.sdk’
* checking installed package size ... INFO
  installed size is  5.8Mb
  sub-directories of 1Mb or more:
    data      3.2Mb
    extdata   1.0Mb
* checking package directory ... OK
* checking ‘build’ directory ... OK
* checking DESCRIPTION meta-information ... NOTE
License stub is invalid DCF.
* checking top-level files ... OK
* checking for left-over files ... OK
* checking index information ... OK
* checking package subdirectories ... OK
* checking code files for non-ASCII characters ... OK
* checking R files for syntax errors ... OK
* checking whether the package can be loaded ... OK
* checking whether the package can be loaded with stated dependencies ... OK
* checking whether the package can be unloaded cleanly ... OK
* checking whether the namespace can be loaded with stated dependencies ... OK
* checking whether the namespace can be unloaded cleanly ... OK
* checking whether startup messages can be suppressed ... OK
* checking dependencies in R code ... OK
* checking S3 generic/method consistency ... OK
* checking replacement functions ... OK
* checking foreign function calls ... OK
* checking R code for possible problems ... OK
* checking Rd files ... OK
* checking Rd metadata ... OK
* checking Rd cross-references ... NOTE
Non-topic package-anchored link(s) in Rd file 'collect_classes-ConsensusPartitionList-method.Rd':
  ‘[ComplexHeatmap:draw-HeatmapList-method]{draw,HeatmapList-method}’

See section 'Cross-references' in the 'Writing R Extensions' manual.

Found the following Rd file(s) with Rd \link{} targets missing package
anchors:
  predict_classes-ConsensusPartition-method.Rd: colorRamp2
  predict_classes-matrix-method.Rd: colorRamp2
Please provide package anchors for all Rd \link{} targets not in the
package itself and the base packages.
* checking for missing documentation entries ... OK
* checking for code/documentation mismatches ... OK
* checking Rd \usage sections ... OK
* checking Rd contents ... OK
* checking for unstated dependencies in examples ... OK
* checking contents of ‘data’ directory ... OK
* checking data for non-ASCII characters ... OK
* checking data for ASCII and uncompressed saves ... OK
* checking line endings in C/C++/Fortran sources/headers ... OK
* checking compiled code ... NOTE
Note: information on .o files is not available
* checking files in ‘vignettes’ ... OK
* checking examples ... OK
Examples with CPU (user + system) or elapsed time > 5s
                     user system elapsed
consensus_partition 5.315  0.154   5.476
* checking for unstated dependencies in ‘tests’ ... OK
* checking tests ...
  Running ‘test-all.R’
 OK
* checking for unstated dependencies in vignettes ... OK
* checking package vignettes ... OK
* checking running R code from vignettes ... SKIPPED
* checking re-building of vignette outputs ... SKIPPED
* checking PDF version of manual ... OK
* DONE

Status: 3 NOTEs
See
  ‘/Users/biocbuild/bbs-3.22-bioc/meat/cola.Rcheck/00check.log’
for details.


Installation output

cola.Rcheck/00install.out

##############################################################################
##############################################################################
###
### Running command:
###
###   /Library/Frameworks/R.framework/Resources/bin/R CMD INSTALL cola
###
##############################################################################
##############################################################################


* installing to library ‘/Library/Frameworks/R.framework/Versions/4.5-arm64/Resources/library’
* installing *source* package ‘cola’ ...
** this is package ‘cola’ version ‘2.16.0’
** using staged installation
** libs
using C++ compiler: ‘Apple clang version 15.0.0 (clang-1500.1.0.2.5)’
using SDK: ‘MacOSX11.3.1.sdk’
clang++ -arch arm64 -std=gnu++17 -I"/Library/Frameworks/R.framework/Resources/include" -DNDEBUG  -I'/Library/Frameworks/R.framework/Versions/4.5-arm64/Resources/library/Rcpp/include' -I/opt/R/arm64/include    -fPIC  -falign-functions=64 -Wall -g -O2   -c RcppExports.cpp -o RcppExports.o
clang++ -arch arm64 -std=gnu++17 -I"/Library/Frameworks/R.framework/Resources/include" -DNDEBUG  -I'/Library/Frameworks/R.framework/Versions/4.5-arm64/Resources/library/Rcpp/include' -I/opt/R/arm64/include    -fPIC  -falign-functions=64 -Wall -g -O2   -c atc.cpp -o atc.o
clang++ -arch arm64 -std=gnu++17 -I"/Library/Frameworks/R.framework/Resources/include" -DNDEBUG  -I'/Library/Frameworks/R.framework/Versions/4.5-arm64/Resources/library/Rcpp/include' -I/opt/R/arm64/include    -fPIC  -falign-functions=64 -Wall -g -O2   -c cal_consensus_mat.cpp -o cal_consensus_mat.o
clang++ -arch arm64 -std=gnu++17 -I"/Library/Frameworks/R.framework/Resources/include" -DNDEBUG  -I'/Library/Frameworks/R.framework/Versions/4.5-arm64/Resources/library/Rcpp/include' -I/opt/R/arm64/include    -fPIC  -falign-functions=64 -Wall -g -O2   -c pdist.cpp -o pdist.o
clang++ -arch arm64 -std=gnu++17 -dynamiclib -Wl,-headerpad_max_install_names -undefined dynamic_lookup -L/Library/Frameworks/R.framework/Resources/lib -L/opt/R/arm64/lib -o cola.so RcppExports.o atc.o cal_consensus_mat.o pdist.o -F/Library/Frameworks/R.framework/.. -framework R
installing to /Library/Frameworks/R.framework/Versions/4.5-arm64/Resources/library/00LOCK-cola/00new/cola/libs
** R
** data
** inst
** byte-compile and prepare package for lazy loading
** help
*** installing help indices
** building package indices
** installing vignettes
** testing if installed package can be loaded from temporary location
** checking absolute paths in shared objects and dynamic libraries
** testing if installed package can be loaded from final location
** testing if installed package keeps a record of temporary installation path
* DONE (cola)

Tests output

cola.Rcheck/tests/test-all.Rout


R version 4.5.1 Patched (2025-09-10 r88807) -- "Great Square Root"
Copyright (C) 2025 The R Foundation for Statistical Computing
Platform: aarch64-apple-darwin20

R is free software and comes with ABSOLUTELY NO WARRANTY.
You are welcome to redistribute it under certain conditions.
Type 'license()' or 'licence()' for distribution details.

R is a collaborative project with many contributors.
Type 'contributors()' for more information and
'citation()' on how to cite R or R packages in publications.

Type 'demo()' for some demos, 'help()' for on-line help, or
'help.start()' for an HTML browser interface to help.
Type 'q()' to quit R.

> library(testthat)
> suppressWarnings(suppressPackageStartupMessages(library(cola)))
> 
> test_check("cola")
[ FAIL 0 | WARN 0 | SKIP 0 | PASS 18 ]
> 
> 
> proc.time()
   user  system elapsed 
  1.583   0.140   1.767 

Example timings

cola.Rcheck/cola-Ex.timings

nameusersystemelapsed
ATC0.0110.0020.015
ATC_approx000
ConsensusPartition-class000
ConsensusPartitionList-class000
DownSamplingConsensusPartition-class000
Extract.ConsensusPartitionList0.2090.0080.221
Extract.HierarchicalPartition0.0660.0030.077
ExtractExtract.ConsensusPartitionList0.2140.0040.224
ExtractExtract.HierarchicalPartition000
FCC0.0660.0030.069
HierarchicalPartition-class000
PAC0.0660.0040.070
aPAC0.0680.0030.072
adjust_matrix0.0020.0000.003
adjust_outlier0.0000.0010.000
all_leaves-HierarchicalPartition-method0.0590.0010.061
all_nodes-HierarchicalPartition-method0.0580.0010.060
all_partition_methods000
all_top_value_methods000
cola0.0150.0000.016
cola_opt0.0100.0010.010
cola_report-ConsensusPartition-method000
cola_report-ConsensusPartitionList-method000
cola_report-HierarchicalPartition-method000
cola_report-dispatch000
cola_rl0.0320.0020.033
collect_classes-ConsensusPartition-method0.6960.0290.742
collect_classes-ConsensusPartitionList-method0.970.010.98
collect_classes-HierarchicalPartition-method0.7500.0190.785
collect_classes-dispatch000
collect_plots-ConsensusPartition-method000
collect_plots-ConsensusPartitionList-method000
collect_plots-dispatch000
collect_stats-ConsensusPartition-method000
collect_stats-ConsensusPartitionList-method0.1480.0050.159
collect_stats-dispatch000
colnames-ConsensusPartition-method000
colnames-ConsensusPartitionList-method000
colnames-DownSamplingConsensusPartition-method000
colnames-HierarchicalPartition-method000
colnames-dispatch0.0000.0000.001
compare_partitions-ConsensusPartition-method000
compare_signatures-ConsensusPartition-method000
compare_signatures-HierarchicalPartition-method1.5880.0701.676
compare_signatures-dispatch000
concordance0.0650.0020.067
config_ATC0.0010.0000.000
consensus_heatmap-ConsensusPartition-method0.2010.0080.209
consensus_partition5.3150.1545.476
consensus_partition_by_down_sampling000
correspond_between_rankings0.0180.0000.019
correspond_between_two_rankings0.0080.0000.009
david_enrichment000
dim.ConsensusPartition000
dim.ConsensusPartitionList0.0000.0010.000
dim.DownSamplingConsensusPartition000
dim.HierarchicalPartition000
dimension_reduction-ConsensusPartition-method0.2680.0170.285
dimension_reduction-DownSamplingConsensusPartition-method0.6900.0320.736
dimension_reduction-HierarchicalPartition-method0.2270.0150.241
dimension_reduction-dispatch000
dimension_reduction-matrix-method000
find_best_km000
functional_enrichment-ANY-method000
functional_enrichment-ConsensusPartition-method000
functional_enrichment-ConsensusPartitionList-method000
functional_enrichment-HierarchicalPartition-method000
functional_enrichment-dispatch000
get_anno-ConsensusPartition-method000
get_anno-ConsensusPartitionList-method000
get_anno-DownSamplingConsensusPartition-method0.0390.0010.041
get_anno-HierarchicalPartition-method000
get_anno-dispatch000
get_anno_col-ConsensusPartition-method000
get_anno_col-ConsensusPartitionList-method000
get_anno_col-HierarchicalPartition-method000
get_anno_col-dispatch000
get_children_nodes-HierarchicalPartition-method000
get_classes-ConsensusPartition-method0.0630.0030.066
get_classes-ConsensusPartitionList-method0.0680.0040.071
get_classes-DownSamplingConsensusPartition-method0.0400.0020.042
get_classes-HierarchicalPartition-method0.0610.0020.063
get_classes-dispatch000
get_consensus-ConsensusPartition-method0.0640.0100.074
get_matrix-ConsensusPartition-method0.1260.1450.283
get_matrix-ConsensusPartitionList-method0.1300.1470.277
get_matrix-DownSamplingConsensusPartition-method000
get_matrix-HierarchicalPartition-method000
get_matrix-dispatch000
get_membership-ConsensusPartition-method0.0640.0070.071
get_membership-ConsensusPartitionList-method0.0620.0020.066
get_membership-dispatch0.0000.0000.001
get_param-ConsensusPartition-method0.0720.0080.079
get_signatures-ConsensusPartition-method1.6360.0741.730
get_signatures-DownSamplingConsensusPartition-method000
get_signatures-HierarchicalPartition-method000
get_signatures-dispatch000
get_stats-ConsensusPartition-method0.0860.0040.090
get_stats-ConsensusPartitionList-method0.0640.0030.067
get_stats-dispatch000
golub_cola0.0710.0030.073
golub_cola_ds0.0470.0020.049
golub_cola_rh0.0770.0030.080
hierarchical_partition000
is_best_k-ConsensusPartition-method0.0650.0020.067
is_best_k-ConsensusPartitionList-method0.0650.0020.068
is_best_k-dispatch000
is_leaf_node-HierarchicalPartition-method0.0750.0070.082
is_stable_k-ConsensusPartition-method0.0640.0030.066
is_stable_k-ConsensusPartitionList-method0.0650.0030.068
is_stable_k-dispatch000
knee_finder20.0110.0010.014
knitr_add_tab_item000
knitr_insert_tabs000
map_to_entrez_id000
max_depth-HierarchicalPartition-method0.0590.0010.061
membership_heatmap-ConsensusPartition-method0.1760.0030.180
merge_node-HierarchicalPartition-method000
merge_node_param000
ncol-ConsensusPartition-method0.0010.0000.000
ncol-ConsensusPartitionList-method000
ncol-DownSamplingConsensusPartition-method000
ncol-HierarchicalPartition-method000
ncol-dispatch000
node_info-HierarchicalPartition-method0.0000.0000.001
node_level-HierarchicalPartition-method000
nrow-ConsensusPartition-method000
nrow-ConsensusPartitionList-method000
nrow-HierarchicalPartition-method000
nrow-dispatch000
plot_ecdf-ConsensusPartition-method0.0670.0020.070
predict_classes-ConsensusPartition-method000
predict_classes-dispatch000
predict_classes-matrix-method0.0000.0010.000
print.hc_table_suggest_best_k000
recalc_stats000
register_NMF000
register_SOM000
register_partition_methods0.2950.0060.300
register_top_value_methods000
relabel_class0.0030.0010.004
remove_partition_methods0.0000.0000.001
remove_top_value_methods000
rownames-ConsensusPartition-method000
rownames-ConsensusPartitionList-method000
rownames-HierarchicalPartition-method000
rownames-dispatch000
run_all_consensus_partition_methods000
select_partition_number-ConsensusPartition-method0.0670.0040.071
show-ConsensusPartition-method000
show-ConsensusPartitionList-method000
show-DownSamplingConsensusPartition-method0.0470.0020.048
show-HierarchicalPartition-method0.0700.0020.072
show-dispatch000
split_node-HierarchicalPartition-method000
suggest_best_k-ConsensusPartition-method0.0610.0030.064
suggest_best_k-ConsensusPartitionList-method0.0640.0030.067
suggest_best_k-HierarchicalPartition-method0.0610.0030.064
suggest_best_k-dispatch000
test_between_factors0.0030.0000.003
test_to_known_factors-ConsensusPartition-method0.0680.0020.071
test_to_known_factors-ConsensusPartitionList-method0.0980.0040.102
test_to_known_factors-DownSamplingConsensusPartition-method0.0470.0020.048
test_to_known_factors-HierarchicalPartition-method0.0670.0040.070
test_to_known_factors-dispatch0.0000.0000.001
top_elements_overlap0.0660.0050.070
top_rows_heatmap-ConsensusPartition-method000
top_rows_heatmap-ConsensusPartitionList-method000
top_rows_heatmap-HierarchicalPartition-method000
top_rows_heatmap-dispatch000
top_rows_heatmap-matrix-method1.3040.0981.491
top_rows_overlap-ConsensusPartitionList-method0.3010.0180.324
top_rows_overlap-HierarchicalPartition-method0.2210.0050.229
top_rows_overlap-dispatch000
top_rows_overlap-matrix-method0.0450.0000.045