Back to Multiple platform build/check report for BioC 3.22:   simplified   long
AB[C]DEFGHIJKLMNOPQRSTUVWXYZ

This page was generated on 2025-11-20 12:03 -0500 (Thu, 20 Nov 2025).

HostnameOSArch (*)R versionInstalled pkgs
nebbiolo2Linux (Ubuntu 24.04.3 LTS)x86_644.5.2 (2025-10-31) -- "[Not] Part in a Rumble" 4615
merida1macOS 12.7.6 Montereyx86_644.5.2 Patched (2025-11-05 r88990) -- "[Not] Part in a Rumble" 4610
kjohnson1macOS 13.7.5 Venturaarm644.5.2 Patched (2025-11-04 r88984) -- "[Not] Part in a Rumble" 4598
taishanLinux (openEuler 24.03 LTS)aarch644.5.0 (2025-04-11) -- "How About a Twenty-Six" 4668
Click on any hostname to see more info about the system (e.g. compilers)      (*) as reported by 'uname -p', except on Windows and Mac OS X

Package 313/2361HostnameOS / ArchINSTALLBUILDCHECKBUILD BIN
cellmigRation 1.18.0  (landing page)
Waldir Leoncio
Snapshot Date: 2025-11-17 13:45 -0500 (Mon, 17 Nov 2025)
git_url: https://git.bioconductor.org/packages/cellmigRation
git_branch: RELEASE_3_22
git_last_commit: 995cd43
git_last_commit_date: 2025-10-29 11:08:05 -0500 (Wed, 29 Oct 2025)
nebbiolo2Linux (Ubuntu 24.04.3 LTS) / x86_64  OK    OK    OK  UNNEEDED, same version is already published
merida1macOS 12.7.6 Monterey / x86_64  OK    OK    OK    OK  UNNEEDED, same version is already published
kjohnson1macOS 13.7.5 Ventura / arm64  OK    OK    OK    OK  UNNEEDED, same version is already published
taishanLinux (openEuler 24.03 LTS) / aarch64  OK    OK    OK  


CHECK results for cellmigRation on nebbiolo2

To the developers/maintainers of the cellmigRation package:
- Allow up to 24 hours (and sometimes 48 hours) for your latest push to git@git.bioconductor.org:packages/cellmigRation.git to reflect on this report. See Troubleshooting Build Report for more information.
- Use the following Renviron settings to reproduce errors and warnings.
- If 'R CMD check' started to fail recently on the Linux builder(s) over a missing dependency, add the missing dependency to 'Suggests:' in your DESCRIPTION file. See Renviron.bioc for more information.

raw results


Summary

Package: cellmigRation
Version: 1.18.0
Command: /home/biocbuild/bbs-3.22-bioc/R/bin/R CMD check --install=check:cellmigRation.install-out.txt --library=/home/biocbuild/bbs-3.22-bioc/R/site-library --timings cellmigRation_1.18.0.tar.gz
StartedAt: 2025-11-18 01:35:23 -0500 (Tue, 18 Nov 2025)
EndedAt: 2025-11-18 01:40:24 -0500 (Tue, 18 Nov 2025)
EllapsedTime: 301.2 seconds
RetCode: 0
Status:   OK  
CheckDir: cellmigRation.Rcheck
Warnings: 0

Command output

##############################################################################
##############################################################################
###
### Running command:
###
###   /home/biocbuild/bbs-3.22-bioc/R/bin/R CMD check --install=check:cellmigRation.install-out.txt --library=/home/biocbuild/bbs-3.22-bioc/R/site-library --timings cellmigRation_1.18.0.tar.gz
###
##############################################################################
##############################################################################


* using log directory ‘/home/biocbuild/bbs-3.22-bioc/meat/cellmigRation.Rcheck’
* using R version 4.5.2 (2025-10-31)
* using platform: x86_64-pc-linux-gnu
* R was compiled by
    gcc (Ubuntu 13.3.0-6ubuntu2~24.04) 13.3.0
    GNU Fortran (Ubuntu 13.3.0-6ubuntu2~24.04) 13.3.0
* running under: Ubuntu 24.04.3 LTS
* using session charset: UTF-8
* checking for file ‘cellmigRation/DESCRIPTION’ ... OK
* checking extension type ... Package
* this is package ‘cellmigRation’ version ‘1.18.0’
* package encoding: UTF-8
* checking package namespace information ... OK
* checking package dependencies ... OK
* checking if this is a source package ... OK
* checking if there is a namespace ... OK
* checking for hidden files and directories ... OK
* checking for portable file names ... OK
* checking for sufficient/correct file permissions ... OK
* checking whether package ‘cellmigRation’ can be installed ... OK
* checking installed package size ... OK
* checking package directory ... OK
* checking ‘build’ directory ... OK
* checking DESCRIPTION meta-information ... OK
* checking top-level files ... OK
* checking for left-over files ... OK
* checking index information ... OK
* checking package subdirectories ... OK
* checking code files for non-ASCII characters ... OK
* checking R files for syntax errors ... OK
* checking whether the package can be loaded ... OK
* checking whether the package can be loaded with stated dependencies ... OK
* checking whether the package can be unloaded cleanly ... OK
* checking whether the namespace can be loaded with stated dependencies ... OK
* checking whether the namespace can be unloaded cleanly ... OK
* checking loading without being on the library search path ... OK
* checking dependencies in R code ... OK
* checking S3 generic/method consistency ... OK
* checking replacement functions ... OK
* checking foreign function calls ... OK
* checking R code for possible problems ... OK
* checking Rd files ... OK
* checking Rd metadata ... OK
* checking Rd cross-references ... OK
* checking for missing documentation entries ... OK
* checking for code/documentation mismatches ... OK
* checking Rd \usage sections ... NOTE
Documented arguments not in \usage in Rd file 'fixDA.Rd':
  ‘object’

Documented arguments not in \usage in Rd file 'fixFM1.Rd':
  ‘object’

Documented arguments not in \usage in Rd file 'fixFM2.Rd':
  ‘object’

Documented arguments not in \usage in Rd file 'fixFM3.Rd':
  ‘object’

Documented arguments not in \usage in Rd file 'fixFM4.Rd':
  ‘object’

Documented arguments not in \usage in Rd file 'fixFM5.Rd':
  ‘object’

Documented arguments not in \usage in Rd file 'fixFM6.Rd':
  ‘object’

Documented arguments not in \usage in Rd file 'fixID2.Rd':
  ‘TimeInterval’

Documented arguments not in \usage in Rd file 'fixID3.Rd':
  ‘TimeInterval’

Documented arguments not in \usage in Rd file 'fixID4.Rd':
  ‘TimeInterval’

Documented arguments not in \usage in Rd file 'fixMSD.Rd':
  ‘object’

Documented arguments not in \usage in Rd file 'fixPER1.Rd':
  ‘x’

Documented arguments not in \usage in Rd file 'fixPER2.Rd':
  ‘x’

Documented arguments not in \usage in Rd file 'innerBondRaster.Rd':
  ‘i’

Functions with \usage entries need to have the appropriate \alias
entries, and all their arguments documented.
The \usage entries must correspond to syntactically valid R code.
See chapter ‘Writing R documentation files’ in the ‘Writing R
Extensions’ manual.
* checking Rd contents ... OK
* checking for unstated dependencies in examples ... OK
* checking contents of ‘data’ directory ... OK
* checking data for non-ASCII characters ... OK
* checking data for ASCII and uncompressed saves ... OK
* checking files in ‘vignettes’ ... OK
* checking examples ... OK
* checking for unstated dependencies in ‘tests’ ... OK
* checking tests ...
  Running ‘runTests.R’
 OK
* checking for unstated dependencies in vignettes ... OK
* checking package vignettes ... OK
* checking re-building of vignette outputs ... OK
* checking PDF version of manual ... OK
* DONE

Status: 1 NOTE
See
  ‘/home/biocbuild/bbs-3.22-bioc/meat/cellmigRation.Rcheck/00check.log’
for details.


Installation output

cellmigRation.Rcheck/00install.out

##############################################################################
##############################################################################
###
### Running command:
###
###   /home/biocbuild/bbs-3.22-bioc/R/bin/R CMD INSTALL cellmigRation
###
##############################################################################
##############################################################################


* installing to library ‘/home/biocbuild/bbs-3.22-bioc/R/site-library’
* installing *source* package ‘cellmigRation’ ...
** this is package ‘cellmigRation’ version ‘1.18.0’
** using staged installation
** R
** data
** inst
** byte-compile and prepare package for lazy loading
** help
*** installing help indices
** building package indices
** installing vignettes
** testing if installed package can be loaded from temporary location
** testing if installed package can be loaded from final location
** testing if installed package keeps a record of temporary installation path
* DONE (cellmigRation)

Tests output

cellmigRation.Rcheck/tests/runTests.Rout


R version 4.5.2 (2025-10-31) -- "[Not] Part in a Rumble"
Copyright (C) 2025 The R Foundation for Statistical Computing
Platform: x86_64-pc-linux-gnu

R is free software and comes with ABSOLUTELY NO WARRANTY.
You are welcome to redistribute it under certain conditions.
Type 'license()' or 'licence()' for distribution details.

R is a collaborative project with many contributors.
Type 'contributors()' for more information and
'citation()' on how to cite R or R packages in publications.

Type 'demo()' for some demos, 'help()' for on-line help, or
'help.start()' for an HTML browser interface to help.
Type 'q()' to quit R.

> BiocGenerics:::testPackage("cellmigRation")


RUNIT TEST PROTOCOL -- Tue Nov 18 01:38:23 2025 
*********************************************** 
Number of test functions: 7 
Number of errors: 0 
Number of failures: 0 

 
1 Test Suite : 
cellmigRation RUnit Tests - 7 test functions, 0 errors, 0 failures
Number of test functions: 7 
Number of errors: 0 
Number of failures: 0 
> 
> proc.time()
   user  system elapsed 
  2.908   0.256   3.151 

Example timings

cellmigRation.Rcheck/cellmigRation-Ex.timings

nameusersystemelapsed
AddDimension0.0010.0000.001
CellMig-class0.0260.0000.026
CellMigPCA1.4340.0081.443
CellMigPCAclust0.0070.0020.007
CellMigPCAclustALL0.6140.0010.615
CellTracker0.0180.0000.018
CellTrackerMainLoop0.0010.0070.007
CentroidArray0.0180.0020.020
CentroidValidation0.4540.0020.456
ComputeTracksStats0.0250.0010.025
DetectRadii0.0020.0000.002
DiAutoCor1.3150.0361.350
DiRatio0.0150.0010.016
DiRatioPlot0.0320.0000.033
EstimateDiameterRange0.0120.0000.013
FMI0.4510.0010.453
FianlizeOptiParams0.0010.0000.000
FilterTrackedCells0.0020.0000.002
FinRes0.8660.0180.885
ForwardMigration0.8710.0440.915
GenAllCombos0.0030.0000.003
LinearConv20.0170.0010.018
LoadTiff0.0010.0000.001
MSD1.3820.0061.389
MakeHypercube0.0010.0000.001
MigrationStats0.0010.0000.001
NextOdd0.0010.0000.000
NonParallel4OptimizeParams0.0010.0000.000
NonParallelTrackLoop000
OptimizeParams0.0150.0020.018
OptimizeParamsMainLoop0.0010.0040.005
Parallel4OptimizeParams0.0000.0000.001
ParallelTrackLoop0.0010.0000.001
PerAndSpeed0.2830.0230.308
PlotTracksSeparately0.0080.0010.009
PostProcessTracking000
Prep4OptimizeParams0.0870.0080.096
ThreeConditions0.0070.0080.015
TrackCellsDataset0.0140.0030.017
TrajectoryDataset0.0210.0010.022
ValidateTrackingArgs0.0010.0000.000
VeAutoCor0.9970.0271.024
VisualizeCntr0.0010.0010.002
VisualizeImg0.0050.0000.005
VisualizeStackCentroids0.0540.0020.056
WSADataset0.0070.0000.006
aggregateFR0.5850.0010.586
aggregateTrackedCells0.0200.0010.021
bpass0.0560.0010.057
circshift0.0010.0000.000
cntrd0.6750.0010.677
fixDA000
fixExpName0.0010.0000.000
fixFM1000
fixFM20.0010.0000.000
fixFM30.0000.0000.001
fixFM40.0010.0000.000
fixFM50.0000.0000.001
fixFM60.0010.0000.000
fixID10.0000.0000.001
fixMSD0.0010.0000.000
fixPER1000
fixPER20.0000.0010.000
fixPER3000
getAvailableAggrMetrics0.8570.0240.882
getCellImages0.1480.1100.258
getCellMigSlot0.2110.0700.281
getCellTrackMeta0.0140.0030.017
getCellTrackStats0.0190.0010.020
getCellTracks0.0130.0050.017
getCellsMeta0.0160.0010.017
getCellsStats0.0130.0060.019
getDACtable1.7800.0031.783
getDiRatio0.0170.0010.018
getFMItable0.4230.0000.423
getForMigtable0.5210.0010.521
getImageCentroids0.0210.0010.021
getImageStacks0.0530.0030.056
getMSDtable3.3430.0453.389
getOptimizedParameters0.0160.0000.016
getOptimizedParams0.0140.0030.018
getPerAndSpeed0.2490.0040.255
getPopulationStats0.0160.0010.017
getProcessedImages0.1370.1020.239
getProcessingStatus0.0130.0030.017
getResults0.580.000.58
getTracks0.0150.0020.017
getVACtable0.9790.0421.021
initializeTrackParams0.0000.0010.000
innerBondRaster0.0010.0000.001
internalPermutation0.0010.0000.001
matfix0.0010.0000.001
nontrivialBondTracking000
pkfnd0.6550.0100.665
plot3DAllTracks0.0730.0250.097
plot3DTracks0.0080.0000.008
plotAllTracks0.0160.0020.018
plotSampleTracks0.0130.0000.014
preProcCellMig0.0060.0010.007
rmPreProcessing0.0810.0010.082
runTrackingPermutation0.0020.0000.001
setAnalyticParams0.0160.0020.017
setCellMigSlot0.0210.0010.022
setCellTracks0.0140.0030.017
setCellsMeta0.0160.0010.017
setExpName0.0220.0000.022
setOptimizedParams0.0140.0020.016
setProcessedImages0.0120.0040.017
setProcessingStatus0.0150.0020.017
setTrackedCellsMeta0.0250.0020.027
setTrackedCentroids0.0130.0030.016
setTrackedPositions0.0130.0030.016
setTrackingStats0.0150.0010.016
sinkAway0.0010.0000.001
subNetworkTracking0.0010.0000.001
track0.0080.0000.008
trackHypercubeBuild0.0000.0000.001
trackSlideProcessing0.0000.0000.001
trackSlideWrapUp000
trivialBondRaster0.0020.0000.001
trivialBondTracking0.0000.0000.001
visualizeCellTracks0.0540.0030.058
visualizeTrcks0.0230.0010.025
warnMessage000
wsaPreProcessing0.0480.0000.047