Back to Multiple platform build/check report for BioC 3.20:   simplified   long
AB[C]DEFGHIJKLMNOPQRSTUVWXYZ

This page was generated on 2025-02-03 12:09 -0500 (Mon, 03 Feb 2025).

HostnameOSArch (*)R versionInstalled pkgs
nebbiolo2Linux (Ubuntu 24.04.1 LTS)x86_644.4.2 (2024-10-31) -- "Pile of Leaves" 4746
palomino8Windows Server 2022 Datacenterx644.4.2 (2024-10-31 ucrt) -- "Pile of Leaves" 4494
merida1macOS 12.7.5 Montereyx86_644.4.2 (2024-10-31) -- "Pile of Leaves" 4517
kjohnson1macOS 13.6.6 Venturaarm644.4.2 (2024-10-31) -- "Pile of Leaves" 4469
taishanLinux (openEuler 24.03 LTS)aarch644.4.2 (2024-10-31) -- "Pile of Leaves" 4400
Click on any hostname to see more info about the system (e.g. compilers)      (*) as reported by 'uname -p', except on Windows and Mac OS X

Package 303/2289HostnameOS / ArchINSTALLBUILDCHECKBUILD BIN
cellmigRation 1.14.0  (landing page)
Waldir Leoncio
Snapshot Date: 2025-01-30 13:00 -0500 (Thu, 30 Jan 2025)
git_url: https://git.bioconductor.org/packages/cellmigRation
git_branch: RELEASE_3_20
git_last_commit: 49990de
git_last_commit_date: 2024-10-29 10:58:18 -0500 (Tue, 29 Oct 2024)
nebbiolo2Linux (Ubuntu 24.04.1 LTS) / x86_64  OK    OK    OK  UNNEEDED, same version is already published
palomino8Windows Server 2022 Datacenter / x64  OK    OK    OK    OK  UNNEEDED, same version is already published
merida1macOS 12.7.5 Monterey / x86_64  OK    OK    OK    OK  UNNEEDED, same version is already published
kjohnson1macOS 13.6.6 Ventura / arm64  OK    OK    OK    OK  UNNEEDED, same version is already published
taishanLinux (openEuler 24.03 LTS) / aarch64  OK    OK    OK  


CHECK results for cellmigRation on kjohnson1

To the developers/maintainers of the cellmigRation package:
- Allow up to 24 hours (and sometimes 48 hours) for your latest push to git@git.bioconductor.org:packages/cellmigRation.git to reflect on this report. See Troubleshooting Build Report for more information.
- Use the following Renviron settings to reproduce errors and warnings.
- If 'R CMD check' started to fail recently on the Linux builder(s) over a missing dependency, add the missing dependency to 'Suggests:' in your DESCRIPTION file. See Renviron.bioc for more information.

raw results


Summary

Package: cellmigRation
Version: 1.14.0
Command: /Library/Frameworks/R.framework/Resources/bin/R CMD check --install=check:cellmigRation.install-out.txt --library=/Library/Frameworks/R.framework/Resources/library --no-vignettes --timings cellmigRation_1.14.0.tar.gz
StartedAt: 2025-01-31 13:47:25 -0500 (Fri, 31 Jan 2025)
EndedAt: 2025-01-31 13:49:42 -0500 (Fri, 31 Jan 2025)
EllapsedTime: 137.7 seconds
RetCode: 0
Status:   OK  
CheckDir: cellmigRation.Rcheck
Warnings: 0

Command output

##############################################################################
##############################################################################
###
### Running command:
###
###   /Library/Frameworks/R.framework/Resources/bin/R CMD check --install=check:cellmigRation.install-out.txt --library=/Library/Frameworks/R.framework/Resources/library --no-vignettes --timings cellmigRation_1.14.0.tar.gz
###
##############################################################################
##############################################################################


* using log directory ‘/Users/biocbuild/bbs-3.20-bioc/meat/cellmigRation.Rcheck’
* using R version 4.4.2 (2024-10-31)
* using platform: aarch64-apple-darwin20
* R was compiled by
    Apple clang version 14.0.0 (clang-1400.0.29.202)
    GNU Fortran (GCC) 12.2.0
* running under: macOS Ventura 13.7.1
* using session charset: UTF-8
* using option ‘--no-vignettes’
* checking for file ‘cellmigRation/DESCRIPTION’ ... OK
* checking extension type ... Package
* this is package ‘cellmigRation’ version ‘1.14.0’
* package encoding: UTF-8
* checking package namespace information ... OK
* checking package dependencies ... OK
* checking if this is a source package ... OK
* checking if there is a namespace ... OK
* checking for hidden files and directories ... OK
* checking for portable file names ... OK
* checking for sufficient/correct file permissions ... OK
* checking whether package ‘cellmigRation’ can be installed ... OK
* checking installed package size ... OK
* checking package directory ... OK
* checking ‘build’ directory ... OK
* checking DESCRIPTION meta-information ... OK
* checking top-level files ... OK
* checking for left-over files ... OK
* checking index information ... OK
* checking package subdirectories ... OK
* checking code files for non-ASCII characters ... OK
* checking R files for syntax errors ... OK
* checking whether the package can be loaded ... OK
* checking whether the package can be loaded with stated dependencies ... OK
* checking whether the package can be unloaded cleanly ... OK
* checking whether the namespace can be loaded with stated dependencies ... OK
* checking whether the namespace can be unloaded cleanly ... OK
* checking dependencies in R code ... OK
* checking S3 generic/method consistency ... OK
* checking replacement functions ... OK
* checking foreign function calls ... OK
* checking R code for possible problems ... OK
* checking Rd files ... OK
* checking Rd metadata ... OK
* checking Rd cross-references ... OK
* checking for missing documentation entries ... OK
* checking for code/documentation mismatches ... OK
* checking Rd \usage sections ... NOTE
Documented arguments not in \usage in Rd file 'fixDA.Rd':
  ‘object’

Documented arguments not in \usage in Rd file 'fixFM1.Rd':
  ‘object’

Documented arguments not in \usage in Rd file 'fixFM2.Rd':
  ‘object’

Documented arguments not in \usage in Rd file 'fixFM3.Rd':
  ‘object’

Documented arguments not in \usage in Rd file 'fixFM4.Rd':
  ‘object’

Documented arguments not in \usage in Rd file 'fixFM5.Rd':
  ‘object’

Documented arguments not in \usage in Rd file 'fixFM6.Rd':
  ‘object’

Documented arguments not in \usage in Rd file 'fixID2.Rd':
  ‘TimeInterval’

Documented arguments not in \usage in Rd file 'fixID3.Rd':
  ‘TimeInterval’

Documented arguments not in \usage in Rd file 'fixID4.Rd':
  ‘TimeInterval’

Documented arguments not in \usage in Rd file 'fixMSD.Rd':
  ‘object’

Documented arguments not in \usage in Rd file 'fixPER1.Rd':
  ‘x’

Documented arguments not in \usage in Rd file 'fixPER2.Rd':
  ‘x’

Documented arguments not in \usage in Rd file 'innerBondRaster.Rd':
  ‘i’

Functions with \usage entries need to have the appropriate \alias
entries, and all their arguments documented.
The \usage entries must correspond to syntactically valid R code.
See chapter ‘Writing R documentation files’ in the ‘Writing R
Extensions’ manual.
* checking Rd contents ... OK
* checking for unstated dependencies in examples ... OK
* checking contents of ‘data’ directory ... OK
* checking data for non-ASCII characters ... OK
* checking data for ASCII and uncompressed saves ... OK
* checking files in ‘vignettes’ ... OK
* checking examples ... OK
* checking for unstated dependencies in ‘tests’ ... OK
* checking tests ...
  Running ‘runTests.R’
 OK
* checking for unstated dependencies in vignettes ... OK
* checking package vignettes ... OK
* checking running R code from vignettes ... SKIPPED
* checking re-building of vignette outputs ... SKIPPED
* checking PDF version of manual ... OK
* DONE

Status: 1 NOTE
See
  ‘/Users/biocbuild/bbs-3.20-bioc/meat/cellmigRation.Rcheck/00check.log’
for details.


Installation output

cellmigRation.Rcheck/00install.out

##############################################################################
##############################################################################
###
### Running command:
###
###   /Library/Frameworks/R.framework/Resources/bin/R CMD INSTALL cellmigRation
###
##############################################################################
##############################################################################


* installing to library ‘/Library/Frameworks/R.framework/Versions/4.4-arm64/Resources/library’
* installing *source* package ‘cellmigRation’ ...
** using staged installation
** R
** data
** inst
** byte-compile and prepare package for lazy loading
** help
*** installing help indices
** building package indices
** installing vignettes
** testing if installed package can be loaded from temporary location
** testing if installed package can be loaded from final location
** testing if installed package keeps a record of temporary installation path
* DONE (cellmigRation)

Tests output

cellmigRation.Rcheck/tests/runTests.Rout


R version 4.4.2 (2024-10-31) -- "Pile of Leaves"
Copyright (C) 2024 The R Foundation for Statistical Computing
Platform: aarch64-apple-darwin20

R is free software and comes with ABSOLUTELY NO WARRANTY.
You are welcome to redistribute it under certain conditions.
Type 'license()' or 'licence()' for distribution details.

R is a collaborative project with many contributors.
Type 'contributors()' for more information and
'citation()' on how to cite R or R packages in publications.

Type 'demo()' for some demos, 'help()' for on-line help, or
'help.start()' for an HTML browser interface to help.
Type 'q()' to quit R.

> BiocGenerics:::testPackage("cellmigRation")


RUNIT TEST PROTOCOL -- Fri Jan 31 13:49:27 2025 
*********************************************** 
Number of test functions: 7 
Number of errors: 0 
Number of failures: 0 

 
1 Test Suite : 
cellmigRation RUnit Tests - 7 test functions, 0 errors, 0 failures
Number of test functions: 7 
Number of errors: 0 
Number of failures: 0 
> 
> proc.time()
   user  system elapsed 
  3.438   0.309   3.756 

Example timings

cellmigRation.Rcheck/cellmigRation-Ex.timings

nameusersystemelapsed
AddDimension0.0020.0000.003
CellMig-class0.0370.0030.040
CellMigPCA1.4590.0331.500
CellMigPCAclust0.0110.0020.013
CellMigPCAclustALL0.7100.0080.721
CellTracker0.0280.0030.031
CellTrackerMainLoop0.0050.0120.020
CentroidArray0.0260.0030.029
CentroidValidation0.5290.0150.547
ComputeTracksStats0.0350.0030.038
DetectRadii0.0020.0000.003
DiAutoCor1.4930.0171.519
DiRatio0.0210.0020.023
DiRatioPlot0.0430.0140.057
EstimateDiameterRange0.0160.0020.019
FMI0.5190.0050.531
FianlizeOptiParams0.0010.0000.001
FilterTrackedCells0.0030.0000.003
FinRes0.7420.0150.761
ForwardMigration1.0500.0061.065
GenAllCombos0.0030.0000.003
LinearConv20.0220.0020.023
LoadTiff0.0010.0000.001
MSD1.8780.0521.945
MakeHypercube0.0010.0000.002
MigrationStats0.0000.0010.002
NextOdd0.0000.0010.001
NonParallel4OptimizeParams0.0010.0000.001
NonParallelTrackLoop0.0000.0000.001
OptimizeParams0.0240.0030.028
OptimizeParamsMainLoop0.0060.0120.023
Parallel4OptimizeParams0.0010.0000.002
ParallelTrackLoop0.0010.0000.000
PerAndSpeed0.3110.0310.347
PlotTracksSeparately0.0130.0010.015
PostProcessTracking000
Prep4OptimizeParams0.1000.0040.104
ThreeConditions0.0180.0030.024
TrackCellsDataset0.0250.0030.027
TrajectoryDataset0.0310.0020.033
ValidateTrackingArgs0.0010.0000.001
VeAutoCor1.1060.0181.125
VisualizeCntr0.0020.0010.003
VisualizeImg0.0050.0010.006
VisualizeStackCentroids0.0660.0080.076
WSADataset0.0100.0020.012
aggregateFR0.6670.0080.679
aggregateTrackedCells0.0320.0050.037
bpass0.0830.0030.086
circshift0.0010.0010.001
cntrd0.7410.0150.758
fixDA0.0000.0000.001
fixExpName0.0000.0000.001
fixFM10.0010.0000.000
fixFM20.0000.0000.001
fixFM30.0010.0010.001
fixFM4000
fixFM50.0010.0000.000
fixFM6000
fixID10.0010.0000.000
fixMSD0.0010.0010.001
fixPER10.0010.0000.000
fixPER20.0000.0010.000
fixPER30.0010.0000.001
getAvailableAggrMetrics0.9570.0090.970
getCellImages0.2510.8031.073
getCellMigSlot0.4020.5040.911
getCellTrackMeta0.0240.0030.027
getCellTrackStats0.0270.0030.030
getCellTracks0.0230.0020.026
getCellsMeta0.0240.0020.027
getCellsStats0.0250.0030.029
getDACtable1.5260.0231.572
getDiRatio0.0090.0010.010
getFMItable0.4020.0070.418
getForMigtable0.5990.0060.606
getImageCentroids0.0320.0040.037
getImageStacks0.0680.0080.075
getMSDtable3.6470.0473.713
getOptimizedParameters0.0260.0030.028
getOptimizedParams0.0250.0020.027
getPerAndSpeed0.3180.0320.352
getPopulationStats0.0250.0030.027
getProcessedImages0.2421.0051.286
getProcessingStatus0.0260.0030.029
getResults0.6710.0160.691
getTracks0.0270.0030.030
getVACtable1.1060.0131.125
initializeTrackParams000
innerBondRaster0.0020.0000.002
internalPermutation0.0010.0000.001
matfix0.0010.0000.001
nontrivialBondTracking0.0010.0010.001
pkfnd0.7790.0240.807
plot3DAllTracks000
plot3DTracks000
plotAllTracks0.0220.0040.025
plotSampleTracks0.0190.0030.024
preProcCellMig0.0110.0020.013
rmPreProcessing0.1010.0040.105
runTrackingPermutation0.0020.0000.003
setAnalyticParams0.0230.0020.025
setCellMigSlot0.0330.0030.035
setCellTracks0.0240.0020.026
setCellsMeta0.0230.0030.027
setExpName0.0340.0020.036
setOptimizedParams0.0250.0020.028
setProcessedImages0.0250.0030.028
setProcessingStatus0.0230.0030.027
setTrackedCellsMeta0.0260.0030.028
setTrackedCentroids0.0220.0030.025
setTrackedPositions0.0250.0030.029
setTrackingStats0.0230.0020.026
sinkAway0.0000.0000.001
subNetworkTracking0.0010.0010.001
track0.0240.0030.028
trackHypercubeBuild0.0010.0000.001
trackSlideProcessing0.0010.0000.001
trackSlideWrapUp0.0010.0010.001
trivialBondRaster0.0020.0000.003
trivialBondTracking0.0000.0000.001
visualizeCellTracks0.0700.0060.076
visualizeTrcks0.0470.0020.049
warnMessage0.0010.0000.000
wsaPreProcessing0.0570.0020.059