| Back to Multiple platform build/check report for BioC 3.22: simplified long |
|
This page was generated on 2025-11-20 12:07 -0500 (Thu, 20 Nov 2025).
| Hostname | OS | Arch (*) | R version | Installed pkgs |
|---|---|---|---|---|
| nebbiolo2 | Linux (Ubuntu 24.04.3 LTS) | x86_64 | 4.5.2 (2025-10-31) -- "[Not] Part in a Rumble" | 4615 |
| merida1 | macOS 12.7.6 Monterey | x86_64 | 4.5.2 Patched (2025-11-05 r88990) -- "[Not] Part in a Rumble" | 4610 |
| kjohnson1 | macOS 13.7.5 Ventura | arm64 | 4.5.2 Patched (2025-11-04 r88984) -- "[Not] Part in a Rumble" | 4598 |
| taishan | Linux (openEuler 24.03 LTS) | aarch64 | 4.5.0 (2025-04-11) -- "How About a Twenty-Six" | 4668 |
| Click on any hostname to see more info about the system (e.g. compilers) (*) as reported by 'uname -p', except on Windows and Mac OS X | ||||
| Package 119/2361 | Hostname | OS / Arch | INSTALL | BUILD | CHECK | BUILD BIN | ||||||||
| autonomics 1.18.0 (landing page) Aditya Bhagwat
| nebbiolo2 | Linux (Ubuntu 24.04.3 LTS) / x86_64 | OK | OK | OK | |||||||||
| merida1 | macOS 12.7.6 Monterey / x86_64 | OK | OK | TIMEOUT | OK | |||||||||
| kjohnson1 | macOS 13.7.5 Ventura / arm64 | OK | OK | OK | OK | |||||||||
| taishan | Linux (openEuler 24.03 LTS) / aarch64 | OK | OK | OK | ||||||||||
|
To the developers/maintainers of the autonomics package: - Allow up to 24 hours (and sometimes 48 hours) for your latest push to git@git.bioconductor.org:packages/autonomics.git to reflect on this report. See Troubleshooting Build Report for more information. - Use the following Renviron settings to reproduce errors and warnings. - If 'R CMD check' started to fail recently on the Linux builder(s) over a missing dependency, add the missing dependency to 'Suggests:' in your DESCRIPTION file. See Renviron.bioc for more information. - See Martin Grigorov's blog post for how to debug Linux ARM64 related issues on a x86_64 host. |
| Package: autonomics |
| Version: 1.18.0 |
| Command: /home/biocbuild/R/R/bin/R CMD check --install=check:autonomics.install-out.txt --library=/home/biocbuild/R/R/site-library --no-vignettes --timings autonomics_1.18.0.tar.gz |
| StartedAt: 2025-11-18 06:41:42 -0000 (Tue, 18 Nov 2025) |
| EndedAt: 2025-11-18 07:06:58 -0000 (Tue, 18 Nov 2025) |
| EllapsedTime: 1516.7 seconds |
| RetCode: 0 |
| Status: OK |
| CheckDir: autonomics.Rcheck |
| Warnings: 0 |
##############################################################################
##############################################################################
###
### Running command:
###
### /home/biocbuild/R/R/bin/R CMD check --install=check:autonomics.install-out.txt --library=/home/biocbuild/R/R/site-library --no-vignettes --timings autonomics_1.18.0.tar.gz
###
##############################################################################
##############################################################################
* using log directory ‘/home/biocbuild/bbs-3.22-bioc/meat/autonomics.Rcheck’
* using R version 4.5.0 (2025-04-11)
* using platform: aarch64-unknown-linux-gnu
* R was compiled by
aarch64-unknown-linux-gnu-gcc (GCC) 14.2.0
GNU Fortran (GCC) 14.2.0
* running under: openEuler 24.03 (LTS)
* using session charset: UTF-8
* using option ‘--no-vignettes’
* checking for file ‘autonomics/DESCRIPTION’ ... OK
* checking extension type ... Package
* this is package ‘autonomics’ version ‘1.18.0’
* package encoding: UTF-8
* checking package namespace information ... OK
* checking package dependencies ... INFO
Imports includes 32 non-default packages.
Importing from so many packages makes the package vulnerable to any of
them becoming unavailable. Move as many as possible to Suggests and
use conditionally.
* checking if this is a source package ... OK
* checking if there is a namespace ... OK
* checking for hidden files and directories ... NOTE
Found the following hidden files and directories:
.BBSoptions
These were most likely included in error. See section ‘Package
structure’ in the ‘Writing R Extensions’ manual.
* checking for portable file names ... OK
* checking for sufficient/correct file permissions ... OK
* checking whether package ‘autonomics’ can be installed ... OK
* checking installed package size ... OK
* checking package directory ... OK
* checking ‘build’ directory ... OK
* checking DESCRIPTION meta-information ... OK
* checking top-level files ... OK
* checking for left-over files ... OK
* checking index information ... OK
* checking package subdirectories ... OK
* checking code files for non-ASCII characters ... OK
* checking R files for syntax errors ... OK
* checking whether the package can be loaded ... OK
* checking whether the package can be loaded with stated dependencies ... OK
* checking whether the package can be unloaded cleanly ... OK
* checking whether the namespace can be loaded with stated dependencies ... OK
* checking whether the namespace can be unloaded cleanly ... OK
* checking loading without being on the library search path ... OK
* checking dependencies in R code ... OK
* checking S3 generic/method consistency ... OK
* checking replacement functions ... OK
* checking foreign function calls ... OK
* checking R code for possible problems ... OK
* checking Rd files ... OK
* checking Rd metadata ... OK
* checking Rd cross-references ... NOTE
Non-topic package-anchored link(s) in Rd file 'reexports.Rd':
‘[magrittr:compound]{%<>%}’ ‘[magrittr:pipe]{%>%}’
‘[magrittr:aliases]{extract}’
See section 'Cross-references' in the 'Writing R Extensions' manual.
* checking for missing documentation entries ... OK
* checking for code/documentation mismatches ... OK
* checking Rd \usage sections ... OK
* checking Rd contents ... OK
* checking for unstated dependencies in examples ... OK
* checking files in ‘vignettes’ ... OK
* checking examples ... OK
Examples with CPU (user + system) or elapsed time > 5s
user system elapsed
write_xl 235.541 1.773 239.447
read_diann_proteingroups 61.133 0.638 63.975
awblinmod 59.359 1.249 60.788
read_rnaseq_counts 42.812 0.880 44.628
LINMOD 35.161 0.751 36.127
plot_exprs 31.181 0.139 35.500
plot_exprs_per_coef 28.645 0.131 30.332
default_formula 25.780 0.419 26.179
read_somascan 20.950 0.110 22.414
read_metabolon 20.372 0.322 20.826
analyze 20.427 0.262 20.857
plot_volcano 19.750 0.048 19.864
plot_summary 18.993 0.270 19.569
fit_survival 15.917 0.199 16.206
plot_densities 15.601 0.131 16.206
explore-transforms 15.186 0.120 15.378
fcluster 13.600 0.043 13.866
rm_diann_contaminants 13.448 0.156 13.575
ftype 12.142 0.179 12.386
plot_detections 11.028 0.023 11.390
biplot_covariates 10.243 0.096 10.362
plot_xy_density 9.344 0.036 10.006
read_fragpipe 9.064 0.064 9.352
subtract_baseline 8.725 0.151 9.102
plot_subgroup_points 8.403 0.024 8.448
reset_fit 7.618 0.032 7.912
log2transform 7.586 0.020 7.689
plot_violins 7.032 0.063 7.136
extract_contrast_features 7.036 0.056 7.279
code 6.888 0.036 6.942
sbind 6.458 0.020 6.500
biplot 5.748 0.056 5.820
modelvar 5.620 0.027 5.752
pca 5.198 0.064 5.286
biplot_corrections 5.231 0.028 5.271
* checking for unstated dependencies in ‘tests’ ... OK
* checking tests ...
Running ‘testthat.R’
OK
* checking for unstated dependencies in vignettes ... OK
* checking package vignettes ... OK
* checking running R code from vignettes ... SKIPPED
* checking re-building of vignette outputs ... SKIPPED
* checking PDF version of manual ... OK
* DONE
Status: 2 NOTEs
See
‘/home/biocbuild/bbs-3.22-bioc/meat/autonomics.Rcheck/00check.log’
for details.
autonomics.Rcheck/00install.out
############################################################################## ############################################################################## ### ### Running command: ### ### /home/biocbuild/R/R/bin/R CMD INSTALL autonomics ### ############################################################################## ############################################################################## * installing to library ‘/home/biocbuild/R/R-4.5.0/site-library’ * installing *source* package ‘autonomics’ ... ** this is package ‘autonomics’ version ‘1.18.0’ ** using staged installation ** R ** inst ** byte-compile and prepare package for lazy loading Note: wrong number of arguments to 'seq_along' Note: wrong number of arguments to 'sqrt' ** help *** installing help indices ** building package indices ** installing vignettes ** testing if installed package can be loaded from temporary location ** testing if installed package can be loaded from final location ** testing if installed package keeps a record of temporary installation path * DONE (autonomics)
autonomics.Rcheck/tests/testthat.Rout
R version 4.5.0 (2025-04-11) -- "How About a Twenty-Six"
Copyright (C) 2025 The R Foundation for Statistical Computing
Platform: aarch64-unknown-linux-gnu
R is free software and comes with ABSOLUTELY NO WARRANTY.
You are welcome to redistribute it under certain conditions.
Type 'license()' or 'licence()' for distribution details.
R is a collaborative project with many contributors.
Type 'contributors()' for more information and
'citation()' on how to cite R or R packages in publications.
Type 'demo()' for some demos, 'help()' for on-line help, or
'help.start()' for an HTML browser interface to help.
Type 'q()' to quit R.
> library(testthat)
> library(autonomics)
Attaching package: 'autonomics'
The following objects are masked from 'package:stats':
biplot, loadings
The following object is masked from 'package:base':
beta
>
> test_check("autonomics")
[ FAIL 0 | WARN 3 | SKIP 0 | PASS 158 ]
[ FAIL 0 | WARN 3 | SKIP 0 | PASS 158 ]
>
> proc.time()
user system elapsed
187.568 3.742 201.094
autonomics.Rcheck/autonomics-Ex.timings
| name | user | system | elapsed | |
| AUTONOMICS_DATASETS | 0.001 | 0.000 | 0.000 | |
| COMPOUNDDISCOVERER_PATTERNS | 0 | 0 | 0 | |
| LINMOD | 35.161 | 0.751 | 36.127 | |
| LINMODENGINES | 0.000 | 0.000 | 0.001 | |
| MAXQUANT_PATTERNS | 0 | 0 | 0 | |
| TAXON_TO_ORGNAME | 0 | 0 | 0 | |
| TESTS | 0 | 0 | 0 | |
| X | 1.776 | 0.020 | 1.804 | |
| abstract_fit | 1.499 | 0.024 | 1.530 | |
| add_adjusted_pvalues | 0.722 | 0.035 | 0.766 | |
| add_assay_means | 0.561 | 0.019 | 0.584 | |
| add_facetvars | 2.068 | 0.048 | 2.127 | |
| add_opentargets_by_uniprot | 0.552 | 0.016 | 0.576 | |
| add_psp | 0.694 | 0.012 | 0.711 | |
| add_smiles | 0.661 | 0.008 | 0.671 | |
| all_non_numeric | 0.893 | 0.016 | 0.913 | |
| analysis | 0.550 | 0.012 | 0.565 | |
| analyze | 20.427 | 0.262 | 20.857 | |
| annotate_maxquant | 1.416 | 0.044 | 1.472 | |
| annotate_uniprot_rest | 0.122 | 0.032 | 4.343 | |
| assert_is_valid_sumexp | 0.920 | 0.044 | 1.522 | |
| awblinmod | 59.359 | 1.249 | 60.788 | |
| biplot | 5.748 | 0.056 | 5.820 | |
| biplot_corrections | 5.231 | 0.028 | 5.271 | |
| biplot_covariates | 10.243 | 0.096 | 10.362 | |
| block2limma | 0.003 | 0.000 | 0.002 | |
| block2lm | 0.004 | 0.000 | 0.003 | |
| block2lme | 0.003 | 0.000 | 0.003 | |
| block2lmer | 0.004 | 0.000 | 0.005 | |
| block_has_two_levels | 0.859 | 0.016 | 0.877 | |
| center | 2.633 | 0.012 | 2.652 | |
| code | 6.888 | 0.036 | 6.942 | |
| collapsed_entrezg_to_symbol | 1.127 | 0.059 | 1.190 | |
| contrast_subgroup_cols | 0.867 | 0.008 | 0.875 | |
| contrastdt | 0.822 | 0.004 | 0.828 | |
| count_in | 0.001 | 0.000 | 0.001 | |
| counts | 0.512 | 0.000 | 0.514 | |
| counts2cpm | 0.420 | 0.000 | 0.421 | |
| counts2tpm | 0.450 | 0.000 | 0.451 | |
| cpm | 0.483 | 0.028 | 0.513 | |
| create_design | 1.031 | 0.032 | 1.063 | |
| default_formula | 25.780 | 0.419 | 26.179 | |
| default_geom | 0.713 | 0.016 | 0.731 | |
| default_sfile | 0.002 | 0.000 | 0.001 | |
| demultiplex | 0.021 | 0.000 | 0.021 | |
| densities | 0.311 | 0.004 | 0.315 | |
| dequantify | 0.004 | 0.000 | 0.003 | |
| dequantify_compounddiscoverer | 0.002 | 0.000 | 0.002 | |
| dot-coxph | 0.565 | 0.016 | 0.583 | |
| dot-merge | 0.022 | 0.004 | 0.027 | |
| dot-read_maxquant_proteingroups | 0.123 | 0.012 | 0.134 | |
| download_data | 0.001 | 0.000 | 0.000 | |
| download_gtf | 0 | 0 | 0 | |
| download_mcclain21 | 0.000 | 0.000 | 0.001 | |
| dt2mat | 0.004 | 0.000 | 0.005 | |
| enrichment | 1.725 | 0.052 | 1.783 | |
| entrezg_to_symbol | 0.171 | 0.000 | 0.172 | |
| explore-transforms | 15.186 | 0.120 | 15.378 | |
| extract_contrast_features | 7.036 | 0.056 | 7.279 | |
| extract_rectangle | 0.144 | 0.008 | 0.154 | |
| factor.vars | 0.262 | 0.004 | 0.267 | |
| factorize | 1.194 | 0.028 | 1.228 | |
| fcluster | 13.600 | 0.043 | 13.866 | |
| fcor | 2.210 | 0.044 | 2.269 | |
| fdata | 0.752 | 0.004 | 0.760 | |
| fdr2p | 1.337 | 0.032 | 1.376 | |
| filter_exprs_replicated_in_some_subgroup | 1.359 | 0.004 | 1.378 | |
| filter_features | 0.774 | 0.003 | 0.794 | |
| filter_medoid | 0.819 | 0.004 | 0.829 | |
| filter_samples | 0.767 | 0.012 | 0.790 | |
| fit_survival | 15.917 | 0.199 | 16.206 | |
| fits | 0.512 | 0.000 | 0.514 | |
| fix_xlgenes | 0.003 | 0.000 | 0.003 | |
| flevels | 0.551 | 0.011 | 0.565 | |
| fnames | 0.632 | 0.000 | 0.641 | |
| formula2str | 0.001 | 0.000 | 0.001 | |
| ftype | 12.142 | 0.179 | 12.386 | |
| fvalues | 0.552 | 0.008 | 0.562 | |
| fvars | 0.530 | 0.012 | 0.545 | |
| genome_to_orgdb | 0.001 | 0.000 | 0.001 | |
| group_by_level | 0.001 | 0.000 | 0.001 | |
| guess_compounddiscoverer_quantity | 0.002 | 0.000 | 0.002 | |
| guess_fitsep | 0.722 | 0.004 | 0.730 | |
| guess_maxquant_quantity | 0.007 | 0.000 | 0.007 | |
| guess_sep | 0.690 | 0.004 | 0.699 | |
| has_multiple_levels | 0.082 | 0.000 | 0.082 | |
| hdlproteins | 0.063 | 0.004 | 0.149 | |
| impute | 4.923 | 0.021 | 4.960 | |
| invert_subgroups | 0.966 | 0.015 | 0.984 | |
| is_character_matrix | 0.203 | 0.000 | 0.202 | |
| is_collapsed_subset | 0.001 | 0.000 | 0.001 | |
| is_compounddiscoverer_output | 0.100 | 0.016 | 0.224 | |
| is_correlation_matrix | 0.002 | 0.000 | 0.002 | |
| is_diann_report | 0.187 | 0.004 | 0.174 | |
| is_fastadt | 0.092 | 0.000 | 0.092 | |
| is_file | 0 | 0 | 0 | |
| is_fraction | 0.003 | 0.000 | 0.002 | |
| is_fragpipe_tsv | 0.135 | 0.000 | 0.107 | |
| is_imputed | 1.094 | 0.011 | 1.114 | |
| is_maxquant_phosphosites | 0.096 | 0.011 | 0.101 | |
| is_maxquant_proteingroups | 0.103 | 0.000 | 0.091 | |
| is_positive_number | 0.003 | 0.000 | 0.003 | |
| is_scalar_subset | 0.446 | 0.000 | 0.446 | |
| is_sig | 2.085 | 0.000 | 2.092 | |
| is_valid_formula | 0.058 | 0.004 | 0.062 | |
| keep_estimable_features | 1.097 | 0.023 | 1.124 | |
| label2index | 0.001 | 0.000 | 0.001 | |
| list2mat | 0.001 | 0.000 | 0.001 | |
| log2counts | 0.531 | 0.000 | 0.533 | |
| log2cpm | 0.462 | 0.000 | 0.468 | |
| log2diffs | 0.441 | 0.004 | 0.451 | |
| log2proteins | 0.461 | 0.000 | 0.462 | |
| log2sites | 0.433 | 0.004 | 0.438 | |
| log2tpm | 0.609 | 0.004 | 0.616 | |
| log2transform | 7.586 | 0.020 | 7.689 | |
| logical2factor | 0.002 | 0.000 | 0.002 | |
| make_alpha_palette | 0.805 | 0.027 | 0.836 | |
| make_colors | 0.012 | 0.000 | 0.012 | |
| make_volcano_dt | 1.246 | 0.000 | 1.250 | |
| map_fvalues | 0.553 | 0.000 | 0.555 | |
| matrix2sumexp | 1.547 | 0.008 | 1.559 | |
| mclust_breaks | 0.871 | 0.036 | 0.909 | |
| merge_sample_file | 0.668 | 0.008 | 0.678 | |
| merge_sdata | 0.793 | 0.008 | 0.803 | |
| message_df | 0.002 | 0.000 | 0.003 | |
| model_coefs | 1.250 | 0.012 | 1.267 | |
| modelvar | 5.620 | 0.027 | 5.752 | |
| object1 | 0.876 | 0.000 | 0.879 | |
| order_on_p | 2.248 | 0.028 | 2.283 | |
| overall_parameters | 0.044 | 0.000 | 0.044 | |
| pca | 5.198 | 0.064 | 5.286 | |
| pg_to_canonical | 0.009 | 0.000 | 0.009 | |
| plot_coef_densities | 2.158 | 0.008 | 2.172 | |
| plot_contrast_venn | 3.902 | 0.052 | 3.966 | |
| plot_contrastogram | 4.365 | 0.036 | 4.598 | |
| plot_data | 2.654 | 0.072 | 3.246 | |
| plot_densities | 15.601 | 0.131 | 16.206 | |
| plot_design | 1.028 | 0.000 | 1.031 | |
| plot_detections | 11.028 | 0.023 | 11.390 | |
| plot_exprs | 31.181 | 0.139 | 35.500 | |
| plot_exprs_per_coef | 28.645 | 0.131 | 30.332 | |
| plot_fit_summary | 3.111 | 0.000 | 3.136 | |
| plot_heatmap | 2.716 | 0.004 | 2.726 | |
| plot_matrix | 0.680 | 0.012 | 0.695 | |
| plot_subgroup_points | 8.403 | 0.024 | 8.448 | |
| plot_summary | 18.993 | 0.270 | 19.569 | |
| plot_venn | 0.018 | 0.000 | 0.019 | |
| plot_venn_heatmap | 0.031 | 0.000 | 0.031 | |
| plot_violins | 7.032 | 0.063 | 7.136 | |
| plot_volcano | 19.750 | 0.048 | 19.864 | |
| plot_xy_density | 9.344 | 0.036 | 10.006 | |
| preprocess_rnaseq_counts | 0.466 | 0.004 | 0.947 | |
| pull_columns | 0.003 | 0.000 | 0.009 | |
| pvalues_estimable | 0.047 | 0.008 | 0.110 | |
| read_affymetrix | 0 | 0 | 0 | |
| read_diann_proteingroups | 61.133 | 0.638 | 63.975 | |
| read_fragpipe | 9.064 | 0.064 | 9.352 | |
| read_maxquant_phosphosites | 2.272 | 0.008 | 2.448 | |
| read_maxquant_proteingroups | 1.837 | 0.008 | 1.926 | |
| read_metabolon | 20.372 | 0.322 | 20.826 | |
| read_msigdt | 0.001 | 0.000 | 0.001 | |
| read_olink | 2.004 | 0.035 | 2.055 | |
| read_rectangles | 0.230 | 0.008 | 0.239 | |
| read_rnaseq_counts | 42.812 | 0.880 | 44.628 | |
| read_salmon | 0 | 0 | 0 | |
| read_somascan | 20.950 | 0.110 | 22.414 | |
| read_uniprotdt | 0.405 | 0.035 | 0.442 | |
| reset_fit | 7.618 | 0.032 | 7.912 | |
| rm_diann_contaminants | 13.448 | 0.156 | 13.575 | |
| rm_missing_in_some_samples | 0.708 | 0.024 | 0.782 | |
| rm_unmatched_samples | 1.103 | 0.000 | 1.119 | |
| sbind | 6.458 | 0.020 | 6.500 | |
| scaledlibsizes | 0.560 | 0.036 | 0.599 | |
| scoremat | 1.366 | 0.020 | 1.390 | |
| slevels | 0.632 | 0.004 | 0.639 | |
| snames | 0.600 | 0.004 | 0.606 | |
| split_extract_fixed | 0.786 | 0.012 | 0.799 | |
| split_samples | 1.894 | 0.016 | 1.920 | |
| stepauc | 0.558 | 0.000 | 0.559 | |
| stri_any_regex | 0.001 | 0.000 | 0.001 | |
| stri_detect_fixed_in_collapsed | 0.491 | 0.000 | 0.492 | |
| subgroup_matrix | 0.842 | 0.004 | 0.849 | |
| subtract_baseline | 8.725 | 0.151 | 9.102 | |
| sumexp_to_longdt | 2.585 | 0.060 | 2.650 | |
| sumexp_to_tsv | 0.707 | 0.004 | 0.713 | |
| sumexplist_to_longdt | 2.036 | 0.008 | 2.050 | |
| summarize_fit | 2.289 | 0.019 | 2.315 | |
| survobj | 0.191 | 0.000 | 0.191 | |
| svalues | 0.526 | 0.000 | 0.526 | |
| svars | 0.542 | 0.004 | 0.548 | |
| systematic_nas | 0.801 | 0.008 | 0.811 | |
| tag_features | 1.283 | 0.020 | 1.562 | |
| tag_hdlproteins | 0.788 | 0.036 | 1.001 | |
| taxon2org | 0.001 | 0.000 | 0.001 | |
| tpm | 0.475 | 0.000 | 0.476 | |
| uncollapse | 0.04 | 0.00 | 0.04 | |
| values | 0.593 | 0.000 | 0.598 | |
| varlevels_dont_clash | 0.029 | 0.000 | 0.028 | |
| venn_detects | 0.790 | 0.000 | 0.809 | |
| weights | 0.456 | 0.000 | 0.458 | |
| write_xl | 235.541 | 1.773 | 239.447 | |
| zero_to_na | 0.002 | 0.000 | 0.002 | |