| Back to Multiple platform build/check report for BioC 3.22: simplified long |
|
This page was generated on 2025-11-20 12:03 -0500 (Thu, 20 Nov 2025).
| Hostname | OS | Arch (*) | R version | Installed pkgs |
|---|---|---|---|---|
| nebbiolo2 | Linux (Ubuntu 24.04.3 LTS) | x86_64 | 4.5.2 (2025-10-31) -- "[Not] Part in a Rumble" | 4615 |
| merida1 | macOS 12.7.6 Monterey | x86_64 | 4.5.2 Patched (2025-11-05 r88990) -- "[Not] Part in a Rumble" | 4610 |
| kjohnson1 | macOS 13.7.5 Ventura | arm64 | 4.5.2 Patched (2025-11-04 r88984) -- "[Not] Part in a Rumble" | 4598 |
| taishan | Linux (openEuler 24.03 LTS) | aarch64 | 4.5.0 (2025-04-11) -- "How About a Twenty-Six" | 4668 |
| Click on any hostname to see more info about the system (e.g. compilers) (*) as reported by 'uname -p', except on Windows and Mac OS X | ||||
| Package 119/2361 | Hostname | OS / Arch | INSTALL | BUILD | CHECK | BUILD BIN | ||||||||
| autonomics 1.18.0 (landing page) Aditya Bhagwat
| nebbiolo2 | Linux (Ubuntu 24.04.3 LTS) / x86_64 | OK | OK | OK | |||||||||
| merida1 | macOS 12.7.6 Monterey / x86_64 | OK | OK | TIMEOUT | OK | |||||||||
| kjohnson1 | macOS 13.7.5 Ventura / arm64 | OK | OK | OK | OK | |||||||||
| taishan | Linux (openEuler 24.03 LTS) / aarch64 | OK | OK | OK | ||||||||||
|
To the developers/maintainers of the autonomics package: - Allow up to 24 hours (and sometimes 48 hours) for your latest push to git@git.bioconductor.org:packages/autonomics.git to reflect on this report. See Troubleshooting Build Report for more information. - Use the following Renviron settings to reproduce errors and warnings. - If 'R CMD check' started to fail recently on the Linux builder(s) over a missing dependency, add the missing dependency to 'Suggests:' in your DESCRIPTION file. See Renviron.bioc for more information. |
| Package: autonomics |
| Version: 1.18.0 |
| Command: /home/biocbuild/bbs-3.22-bioc/R/bin/R CMD check --install=check:autonomics.install-out.txt --library=/home/biocbuild/bbs-3.22-bioc/R/site-library --timings autonomics_1.18.0.tar.gz |
| StartedAt: 2025-11-18 00:38:16 -0500 (Tue, 18 Nov 2025) |
| EndedAt: 2025-11-18 01:00:19 -0500 (Tue, 18 Nov 2025) |
| EllapsedTime: 1323.4 seconds |
| RetCode: 0 |
| Status: OK |
| CheckDir: autonomics.Rcheck |
| Warnings: 0 |
##############################################################################
##############################################################################
###
### Running command:
###
### /home/biocbuild/bbs-3.22-bioc/R/bin/R CMD check --install=check:autonomics.install-out.txt --library=/home/biocbuild/bbs-3.22-bioc/R/site-library --timings autonomics_1.18.0.tar.gz
###
##############################################################################
##############################################################################
* using log directory ‘/home/biocbuild/bbs-3.22-bioc/meat/autonomics.Rcheck’
* using R version 4.5.2 (2025-10-31)
* using platform: x86_64-pc-linux-gnu
* R was compiled by
gcc (Ubuntu 13.3.0-6ubuntu2~24.04) 13.3.0
GNU Fortran (Ubuntu 13.3.0-6ubuntu2~24.04) 13.3.0
* running under: Ubuntu 24.04.3 LTS
* using session charset: UTF-8
* checking for file ‘autonomics/DESCRIPTION’ ... OK
* checking extension type ... Package
* this is package ‘autonomics’ version ‘1.18.0’
* package encoding: UTF-8
* checking package namespace information ... OK
* checking package dependencies ... INFO
Imports includes 32 non-default packages.
Importing from so many packages makes the package vulnerable to any of
them becoming unavailable. Move as many as possible to Suggests and
use conditionally.
* checking if this is a source package ... OK
* checking if there is a namespace ... OK
* checking for hidden files and directories ... NOTE
Found the following hidden files and directories:
.BBSoptions
These were most likely included in error. See section ‘Package
structure’ in the ‘Writing R Extensions’ manual.
* checking for portable file names ... OK
* checking for sufficient/correct file permissions ... OK
* checking whether package ‘autonomics’ can be installed ... OK
* checking installed package size ... OK
* checking package directory ... OK
* checking ‘build’ directory ... OK
* checking DESCRIPTION meta-information ... OK
* checking top-level files ... OK
* checking for left-over files ... OK
* checking index information ... OK
* checking package subdirectories ... OK
* checking code files for non-ASCII characters ... OK
* checking R files for syntax errors ... OK
* checking whether the package can be loaded ... OK
* checking whether the package can be loaded with stated dependencies ... OK
* checking whether the package can be unloaded cleanly ... OK
* checking whether the namespace can be loaded with stated dependencies ... OK
* checking whether the namespace can be unloaded cleanly ... OK
* checking loading without being on the library search path ... OK
* checking dependencies in R code ... OK
* checking S3 generic/method consistency ... OK
* checking replacement functions ... OK
* checking foreign function calls ... OK
* checking R code for possible problems ... OK
* checking Rd files ... OK
* checking Rd metadata ... OK
* checking Rd cross-references ... NOTE
Non-topic package-anchored link(s) in Rd file 'reexports.Rd':
‘[magrittr:compound]{%<>%}’ ‘[magrittr:pipe]{%>%}’
‘[magrittr:aliases]{extract}’
See section 'Cross-references' in the 'Writing R Extensions' manual.
* checking for missing documentation entries ... OK
* checking for code/documentation mismatches ... OK
* checking Rd \usage sections ... OK
* checking Rd contents ... OK
* checking for unstated dependencies in examples ... OK
* checking files in ‘vignettes’ ... OK
* checking examples ... OK
Examples with CPU (user + system) or elapsed time > 5s
user system elapsed
write_xl 159.206 2.390 161.673
read_diann_proteingroups 96.171 0.855 92.649
awblinmod 48.758 0.831 48.189
read_rnaseq_counts 30.523 2.119 38.426
LINMOD 29.390 0.458 29.162
rm_diann_contaminants 20.892 0.400 20.009
default_formula 18.974 2.127 27.891
plot_exprs 20.176 0.133 20.205
plot_exprs_per_coef 19.269 0.050 19.220
analyze 15.096 0.144 15.122
read_somascan 13.313 0.201 13.462
plot_volcano 12.918 0.030 12.895
plot_summary 12.882 0.034 12.814
read_metabolon 12.769 0.037 12.698
fit_survival 11.209 0.119 11.331
explore-transforms 10.115 0.172 10.287
plot_densities 9.715 0.075 9.711
fcluster 9.108 0.090 9.088
biplot_covariates 8.097 0.129 8.184
ftype 7.688 0.151 9.977
plot_detections 7.210 0.071 7.234
plot_xy_density 6.826 0.140 6.965
code 5.788 0.028 5.790
read_fragpipe 5.753 0.035 5.498
plot_subgroup_points 5.653 0.004 5.619
plot_contrastogram 2.828 0.031 5.293
is_compounddiscoverer_output 0.915 0.792 21.438
download_mcclain21 0.681 0.224 7.743
* checking for unstated dependencies in ‘tests’ ... OK
* checking tests ...
Running ‘testthat.R’
OK
* checking for unstated dependencies in vignettes ... OK
* checking package vignettes ... OK
* checking re-building of vignette outputs ... OK
* checking PDF version of manual ... OK
* DONE
Status: 2 NOTEs
See
‘/home/biocbuild/bbs-3.22-bioc/meat/autonomics.Rcheck/00check.log’
for details.
autonomics.Rcheck/00install.out
############################################################################## ############################################################################## ### ### Running command: ### ### /home/biocbuild/bbs-3.22-bioc/R/bin/R CMD INSTALL autonomics ### ############################################################################## ############################################################################## * installing to library ‘/home/biocbuild/bbs-3.22-bioc/R/site-library’ * installing *source* package ‘autonomics’ ... ** this is package ‘autonomics’ version ‘1.18.0’ ** using staged installation ** R ** inst ** byte-compile and prepare package for lazy loading Note: wrong number of arguments to 'seq_along' Note: wrong number of arguments to 'sqrt' ** help *** installing help indices ** building package indices ** installing vignettes ** testing if installed package can be loaded from temporary location ** testing if installed package can be loaded from final location ** testing if installed package keeps a record of temporary installation path * DONE (autonomics)
autonomics.Rcheck/tests/testthat.Rout
R version 4.5.2 (2025-10-31) -- "[Not] Part in a Rumble"
Copyright (C) 2025 The R Foundation for Statistical Computing
Platform: x86_64-pc-linux-gnu
R is free software and comes with ABSOLUTELY NO WARRANTY.
You are welcome to redistribute it under certain conditions.
Type 'license()' or 'licence()' for distribution details.
R is a collaborative project with many contributors.
Type 'contributors()' for more information and
'citation()' on how to cite R or R packages in publications.
Type 'demo()' for some demos, 'help()' for on-line help, or
'help.start()' for an HTML browser interface to help.
Type 'q()' to quit R.
> library(testthat)
> library(autonomics)
Attaching package: 'autonomics'
The following objects are masked from 'package:stats':
biplot, loadings
The following object is masked from 'package:base':
beta
>
> test_check("autonomics")
trying URL 'https://bitbucket.org/graumannlabtools/autonomics/downloads/integer64.proteinGroups.txt'
Content type 'text/plain' length 57496 bytes (56 KB)
==================================================
downloaded 56 KB
[ FAIL 0 | WARN 3 | SKIP 0 | PASS 158 ]
[ FAIL 0 | WARN 3 | SKIP 0 | PASS 158 ]
>
> proc.time()
user system elapsed
149.300 4.901 161.508
autonomics.Rcheck/autonomics-Ex.timings
| name | user | system | elapsed | |
| AUTONOMICS_DATASETS | 0 | 0 | 0 | |
| COMPOUNDDISCOVERER_PATTERNS | 0 | 0 | 0 | |
| LINMOD | 29.390 | 0.458 | 29.162 | |
| LINMODENGINES | 0.001 | 0.000 | 0.000 | |
| MAXQUANT_PATTERNS | 0 | 0 | 0 | |
| TAXON_TO_ORGNAME | 0 | 0 | 0 | |
| TESTS | 0 | 0 | 0 | |
| X | 1.361 | 0.020 | 1.357 | |
| abstract_fit | 1.188 | 0.015 | 1.168 | |
| add_adjusted_pvalues | 0.606 | 0.011 | 0.618 | |
| add_assay_means | 0.455 | 0.005 | 0.460 | |
| add_facetvars | 1.502 | 0.017 | 1.495 | |
| add_opentargets_by_uniprot | 0.416 | 0.006 | 0.423 | |
| add_psp | 0.474 | 0.014 | 0.488 | |
| add_smiles | 0.503 | 0.007 | 0.475 | |
| all_non_numeric | 0.675 | 0.000 | 0.674 | |
| analysis | 0.442 | 0.007 | 0.449 | |
| analyze | 15.096 | 0.144 | 15.122 | |
| annotate_maxquant | 1.157 | 0.035 | 1.193 | |
| annotate_uniprot_rest | 0.340 | 0.019 | 2.055 | |
| assert_is_valid_sumexp | 0.641 | 0.009 | 0.613 | |
| awblinmod | 48.758 | 0.831 | 48.189 | |
| biplot | 4.662 | 0.183 | 4.824 | |
| biplot_corrections | 4.043 | 0.073 | 4.077 | |
| biplot_covariates | 8.097 | 0.129 | 8.184 | |
| block2limma | 0.002 | 0.000 | 0.002 | |
| block2lm | 0.002 | 0.000 | 0.003 | |
| block2lme | 0.002 | 0.000 | 0.001 | |
| block2lmer | 0.003 | 0.000 | 0.003 | |
| block_has_two_levels | 0.738 | 0.010 | 0.708 | |
| center | 2.086 | 0.028 | 2.111 | |
| code | 5.788 | 0.028 | 5.790 | |
| collapsed_entrezg_to_symbol | 1.119 | 0.064 | 1.182 | |
| contrast_subgroup_cols | 0.795 | 0.046 | 0.814 | |
| contrastdt | 0.729 | 0.006 | 0.735 | |
| count_in | 0.001 | 0.000 | 0.001 | |
| counts | 0.383 | 0.000 | 0.383 | |
| counts2cpm | 0.407 | 0.001 | 0.408 | |
| counts2tpm | 0.334 | 0.000 | 0.334 | |
| cpm | 0.441 | 0.001 | 0.442 | |
| create_design | 1.015 | 0.037 | 1.025 | |
| default_formula | 18.974 | 2.127 | 27.891 | |
| default_geom | 0.502 | 0.040 | 0.518 | |
| default_sfile | 0.002 | 0.000 | 0.002 | |
| demultiplex | 0.014 | 0.001 | 0.015 | |
| densities | 0.216 | 0.007 | 0.223 | |
| dequantify | 0.003 | 0.000 | 0.003 | |
| dequantify_compounddiscoverer | 0.002 | 0.000 | 0.001 | |
| dot-coxph | 0.369 | 0.015 | 0.385 | |
| dot-merge | 0.02 | 0.00 | 0.02 | |
| dot-read_maxquant_proteingroups | 0.107 | 0.005 | 0.113 | |
| download_data | 0 | 0 | 0 | |
| download_gtf | 0 | 0 | 0 | |
| download_mcclain21 | 0.681 | 0.224 | 7.743 | |
| dt2mat | 0.005 | 0.001 | 0.006 | |
| enrichment | 1.174 | 0.030 | 1.205 | |
| entrezg_to_symbol | 0.132 | 0.014 | 0.146 | |
| explore-transforms | 10.115 | 0.172 | 10.287 | |
| extract_contrast_features | 4.586 | 0.080 | 4.635 | |
| extract_rectangle | 0.111 | 0.006 | 0.117 | |
| factor.vars | 0.185 | 0.009 | 0.194 | |
| factorize | 0.819 | 0.049 | 0.868 | |
| fcluster | 9.108 | 0.090 | 9.088 | |
| fcor | 1.441 | 0.009 | 1.451 | |
| fdata | 0.567 | 0.005 | 0.572 | |
| fdr2p | 0.876 | 0.007 | 0.852 | |
| filter_exprs_replicated_in_some_subgroup | 1.039 | 0.020 | 0.939 | |
| filter_features | 0.509 | 0.008 | 0.478 | |
| filter_medoid | 0.584 | 0.012 | 0.595 | |
| filter_samples | 0.501 | 0.008 | 0.470 | |
| fit_survival | 11.209 | 0.119 | 11.331 | |
| fits | 0.295 | 0.000 | 0.294 | |
| fix_xlgenes | 0.002 | 0.000 | 0.001 | |
| flevels | 0.394 | 0.007 | 0.400 | |
| fnames | 0.398 | 0.003 | 0.401 | |
| formula2str | 0 | 0 | 0 | |
| ftype | 7.688 | 0.151 | 9.977 | |
| fvalues | 0.402 | 0.003 | 0.405 | |
| fvars | 0.347 | 0.002 | 0.349 | |
| genome_to_orgdb | 0 | 0 | 0 | |
| group_by_level | 0 | 0 | 0 | |
| guess_compounddiscoverer_quantity | 0.001 | 0.000 | 0.001 | |
| guess_fitsep | 0.410 | 0.002 | 0.412 | |
| guess_maxquant_quantity | 0.004 | 0.001 | 0.005 | |
| guess_sep | 0.506 | 0.009 | 0.476 | |
| has_multiple_levels | 0.05 | 0.00 | 0.05 | |
| hdlproteins | 0.136 | 0.014 | 1.056 | |
| impute | 3.131 | 0.048 | 3.180 | |
| invert_subgroups | 0.579 | 0.017 | 0.597 | |
| is_character_matrix | 0.163 | 0.001 | 0.165 | |
| is_collapsed_subset | 0 | 0 | 0 | |
| is_compounddiscoverer_output | 0.915 | 0.792 | 21.438 | |
| is_correlation_matrix | 0.002 | 0.000 | 0.002 | |
| is_diann_report | 0.143 | 0.007 | 0.113 | |
| is_fastadt | 0.061 | 0.001 | 0.059 | |
| is_file | 0.000 | 0.000 | 0.001 | |
| is_fraction | 0.002 | 0.000 | 0.001 | |
| is_fragpipe_tsv | 0.110 | 0.003 | 0.075 | |
| is_imputed | 0.637 | 0.003 | 0.635 | |
| is_maxquant_phosphosites | 0.089 | 0.002 | 0.068 | |
| is_maxquant_proteingroups | 0.082 | 0.003 | 0.061 | |
| is_positive_number | 0.002 | 0.000 | 0.001 | |
| is_scalar_subset | 0.292 | 0.001 | 0.292 | |
| is_sig | 1.302 | 0.004 | 1.306 | |
| is_valid_formula | 0.040 | 0.001 | 0.042 | |
| keep_estimable_features | 0.744 | 0.021 | 0.719 | |
| label2index | 0.001 | 0.000 | 0.001 | |
| list2mat | 0.000 | 0.001 | 0.001 | |
| log2counts | 0.287 | 0.010 | 0.297 | |
| log2cpm | 0.301 | 0.021 | 0.322 | |
| log2diffs | 0.327 | 0.019 | 0.346 | |
| log2proteins | 0.290 | 0.003 | 0.293 | |
| log2sites | 0.288 | 0.002 | 0.290 | |
| log2tpm | 0.282 | 0.003 | 0.285 | |
| log2transform | 4.616 | 0.030 | 4.646 | |
| logical2factor | 0.001 | 0.000 | 0.001 | |
| make_alpha_palette | 0.495 | 0.008 | 0.480 | |
| make_colors | 0.009 | 0.001 | 0.010 | |
| make_volcano_dt | 0.833 | 0.002 | 0.835 | |
| map_fvalues | 0.363 | 0.000 | 0.363 | |
| matrix2sumexp | 0.957 | 0.006 | 0.941 | |
| mclust_breaks | 0.473 | 0.016 | 0.489 | |
| merge_sample_file | 0.512 | 0.003 | 0.515 | |
| merge_sdata | 0.524 | 0.007 | 0.495 | |
| message_df | 0.002 | 0.000 | 0.002 | |
| model_coefs | 0.704 | 0.007 | 0.671 | |
| modelvar | 3.203 | 0.010 | 3.163 | |
| object1 | 0.475 | 0.001 | 0.476 | |
| order_on_p | 1.283 | 0.006 | 1.267 | |
| overall_parameters | 0.027 | 0.000 | 0.026 | |
| pca | 3.086 | 0.008 | 3.073 | |
| pg_to_canonical | 0.005 | 0.000 | 0.005 | |
| plot_coef_densities | 1.268 | 0.038 | 1.284 | |
| plot_contrast_venn | 2.309 | 0.011 | 2.174 | |
| plot_contrastogram | 2.828 | 0.031 | 5.293 | |
| plot_data | 1.547 | 0.010 | 1.536 | |
| plot_densities | 9.715 | 0.075 | 9.711 | |
| plot_design | 0.733 | 0.007 | 0.740 | |
| plot_detections | 7.210 | 0.071 | 7.234 | |
| plot_exprs | 20.176 | 0.133 | 20.205 | |
| plot_exprs_per_coef | 19.269 | 0.050 | 19.220 | |
| plot_fit_summary | 2.230 | 0.009 | 2.184 | |
| plot_heatmap | 1.891 | 0.003 | 1.893 | |
| plot_matrix | 0.487 | 0.007 | 0.471 | |
| plot_subgroup_points | 5.653 | 0.004 | 5.619 | |
| plot_summary | 12.882 | 0.034 | 12.814 | |
| plot_venn | 0.016 | 0.000 | 0.016 | |
| plot_venn_heatmap | 0.026 | 0.000 | 0.026 | |
| plot_violins | 4.784 | 0.008 | 4.771 | |
| plot_volcano | 12.918 | 0.030 | 12.895 | |
| plot_xy_density | 6.826 | 0.140 | 6.965 | |
| preprocess_rnaseq_counts | 0.283 | 0.002 | 0.285 | |
| pull_columns | 0.002 | 0.000 | 0.002 | |
| pvalues_estimable | 0.033 | 0.000 | 0.033 | |
| read_affymetrix | 0 | 0 | 0 | |
| read_diann_proteingroups | 96.171 | 0.855 | 92.649 | |
| read_fragpipe | 5.753 | 0.035 | 5.498 | |
| read_maxquant_phosphosites | 1.489 | 0.006 | 1.495 | |
| read_maxquant_proteingroups | 1.203 | 0.002 | 1.205 | |
| read_metabolon | 12.769 | 0.037 | 12.698 | |
| read_msigdt | 0.000 | 0.000 | 0.001 | |
| read_olink | 1.417 | 0.014 | 1.332 | |
| read_rectangles | 0.172 | 0.002 | 0.174 | |
| read_rnaseq_counts | 30.523 | 2.119 | 38.426 | |
| read_salmon | 0 | 0 | 0 | |
| read_somascan | 13.313 | 0.201 | 13.462 | |
| read_uniprotdt | 0.294 | 0.018 | 0.312 | |
| reset_fit | 4.642 | 0.057 | 4.576 | |
| rm_diann_contaminants | 20.892 | 0.400 | 20.009 | |
| rm_missing_in_some_samples | 0.469 | 0.007 | 0.455 | |
| rm_unmatched_samples | 0.643 | 0.002 | 0.645 | |
| sbind | 3.918 | 0.002 | 3.920 | |
| scaledlibsizes | 0.335 | 0.001 | 0.337 | |
| scoremat | 0.789 | 0.007 | 0.765 | |
| slevels | 0.418 | 0.000 | 0.418 | |
| snames | 0.379 | 0.001 | 0.380 | |
| split_extract_fixed | 0.471 | 0.007 | 0.457 | |
| split_samples | 1.154 | 0.020 | 1.152 | |
| stepauc | 0.338 | 0.010 | 0.348 | |
| stri_any_regex | 0 | 0 | 0 | |
| stri_detect_fixed_in_collapsed | 0.314 | 0.000 | 0.314 | |
| subgroup_matrix | 0.494 | 0.007 | 0.471 | |
| subtract_baseline | 4.687 | 0.058 | 4.678 | |
| sumexp_to_longdt | 1.793 | 0.015 | 1.755 | |
| sumexp_to_tsv | 0.450 | 0.001 | 0.451 | |
| sumexplist_to_longdt | 1.522 | 0.049 | 1.571 | |
| summarize_fit | 1.635 | 0.017 | 1.581 | |
| survobj | 0.139 | 0.000 | 0.140 | |
| svalues | 0.394 | 0.003 | 0.396 | |
| svars | 0.437 | 0.002 | 0.439 | |
| systematic_nas | 0.498 | 0.001 | 0.499 | |
| tag_features | 0.898 | 0.010 | 0.908 | |
| tag_hdlproteins | 0.587 | 0.034 | 0.621 | |
| taxon2org | 0.001 | 0.000 | 0.001 | |
| tpm | 0.316 | 0.002 | 0.317 | |
| uncollapse | 0.028 | 0.001 | 0.029 | |
| values | 0.417 | 0.008 | 0.424 | |
| varlevels_dont_clash | 0.021 | 0.001 | 0.021 | |
| venn_detects | 0.582 | 0.003 | 0.585 | |
| weights | 0.327 | 0.000 | 0.327 | |
| write_xl | 159.206 | 2.390 | 161.673 | |
| zero_to_na | 0.002 | 0.000 | 0.001 | |