Back to Multiple platform build/check report for BioC 3.22:   simplified   long
ABCDEFGHIJKLMNOPQR[S]TUVWXYZ

This page was generated on 2025-11-20 12:08 -0500 (Thu, 20 Nov 2025).

HostnameOSArch (*)R versionInstalled pkgs
nebbiolo2Linux (Ubuntu 24.04.3 LTS)x86_644.5.2 (2025-10-31) -- "[Not] Part in a Rumble" 4615
merida1macOS 12.7.6 Montereyx86_644.5.2 Patched (2025-11-05 r88990) -- "[Not] Part in a Rumble" 4610
kjohnson1macOS 13.7.5 Venturaarm644.5.2 Patched (2025-11-04 r88984) -- "[Not] Part in a Rumble" 4598
taishanLinux (openEuler 24.03 LTS)aarch644.5.0 (2025-04-11) -- "How About a Twenty-Six" 4668
Click on any hostname to see more info about the system (e.g. compilers)      (*) as reported by 'uname -p', except on Windows and Mac OS X

Package 2094/2361HostnameOS / ArchINSTALLBUILDCHECKBUILD BIN
SpectriPy 1.0.0  (landing page)
Johannes Rainer
Snapshot Date: 2025-11-17 13:45 -0500 (Mon, 17 Nov 2025)
git_url: https://git.bioconductor.org/packages/SpectriPy
git_branch: RELEASE_3_22
git_last_commit: 017658a
git_last_commit_date: 2025-10-29 11:36:52 -0500 (Wed, 29 Oct 2025)
nebbiolo2Linux (Ubuntu 24.04.3 LTS) / x86_64  OK    OK    OK  UNNEEDED, same version is already published
merida1macOS 12.7.6 Monterey / x86_64  ERROR    ERROR  skippedskipped
kjohnson1macOS 13.7.5 Ventura / arm64  ERROR    ERROR  skippedskipped
taishanLinux (openEuler 24.03 LTS) / aarch64  OK    OK    OK  


CHECK results for SpectriPy on taishan

To the developers/maintainers of the SpectriPy package:
- Allow up to 24 hours (and sometimes 48 hours) for your latest push to git@git.bioconductor.org:packages/SpectriPy.git to reflect on this report. See Troubleshooting Build Report for more information.
- Use the following Renviron settings to reproduce errors and warnings.
- If 'R CMD check' started to fail recently on the Linux builder(s) over a missing dependency, add the missing dependency to 'Suggests:' in your DESCRIPTION file. See Renviron.bioc for more information.
- See Martin Grigorov's blog post for how to debug Linux ARM64 related issues on a x86_64 host.

raw results


Summary

Package: SpectriPy
Version: 1.0.0
Command: /home/biocbuild/R/R/bin/R CMD check --install=check:SpectriPy.install-out.txt --library=/home/biocbuild/R/R/site-library --no-vignettes --timings SpectriPy_1.0.0.tar.gz
StartedAt: 2025-11-18 15:30:04 -0000 (Tue, 18 Nov 2025)
EndedAt: 2025-11-18 15:36:26 -0000 (Tue, 18 Nov 2025)
EllapsedTime: 382.4 seconds
RetCode: 0
Status:   OK  
CheckDir: SpectriPy.Rcheck
Warnings: 0

Command output

##############################################################################
##############################################################################
###
### Running command:
###
###   /home/biocbuild/R/R/bin/R CMD check --install=check:SpectriPy.install-out.txt --library=/home/biocbuild/R/R/site-library --no-vignettes --timings SpectriPy_1.0.0.tar.gz
###
##############################################################################
##############################################################################


* using log directory ‘/home/biocbuild/bbs-3.22-bioc/meat/SpectriPy.Rcheck’
* using R version 4.5.0 (2025-04-11)
* using platform: aarch64-unknown-linux-gnu
* R was compiled by
    aarch64-unknown-linux-gnu-gcc (GCC) 14.2.0
    GNU Fortran (GCC) 14.2.0
* running under: openEuler 24.03 (LTS)
* using session charset: UTF-8
* using option ‘--no-vignettes’
* checking for file ‘SpectriPy/DESCRIPTION’ ... OK
* this is package ‘SpectriPy’ version ‘1.0.0’
* package encoding: UTF-8
* checking package namespace information ... OK
* checking package dependencies ... OK
* checking if this is a source package ... OK
* checking if there is a namespace ... OK
* checking for hidden files and directories ... OK
* checking for portable file names ... OK
* checking for sufficient/correct file permissions ... OK
* checking whether package ‘SpectriPy’ can be installed ... OK
* checking installed package size ... OK
* checking package directory ... OK
* checking ‘build’ directory ... OK
* checking DESCRIPTION meta-information ... OK
* checking top-level files ... OK
* checking for left-over files ... OK
* checking index information ... OK
* checking package subdirectories ... OK
* checking code files for non-ASCII characters ... OK
* checking R files for syntax errors ... OK
* checking whether the package can be loaded ... OK
* checking whether the package can be loaded with stated dependencies ... OK
* checking whether the package can be unloaded cleanly ... OK
* checking whether the namespace can be loaded with stated dependencies ... OK
* checking whether the namespace can be unloaded cleanly ... OK
* checking loading without being on the library search path ... OK
* checking whether startup messages can be suppressed ... OK
* checking dependencies in R code ... NOTE
Unexported object imported by a ':::' call: ‘Spectra:::.check_peaks_data_value’
  See the note in ?`:::` about the use of this operator.
* checking S3 generic/method consistency ... OK
* checking replacement functions ... OK
* checking foreign function calls ... OK
* checking R code for possible problems ... OK
* checking Rd files ... OK
* checking Rd metadata ... OK
* checking Rd cross-references ... OK
* checking for missing documentation entries ... OK
* checking for code/documentation mismatches ... OK
* checking Rd \usage sections ... OK
* checking Rd contents ... OK
* checking for unstated dependencies in examples ... OK
* checking files in ‘vignettes’ ... OK
* checking examples ... OK
Examples with CPU (user + system) or elapsed time > 5s
             user system elapsed
MsBackendPy 6.809  0.921   7.636
* checking for unstated dependencies in ‘tests’ ... OK
* checking tests ...
  Running ‘testthat.R’
 OK
* checking for unstated dependencies in vignettes ... OK
* checking package vignettes ... OK
* checking running R code from vignettes ... SKIPPED
* checking re-building of vignette outputs ... SKIPPED
* checking PDF version of manual ... OK
* DONE

Status: 1 NOTE
See
  ‘/home/biocbuild/bbs-3.22-bioc/meat/SpectriPy.Rcheck/00check.log’
for details.


Installation output

SpectriPy.Rcheck/00install.out

##############################################################################
##############################################################################
###
### Running command:
###
###   /home/biocbuild/R/R/bin/R CMD INSTALL SpectriPy
###
##############################################################################
##############################################################################


* installing to library ‘/home/biocbuild/R/R-4.5.0/site-library’
* installing *source* package ‘SpectriPy’ ...
** this is package ‘SpectriPy’ version ‘1.0.0’
** using staged installation
** R
** inst
** byte-compile and prepare package for lazy loading
** help
*** installing help indices
*** copying figures
** building package indices
** installing vignettes
** testing if installed package can be loaded from temporary location
** testing if installed package can be loaded from final location
** testing if installed package keeps a record of temporary installation path
* DONE (SpectriPy)

Tests output

SpectriPy.Rcheck/tests/testthat.Rout


R version 4.5.0 (2025-04-11) -- "How About a Twenty-Six"
Copyright (C) 2025 The R Foundation for Statistical Computing
Platform: aarch64-unknown-linux-gnu

R is free software and comes with ABSOLUTELY NO WARRANTY.
You are welcome to redistribute it under certain conditions.
Type 'license()' or 'licence()' for distribution details.

R is a collaborative project with many contributors.
Type 'contributors()' for more information and
'citation()' on how to cite R or R packages in publications.

Type 'demo()' for some demos, 'help()' for on-line help, or
'help.start()' for an HTML browser interface to help.
Type 'q()' to quit R.

> library(testthat)
> library(Spectra)
Loading required package: S4Vectors
Loading required package: stats4
Loading required package: BiocGenerics
Loading required package: generics

Attaching package: 'generics'

The following objects are masked from 'package:base':

    as.difftime, as.factor, as.ordered, intersect, is.element, setdiff,
    setequal, union


Attaching package: 'BiocGenerics'

The following objects are masked from 'package:stats':

    IQR, mad, sd, var, xtabs

The following objects are masked from 'package:base':

    Filter, Find, Map, Position, Reduce, anyDuplicated, aperm, append,
    as.data.frame, basename, cbind, colnames, dirname, do.call,
    duplicated, eval, evalq, get, grep, grepl, is.unsorted, lapply,
    mapply, match, mget, order, paste, pmax, pmax.int, pmin, pmin.int,
    rank, rbind, rownames, sapply, saveRDS, table, tapply, unique,
    unsplit, which.max, which.min


Attaching package: 'S4Vectors'

The following object is masked from 'package:utils':

    findMatches

The following objects are masked from 'package:base':

    I, expand.grid, unname

Loading required package: BiocParallel
> library(SpectriPy)
Loading required package: reticulate
> library(MsBackendMgf)
> 
> fl <- system.file("extdata", "mgf", "test.mgf", package = "SpectriPy")
> s <- Spectra(fl, source = MsBackendMgf())
Start data import from 1 files ... done
> s <- setBackend(s, MsBackendPy(), pythonVariableName = "py_be")
> 
> be <- s@backend
> 
> test_check("SpectriPy")
2025-11-18 15:36:03,894:WARNING:matchms:add_precursor_mz:No precursor_mz found in metadata.
2025-11-18 15:36:03,895:WARNING:matchms:add_precursor_mz:No precursor_mz found in metadata.
2025-11-18 15:36:03,896:WARNING:matchms:add_precursor_mz:No precursor_mz found in metadata.
2025-11-18 15:36:03,897:WARNING:matchms:add_precursor_mz:No precursor_mz found in metadata.
2025-11-18 15:36:03,898:WARNING:matchms:add_precursor_mz:No precursor_mz found in metadata.
2025-11-18 15:36:03,899:WARNING:matchms:add_precursor_mz:No precursor_mz found in metadata.
2025-11-18 15:36:03,901:WARNING:matchms:add_precursor_mz:No precursor_mz found in metadata.
2025-11-18 15:36:03,902:WARNING:matchms:add_precursor_mz:No precursor_mz found in metadata.
2025-11-18 15:36:03,903:WARNING:matchms:add_precursor_mz:No precursor_mz found in metadata.
2025-11-18 15:36:03,904:WARNING:matchms:add_precursor_mz:No precursor_mz found in metadata.
2025-11-18 15:36:03,906:WARNING:matchms:add_precursor_mz:No precursor_mz found in metadata.
2025-11-18 15:36:03,907:WARNING:matchms:add_precursor_mz:No precursor_mz found in metadata.
2025-11-18 15:36:03,908:WARNING:matchms:add_precursor_mz:No precursor_mz found in metadata.
2025-11-18 15:36:03,910:WARNING:matchms:add_precursor_mz:No precursor_mz found in metadata.
2025-11-18 15:36:03,911:WARNING:matchms:add_precursor_mz:No precursor_mz found in metadata.
2025-11-18 15:36:03,912:WARNING:matchms:add_precursor_mz:No precursor_mz found in metadata.
2025-11-18 15:36:03,914:WARNING:matchms:add_precursor_mz:No precursor_mz found in metadata.
2025-11-18 15:36:03,915:WARNING:matchms:add_precursor_mz:No precursor_mz found in metadata.
2025-11-18 15:36:03,916:WARNING:matchms:add_precursor_mz:No precursor_mz found in metadata.
2025-11-18 15:36:03,917:WARNING:matchms:add_precursor_mz:No precursor_mz found in metadata.
2025-11-18 15:36:03,918:WARNING:matchms:add_precursor_mz:No precursor_mz found in metadata.
2025-11-18 15:36:03,919:WARNING:matchms:add_precursor_mz:No precursor_mz found in metadata.
2025-11-18 15:36:03,920:WARNING:matchms:add_precursor_mz:No precursor_mz found in metadata.
2025-11-18 15:36:03,922:WARNING:matchms:add_precursor_mz:No precursor_mz found in metadata.
2025-11-18 15:36:03,923:WARNING:matchms:add_precursor_mz:No precursor_mz found in metadata.
2025-11-18 15:36:03,924:WARNING:matchms:add_precursor_mz:No precursor_mz found in metadata.
2025-11-18 15:36:03,925:WARNING:matchms:add_precursor_mz:No precursor_mz found in metadata.
2025-11-18 15:36:03,926:WARNING:matchms:add_precursor_mz:No precursor_mz found in metadata.
2025-11-18 15:36:03,927:WARNING:matchms:add_precursor_mz:No precursor_mz found in metadata.
2025-11-18 15:36:03,928:WARNING:matchms:add_precursor_mz:No precursor_mz found in metadata.
2025-11-18 15:36:03,929:WARNING:matchms:add_precursor_mz:No precursor_mz found in metadata.
2025-11-18 15:36:03,930:WARNING:matchms:add_precursor_mz:No precursor_mz found in metadata.
2025-11-18 15:36:03,932:WARNING:matchms:add_precursor_mz:No precursor_mz found in metadata.
2025-11-18 15:36:03,933:WARNING:matchms:add_precursor_mz:No precursor_mz found in metadata.
2025-11-18 15:36:03,934:WARNING:matchms:add_precursor_mz:No precursor_mz found in metadata.
2025-11-18 15:36:03,935:WARNING:matchms:add_precursor_mz:No precursor_mz found in metadata.
2025-11-18 15:36:03,936:WARNING:matchms:add_precursor_mz:No precursor_mz found in metadata.
2025-11-18 15:36:03,937:WARNING:matchms:add_precursor_mz:No precursor_mz found in metadata.
2025-11-18 15:36:03,938:WARNING:matchms:add_precursor_mz:No precursor_mz found in metadata.
2025-11-18 15:36:03,939:WARNING:matchms:add_precursor_mz:No precursor_mz found in metadata.
2025-11-18 15:36:03,940:WARNING:matchms:add_precursor_mz:No precursor_mz found in metadata.
2025-11-18 15:36:03,942:WARNING:matchms:add_precursor_mz:No precursor_mz found in metadata.
2025-11-18 15:36:03,943:WARNING:matchms:add_precursor_mz:No precursor_mz found in metadata.
2025-11-18 15:36:03,944:WARNING:matchms:add_precursor_mz:No precursor_mz found in metadata.
2025-11-18 15:36:03,945:WARNING:matchms:add_precursor_mz:No precursor_mz found in metadata.
2025-11-18 15:36:03,946:WARNING:matchms:add_precursor_mz:No precursor_mz found in metadata.
2025-11-18 15:36:03,948:WARNING:matchms:add_precursor_mz:No precursor_mz found in metadata.
2025-11-18 15:36:03,949:WARNING:matchms:add_precursor_mz:No precursor_mz found in metadata.
2025-11-18 15:36:03,950:WARNING:matchms:add_precursor_mz:No precursor_mz found in metadata.
2025-11-18 15:36:03,951:WARNING:matchms:add_precursor_mz:No precursor_mz found in metadata.
2025-11-18 15:36:03,952:WARNING:matchms:add_precursor_mz:No precursor_mz found in metadata.
2025-11-18 15:36:03,953:WARNING:matchms:add_precursor_mz:No precursor_mz found in metadata.
2025-11-18 15:36:03,955:WARNING:matchms:add_precursor_mz:No precursor_mz found in metadata.
2025-11-18 15:36:03,956:WARNING:matchms:add_precursor_mz:No precursor_mz found in metadata.
2025-11-18 15:36:03,957:WARNING:matchms:add_precursor_mz:No precursor_mz found in metadata.
2025-11-18 15:36:03,958:WARNING:matchms:add_precursor_mz:No precursor_mz found in metadata.
2025-11-18 15:36:03,959:WARNING:matchms:add_precursor_mz:No precursor_mz found in metadata.
2025-11-18 15:36:03,960:WARNING:matchms:add_precursor_mz:No precursor_mz found in metadata.
2025-11-18 15:36:03,961:WARNING:matchms:add_precursor_mz:No precursor_mz found in metadata.
2025-11-18 15:36:03,962:WARNING:matchms:add_precursor_mz:No precursor_mz found in metadata.
2025-11-18 15:36:03,964:WARNING:matchms:add_precursor_mz:No precursor_mz found in metadata.
2025-11-18 15:36:03,965:WARNING:matchms:add_precursor_mz:No precursor_mz found in metadata.
2025-11-18 15:36:03,966:WARNING:matchms:add_precursor_mz:No precursor_mz found in metadata.
2025-11-18 15:36:03,967:WARNING:matchms:add_precursor_mz:No precursor_mz found in metadata.
2025-11-18 15:36:03,968:WARNING:matchms:add_precursor_mz:No precursor_mz found in metadata.
2025-11-18 15:36:03,969:WARNING:matchms:add_precursor_mz:No precursor_mz found in metadata.
2025-11-18 15:36:03,970:WARNING:matchms:add_precursor_mz:No precursor_mz found in metadata.
2025-11-18 15:36:03,971:WARNING:matchms:add_precursor_mz:No precursor_mz found in metadata.
2025-11-18 15:36:03,973:WARNING:matchms:add_precursor_mz:No precursor_mz found in metadata.
2025-11-18 15:36:03,974:WARNING:matchms:add_precursor_mz:No precursor_mz found in metadata.
2025-11-18 15:36:03,975:WARNING:matchms:add_precursor_mz:No precursor_mz found in metadata.
2025-11-18 15:36:03,976:WARNING:matchms:add_precursor_mz:No precursor_mz found in metadata.
2025-11-18 15:36:03,977:WARNING:matchms:add_precursor_mz:No precursor_mz found in metadata.
2025-11-18 15:36:03,978:WARNING:matchms:add_precursor_mz:No precursor_mz found in metadata.
2025-11-18 15:36:03,979:WARNING:matchms:add_precursor_mz:No precursor_mz found in metadata.
2025-11-18 15:36:03,980:WARNING:matchms:add_precursor_mz:No precursor_mz found in metadata.
2025-11-18 15:36:03,981:WARNING:matchms:add_precursor_mz:No precursor_mz found in metadata.
2025-11-18 15:36:03,983:WARNING:matchms:add_precursor_mz:No precursor_mz found in metadata.
2025-11-18 15:36:03,984:WARNING:matchms:add_precursor_mz:No precursor_mz found in metadata.
2025-11-18 15:36:03,985:WARNING:matchms:add_precursor_mz:No precursor_mz found in metadata.
2025-11-18 15:36:03,986:WARNING:matchms:add_precursor_mz:No precursor_mz found in metadata.
2025-11-18 15:36:03,987:WARNING:matchms:add_precursor_mz:No precursor_mz found in metadata.
2025-11-18 15:36:03,988:WARNING:matchms:add_precursor_mz:No precursor_mz found in metadata.
2025-11-18 15:36:03,989:WARNING:matchms:add_precursor_mz:No precursor_mz found in metadata.
2025-11-18 15:36:03,990:WARNING:matchms:add_precursor_mz:No precursor_mz found in metadata.
2025-11-18 15:36:03,992:WARNING:matchms:add_precursor_mz:No precursor_mz found in metadata.
2025-11-18 15:36:03,993:WARNING:matchms:add_precursor_mz:No precursor_mz found in metadata.
2025-11-18 15:36:03,994:WARNING:matchms:add_precursor_mz:No precursor_mz found in metadata.
2025-11-18 15:36:03,995:WARNING:matchms:add_precursor_mz:No precursor_mz found in metadata.
2025-11-18 15:36:03,996:WARNING:matchms:add_precursor_mz:No precursor_mz found in metadata.
2025-11-18 15:36:03,997:WARNING:matchms:add_precursor_mz:No precursor_mz found in metadata.
2025-11-18 15:36:03,998:WARNING:matchms:add_precursor_mz:No precursor_mz found in metadata.
2025-11-18 15:36:03,999:WARNING:matchms:add_precursor_mz:No precursor_mz found in metadata.
2025-11-18 15:36:04,001:WARNING:matchms:add_precursor_mz:No precursor_mz found in metadata.
2025-11-18 15:36:04,002:WARNING:matchms:add_precursor_mz:No precursor_mz found in metadata.
2025-11-18 15:36:04,003:WARNING:matchms:add_precursor_mz:No precursor_mz found in metadata.
2025-11-18 15:36:04,004:WARNING:matchms:add_precursor_mz:No precursor_mz found in metadata.
2025-11-18 15:36:04,005:WARNING:matchms:add_precursor_mz:No precursor_mz found in metadata.
2025-11-18 15:36:04,006:WARNING:matchms:add_precursor_mz:No precursor_mz found in metadata.
2025-11-18 15:36:04,007:WARNING:matchms:add_precursor_mz:No precursor_mz found in metadata.

Calculating similarities:   0%|          | 0/4 [00:00<?, ?it/s]
Calculating similarities:  25%|██▌       | 1/4 [00:03<00:09,  3.19s/it]
Calculating similarities: 100%|██████████| 4/4 [00:03<00:00,  1.25it/s]

Calculating similarities:   0%|          | 0/4 [00:00<?, ?it/s]
Calculating similarities: 100%|██████████| 4/4 [00:00<00:00, 3283.21it/s]

Calculating similarities:   0%|          | 0/4 [00:00<?, ?it/s]
Calculating similarities: 100%|██████████| 4/4 [00:00<00:00, 2366.32it/s]

Calculating similarities:   0%|          | 0/4 [00:00<?, ?it/s]
Calculating similarities: 100%|██████████| 4/4 [00:00<00:00, 3246.99it/s]

Calculating similarities:   0%|          | 0/2 [00:00<?, ?it/s]
Calculating similarities: 100%|██████████| 2/2 [00:00<00:00, 4485.89it/s]

Calculating similarities:   0%|          | 0/2 [00:00<?, ?it/s]
Calculating similarities: 100%|██████████| 2/2 [00:00<00:00, 3198.10it/s]

Calculating similarities:   0%|          | 0/2 [00:00<?, ?it/s]
Calculating similarities: 100%|██████████| 2/2 [00:00<00:00, 4181.76it/s]

Calculating similarities:   0%|          | 0/2 [00:00<?, ?it/s]
Calculating similarities: 100%|██████████| 2/2 [00:00<00:00, 1785.19it/s]

Calculating similarities:   0%|          | 0/2 [00:00<?, ?it/s]
Calculating similarities: 100%|██████████| 2/2 [00:00<00:00, 2647.92it/s]

Calculating similarities:   0%|          | 0/2 [00:00<?, ?it/s]
Calculating similarities: 100%|██████████| 2/2 [00:00<00:00, 2380.42it/s]

Calculating similarities:   0%|          | 0/4 [00:00<?, ?it/s]
Calculating similarities:  50%|█████     | 2/4 [00:00<00:00, 1433.22it/s]

Calculating similarities:   0%|          | 0/2 [00:00<?, ?it/s]
Calculating similarities:  50%|█████     | 1/2 [00:01<00:01,  1.06s/it]
Calculating similarities: 100%|██████████| 2/2 [00:01<00:00,  1.88it/s]

Calculating similarities:   0%|          | 0/2 [00:00<?, ?it/s]
Calculating similarities:  50%|█████     | 1/2 [00:00<00:00,  1.22it/s]
Calculating similarities: 100%|██████████| 2/2 [00:00<00:00,  2.45it/s]
2025-11-18 15:36:20,506:WARNING:matchms:add_precursor_mz:No precursor_mz found in metadata.
2025-11-18 15:36:20,582:WARNING:matchms:add_precursor_mz:No precursor_mz found in metadata.
2025-11-18 15:36:20,584:WARNING:matchms:add_precursor_mz:No precursor_mz found in metadata.
2025-11-18 15:36:20,585:WARNING:matchms:add_precursor_mz:No precursor_mz found in metadata.
2025-11-18 15:36:20,670:WARNING:matchms:add_precursor_mz:No precursor_mz found in metadata.
2025-11-18 15:36:20,671:WARNING:matchms:add_precursor_mz:No precursor_mz found in metadata.
2025-11-18 15:36:20,672:WARNING:matchms:add_precursor_mz:No precursor_mz found in metadata.
2025-11-18 15:36:21,011:WARNING:matchms:add_precursor_mz:No precursor_mz found in metadata.
2025-11-18 15:36:21,013:WARNING:matchms:add_precursor_mz:No precursor_mz found in metadata.
2025-11-18 15:36:21,014:WARNING:matchms:add_precursor_mz:No precursor_mz found in metadata.
2025-11-18 15:36:21,058:WARNING:matchms:add_precursor_mz:No precursor_mz found in metadata.
2025-11-18 15:36:21,059:WARNING:matchms:add_precursor_mz:No precursor_mz found in metadata.
2025-11-18 15:36:21,060:WARNING:matchms:add_precursor_mz:No precursor_mz found in metadata.
2025-11-18 15:36:21,457:WARNING:matchms:add_precursor_mz:No precursor_mz found in metadata.
2025-11-18 15:36:21,458:WARNING:matchms:add_precursor_mz:No precursor_mz found in metadata.
2025-11-18 15:36:21,459:WARNING:matchms:add_precursor_mz:No precursor_mz found in metadata.
2025-11-18 15:36:21,479:WARNING:matchms:add_precursor_mz:No precursor_mz found in metadata.
2025-11-18 15:36:21,480:WARNING:matchms:add_precursor_mz:No precursor_mz found in metadata.
2025-11-18 15:36:21,481:WARNING:matchms:add_precursor_mz:No precursor_mz found in metadata.

Processing spectra:   0%|          | 0/4 [00:00<?, ?it/s]
Processing spectra: 100%|██████████| 4/4 [00:00<00:00, 2402.24it/s]

Processing spectra:   0%|          | 0/4 [00:00<?, ?it/s]
Processing spectra: 100%|██████████| 4/4 [00:00<00:00, 2593.48it/s]

Processing spectra:   0%|          | 0/4 [00:00<?, ?it/s]
Processing spectra: 100%|██████████| 4/4 [00:00<00:00, 2683.07it/s]

Processing spectra:   0%|          | 0/4 [00:00<?, ?it/s]
Processing spectra: 100%|██████████| 4/4 [00:00<00:00, 2581.11it/s]

Processing spectra:   0%|          | 0/4 [00:00<?, ?it/s]
Processing spectra: 100%|██████████| 4/4 [00:00<00:00, 2378.06it/s]
[ FAIL 0 | WARN 4 | SKIP 1 | PASS 592 ]

══ Skipped tests (1) ═══════════════════════════════════════════════════════════
• empty test (1): 'test_zzz.R:16:1'

[ FAIL 0 | WARN 4 | SKIP 1 | PASS 592 ]
> 
> ## TODO: add tests from the Spectra unit test suite!
> 
> ## ## Run the MsBackend spectra variable test suite
> ## test_suite <- system.file("test_backends", "test_MsBackend",
> ##                           package = "Spectra")
> 
> ## ## Run single test file.
> ## res <- test_dir(test_suite, stop_on_failure = TRUE)
> 
> proc.time()
   user  system elapsed 
 39.401   3.318  42.205 

Example timings

SpectriPy.Rcheck/SpectriPy-Ex.timings

nameusersystemelapsed
MsBackendPy6.8090.9217.636
compareSpectriPy3.2000.2903.538
conversion0.4980.2780.608
filterSpectriPy0.2640.0290.294