| Back to Multiple platform build/check report for BioC 3.21: simplified long |
|
This page was generated on 2025-08-18 11:42 -0400 (Mon, 18 Aug 2025).
| Hostname | OS | Arch (*) | R version | Installed pkgs |
|---|---|---|---|---|
| nebbiolo1 | Linux (Ubuntu 24.04.3 LTS) | x86_64 | 4.5.1 (2025-06-13) -- "Great Square Root" | 4824 |
| palomino7 | Windows Server 2022 Datacenter | x64 | 4.5.1 (2025-06-13 ucrt) -- "Great Square Root" | 4566 |
| merida1 | macOS 12.7.5 Monterey | x86_64 | 4.5.1 RC (2025-06-05 r88288) -- "Great Square Root" | 4604 |
| kjohnson1 | macOS 13.6.6 Ventura | arm64 | 4.5.1 Patched (2025-06-14 r88325) -- "Great Square Root" | 4545 |
| kunpeng2 | Linux (openEuler 24.03 LTS) | aarch64 | R Under development (unstable) (2025-02-19 r87757) -- "Unsuffered Consequences" | 4579 |
| Click on any hostname to see more info about the system (e.g. compilers) (*) as reported by 'uname -p', except on Windows and Mac OS X | ||||
| Package 1937/2341 | Hostname | OS / Arch | INSTALL | BUILD | CHECK | BUILD BIN | ||||||||
| ScreenR 1.10.0 (landing page) Emanuel Michele Soda
| nebbiolo1 | Linux (Ubuntu 24.04.3 LTS) / x86_64 | OK | OK | OK | |||||||||
| palomino7 | Windows Server 2022 Datacenter / x64 | OK | OK | OK | OK | |||||||||
| merida1 | macOS 12.7.5 Monterey / x86_64 | OK | OK | OK | OK | |||||||||
| kjohnson1 | macOS 13.6.6 Ventura / arm64 | OK | OK | OK | OK | |||||||||
| kunpeng2 | Linux (openEuler 24.03 LTS) / aarch64 | OK | OK | OK | ||||||||||
|
To the developers/maintainers of the ScreenR package: - Allow up to 24 hours (and sometimes 48 hours) for your latest push to git@git.bioconductor.org:packages/ScreenR.git to reflect on this report. See Troubleshooting Build Report for more information. - Use the following Renviron settings to reproduce errors and warnings. - If 'R CMD check' started to fail recently on the Linux builder(s) over a missing dependency, add the missing dependency to 'Suggests:' in your DESCRIPTION file. See Renviron.bioc for more information. |
| Package: ScreenR |
| Version: 1.10.0 |
| Command: E:\biocbuild\bbs-3.21-bioc\R\bin\R.exe CMD check --no-multiarch --install=check:ScreenR.install-out.txt --library=E:\biocbuild\bbs-3.21-bioc\R\library --no-vignettes --timings ScreenR_1.10.0.tar.gz |
| StartedAt: 2025-08-15 06:43:38 -0400 (Fri, 15 Aug 2025) |
| EndedAt: 2025-08-15 06:47:56 -0400 (Fri, 15 Aug 2025) |
| EllapsedTime: 257.9 seconds |
| RetCode: 0 |
| Status: OK |
| CheckDir: ScreenR.Rcheck |
| Warnings: 0 |
##############################################################################
##############################################################################
###
### Running command:
###
### E:\biocbuild\bbs-3.21-bioc\R\bin\R.exe CMD check --no-multiarch --install=check:ScreenR.install-out.txt --library=E:\biocbuild\bbs-3.21-bioc\R\library --no-vignettes --timings ScreenR_1.10.0.tar.gz
###
##############################################################################
##############################################################################
* using log directory 'E:/biocbuild/bbs-3.21-bioc/meat/ScreenR.Rcheck'
* using R version 4.5.1 (2025-06-13 ucrt)
* using platform: x86_64-w64-mingw32
* R was compiled by
gcc.exe (GCC) 14.2.0
GNU Fortran (GCC) 14.2.0
* running under: Windows Server 2022 x64 (build 20348)
* using session charset: UTF-8
* using option '--no-vignettes'
* checking for file 'ScreenR/DESCRIPTION' ... OK
* checking extension type ... Package
* this is package 'ScreenR' version '1.10.0'
* package encoding: UTF-8
* checking package namespace information ... OK
* checking package dependencies ... OK
* checking if this is a source package ... OK
* checking if there is a namespace ... OK
* checking for hidden files and directories ... OK
* checking for portable file names ... OK
* checking whether package 'ScreenR' can be installed ... OK
* checking installed package size ... OK
* checking package directory ... OK
* checking 'build' directory ... OK
* checking DESCRIPTION meta-information ... OK
* checking top-level files ... OK
* checking for left-over files ... OK
* checking index information ... OK
* checking package subdirectories ... OK
* checking code files for non-ASCII characters ... OK
* checking R files for syntax errors ... OK
* checking whether the package can be loaded ... OK
* checking whether the package can be loaded with stated dependencies ... OK
* checking whether the package can be unloaded cleanly ... OK
* checking whether the namespace can be loaded with stated dependencies ... OK
* checking whether the namespace can be unloaded cleanly ... OK
* checking whether startup messages can be suppressed ... OK
* checking dependencies in R code ... OK
* checking S3 generic/method consistency ... OK
* checking replacement functions ... OK
* checking foreign function calls ... OK
* checking R code for possible problems ... OK
* checking Rd files ... NOTE
checkRd: (-1) annotation_table.Rd:25: Lost braces
25 | \url{https://cellecta.com/}{cellecta}}
| ^
* checking Rd metadata ... OK
* checking Rd cross-references ... OK
* checking for missing documentation entries ... OK
* checking for code/documentation mismatches ... OK
* checking Rd \usage sections ... NOTE
Documented arguments not in \usage in Rd file 'compute_camera.Rd':
'...'
Documented arguments not in \usage in Rd file 'select_number_barcode.Rd':
'...'
Documented arguments not in \usage in Rd file 'unique_gene_symbols.Rd':
'...'
Functions with \usage entries need to have the appropriate \alias
entries, and all their arguments documented.
The \usage entries must correspond to syntactically valid R code.
See chapter 'Writing R documentation files' in the 'Writing R
Extensions' manual.
* checking Rd contents ... OK
* checking for unstated dependencies in examples ... OK
* checking contents of 'data' directory ... OK
* checking data for non-ASCII characters ... OK
* checking data for ASCII and uncompressed saves ... OK
* checking R/sysdata.rda ... OK
* checking files in 'vignettes' ... OK
* checking examples ... OK
Examples with CPU (user + system) or elapsed time > 5s
user system elapsed
plot_barcode_trend 34.63 4.83 39.43
plot_zscore_distribution 33.22 4.22 37.29
compute_metrics 18.19 1.64 19.81
find_zscore_hit 16.96 2.66 19.61
find_robust_zscore_hit 15.12 2.03 17.12
* checking for unstated dependencies in 'tests' ... OK
* checking tests ...
Running 'testthat.R'
OK
* checking for unstated dependencies in vignettes ... OK
* checking package vignettes ... OK
* checking running R code from vignettes ... SKIPPED
* checking re-building of vignette outputs ... SKIPPED
* checking PDF version of manual ... OK
* DONE
Status: 2 NOTEs
See
'E:/biocbuild/bbs-3.21-bioc/meat/ScreenR.Rcheck/00check.log'
for details.
ScreenR.Rcheck/00install.out
############################################################################## ############################################################################## ### ### Running command: ### ### E:\biocbuild\bbs-3.21-bioc\R\bin\R.exe CMD INSTALL ScreenR ### ############################################################################## ############################################################################## * installing to library 'E:/biocbuild/bbs-3.21-bioc/R/library' * installing *source* package 'ScreenR' ... ** this is package 'ScreenR' version '1.10.0' ** using staged installation ** R ** data ** inst ** byte-compile and prepare package for lazy loading ** help *** installing help indices *** copying figures ** building package indices ** installing vignettes ** testing if installed package can be loaded from temporary location ** testing if installed package can be loaded from final location ** testing if installed package keeps a record of temporary installation path * DONE (ScreenR)
ScreenR.Rcheck/tests/testthat.Rout
R version 4.5.1 (2025-06-13 ucrt) -- "Great Square Root"
Copyright (C) 2025 The R Foundation for Statistical Computing
Platform: x86_64-w64-mingw32/x64
R is free software and comes with ABSOLUTELY NO WARRANTY.
You are welcome to redistribute it under certain conditions.
Type 'license()' or 'licence()' for distribution details.
R is a collaborative project with many contributors.
Type 'contributors()' for more information and
'citation()' on how to cite R or R packages in publications.
Type 'demo()' for some demos, 'help()' for on-line help, or
'help.start()' for an HTML browser interface to help.
Type 'q()' to quit R.
> library(testthat)
> library(ScreenR)
Welcome to ScreenR
--------------------------
See ?ScreenR for a list of
available functions.
Enjoy!
>
> test_check("ScreenR")
ScreenR count table containing:
5320 rows
15 columns
ScreenR annotation table containing:
5320 rows
5 columns
ScreenR normalized count table containing:
5320 rows
15 columns
ScreenR normalized data table containing:
74480 rows
9 columns
ScreenR annotation table containing:
5320 rows
5 columns
ScreenR annotation table containing:
5320 rows
5 columns
ScreenR count table containing:
5320 rows
15 columns
ScreenR count table containing:
5320 rows
15 columns
ScreenR normalized count table containing:
5320 rows
15 columns
ScreenR normalized count table containing:
5320 rows
15 columns
ScreenR normalized data table containing:
74480 rows
9 columns
ScreenR normalized data table containing:
74480 rows
9 columns
Using classic mode.
[ FAIL 0 | WARN 253 | SKIP 0 | PASS 64 ]
[ FAIL 0 | WARN 253 | SKIP 0 | PASS 64 ]
>
> proc.time()
user system elapsed
34.26 1.89 36.17
ScreenR.Rcheck/ScreenR-Ex.timings
| name | user | system | elapsed | |
| barcode_lost | 0.18 | 0.03 | 0.31 | |
| compute_data_table | 0.24 | 0.00 | 0.23 | |
| compute_explained_variance | 0.00 | 0.02 | 0.02 | |
| compute_metrics | 18.19 | 1.64 | 19.81 | |
| compute_slope | 0.06 | 0.01 | 0.08 | |
| count_mapped_reads | 0.05 | 0.00 | 0.04 | |
| create_edger_obj | 0.03 | 0.00 | 0.03 | |
| create_screenr_object | 0.07 | 0.00 | 0.06 | |
| filter_by_slope | 0.15 | 0.00 | 0.16 | |
| filter_by_variance | 2.02 | 0.09 | 2.11 | |
| find_camera_hit | 2.11 | 0.13 | 2.23 | |
| find_common_hit | 0.04 | 0.00 | 0.05 | |
| find_roast_hit | 2.99 | 0.23 | 3.22 | |
| find_robust_zscore_hit | 15.12 | 2.03 | 17.12 | |
| find_zscore_hit | 16.96 | 2.66 | 19.61 | |
| get_annotation_table | 0.01 | 0.00 | 0.01 | |
| get_count_table | 0.16 | 0.09 | 0.25 | |
| get_data_table | 0.04 | 0.00 | 0.05 | |
| get_groups | 0 | 0 | 0 | |
| get_normalized_count_table | 0.05 | 0.00 | 0.05 | |
| get_replicates | 0 | 0 | 0 | |
| mapped_reads | 0.05 | 0.00 | 0.04 | |
| normalize_data | 0.06 | 0.00 | 0.07 | |
| plot_barcode_hit | 1.86 | 0.16 | 2.01 | |
| plot_barcode_lost | 0.48 | 0.04 | 0.53 | |
| plot_barcode_lost_for_gene | 1.55 | 0.02 | 1.57 | |
| plot_barcode_trend | 34.63 | 4.83 | 39.43 | |
| plot_boxplot | 0.48 | 0.00 | 0.49 | |
| plot_common_hit | 0.25 | 0.01 | 0.29 | |
| plot_explained_variance | 0.49 | 0.02 | 0.50 | |
| plot_mapped_reads | 0.21 | 0.00 | 0.22 | |
| plot_mapped_reads_distribution | 2.11 | 0.03 | 2.14 | |
| plot_mds | 0.41 | 0.00 | 0.41 | |
| plot_trend | 2.05 | 0.38 | 2.42 | |
| plot_zscore_distribution | 33.22 | 4.22 | 37.29 | |
| remove_all_zero_row | 0 | 0 | 0 | |
| set_annotation_table | 0.12 | 0.00 | 0.13 | |
| set_count_table | 0.09 | 0.03 | 0.12 | |
| set_data_table | 0.18 | 0.00 | 0.18 | |
| set_groups | 0.17 | 0.00 | 0.17 | |
| set_normalized_count_table | 0.23 | 0.03 | 0.26 | |
| set_replicates | 0.21 | 0.00 | 0.21 | |