Back to Multiple platform build/check report for BioC 3.20:   simplified   long
ABCDEFGHIJKLMNOPQR[S]TUVWXYZ

This page was generated on 2025-02-03 12:10 -0500 (Mon, 03 Feb 2025).

HostnameOSArch (*)R versionInstalled pkgs
nebbiolo2Linux (Ubuntu 24.04.1 LTS)x86_644.4.2 (2024-10-31) -- "Pile of Leaves" 4746
palomino8Windows Server 2022 Datacenterx644.4.2 (2024-10-31 ucrt) -- "Pile of Leaves" 4494
merida1macOS 12.7.5 Montereyx86_644.4.2 (2024-10-31) -- "Pile of Leaves" 4517
kjohnson1macOS 13.6.6 Venturaarm644.4.2 (2024-10-31) -- "Pile of Leaves" 4469
taishanLinux (openEuler 24.03 LTS)aarch644.4.2 (2024-10-31) -- "Pile of Leaves" 4400
Click on any hostname to see more info about the system (e.g. compilers)      (*) as reported by 'uname -p', except on Windows and Mac OS X

Package 1902/2289HostnameOS / ArchINSTALLBUILDCHECKBUILD BIN
ScreenR 1.8.0  (landing page)
Emanuel Michele Soda
Snapshot Date: 2025-01-30 13:00 -0500 (Thu, 30 Jan 2025)
git_url: https://git.bioconductor.org/packages/ScreenR
git_branch: RELEASE_3_20
git_last_commit: 5c07e14
git_last_commit_date: 2024-10-29 11:12:15 -0500 (Tue, 29 Oct 2024)
nebbiolo2Linux (Ubuntu 24.04.1 LTS) / x86_64  OK    OK    OK  UNNEEDED, same version is already published
palomino8Windows Server 2022 Datacenter / x64  OK    OK    OK    OK  UNNEEDED, same version is already published
merida1macOS 12.7.5 Monterey / x86_64  OK    OK    OK    OK  UNNEEDED, same version is already published
kjohnson1macOS 13.6.6 Ventura / arm64  OK    OK    OK    OK  UNNEEDED, same version is already published
taishanLinux (openEuler 24.03 LTS) / aarch64  OK    OK    OK  


CHECK results for ScreenR on kjohnson1

To the developers/maintainers of the ScreenR package:
- Allow up to 24 hours (and sometimes 48 hours) for your latest push to git@git.bioconductor.org:packages/ScreenR.git to reflect on this report. See Troubleshooting Build Report for more information.
- Use the following Renviron settings to reproduce errors and warnings.
- If 'R CMD check' started to fail recently on the Linux builder(s) over a missing dependency, add the missing dependency to 'Suggests:' in your DESCRIPTION file. See Renviron.bioc for more information.

raw results


Summary

Package: ScreenR
Version: 1.8.0
Command: /Library/Frameworks/R.framework/Resources/bin/R CMD check --install=check:ScreenR.install-out.txt --library=/Library/Frameworks/R.framework/Resources/library --no-vignettes --timings ScreenR_1.8.0.tar.gz
StartedAt: 2025-02-01 08:43:04 -0500 (Sat, 01 Feb 2025)
EndedAt: 2025-02-01 08:47:28 -0500 (Sat, 01 Feb 2025)
EllapsedTime: 263.9 seconds
RetCode: 0
Status:   OK  
CheckDir: ScreenR.Rcheck
Warnings: 0

Command output

##############################################################################
##############################################################################
###
### Running command:
###
###   /Library/Frameworks/R.framework/Resources/bin/R CMD check --install=check:ScreenR.install-out.txt --library=/Library/Frameworks/R.framework/Resources/library --no-vignettes --timings ScreenR_1.8.0.tar.gz
###
##############################################################################
##############################################################################


* using log directory ‘/Users/biocbuild/bbs-3.20-bioc/meat/ScreenR.Rcheck’
* using R version 4.4.2 (2024-10-31)
* using platform: aarch64-apple-darwin20
* R was compiled by
    Apple clang version 14.0.0 (clang-1400.0.29.202)
    GNU Fortran (GCC) 12.2.0
* running under: macOS Ventura 13.7.1
* using session charset: UTF-8
* using option ‘--no-vignettes’
* checking for file ‘ScreenR/DESCRIPTION’ ... OK
* checking extension type ... Package
* this is package ‘ScreenR’ version ‘1.8.0’
* package encoding: UTF-8
* checking package namespace information ... OK
* checking package dependencies ... OK
* checking if this is a source package ... OK
* checking if there is a namespace ... OK
* checking for hidden files and directories ... OK
* checking for portable file names ... OK
* checking for sufficient/correct file permissions ... OK
* checking whether package ‘ScreenR’ can be installed ... OK
* checking installed package size ... OK
* checking package directory ... OK
* checking ‘build’ directory ... OK
* checking DESCRIPTION meta-information ... OK
* checking top-level files ... OK
* checking for left-over files ... OK
* checking index information ... OK
* checking package subdirectories ... OK
* checking code files for non-ASCII characters ... OK
* checking R files for syntax errors ... OK
* checking whether the package can be loaded ... OK
* checking whether the package can be loaded with stated dependencies ... OK
* checking whether the package can be unloaded cleanly ... OK
* checking whether the namespace can be loaded with stated dependencies ... OK
* checking whether the namespace can be unloaded cleanly ... OK
* checking whether startup messages can be suppressed ... OK
* checking dependencies in R code ... OK
* checking S3 generic/method consistency ... OK
* checking replacement functions ... OK
* checking foreign function calls ... OK
* checking R code for possible problems ... OK
* checking Rd files ... NOTE
checkRd: (-1) annotation_table.Rd:25: Lost braces
    25 |                  \url{https://cellecta.com/}{cellecta}}
       |                                             ^
* checking Rd metadata ... OK
* checking Rd cross-references ... OK
* checking for missing documentation entries ... OK
* checking for code/documentation mismatches ... OK
* checking Rd \usage sections ... NOTE
Documented arguments not in \usage in Rd file 'compute_camera.Rd':
  ‘...’

Documented arguments not in \usage in Rd file 'select_number_barcode.Rd':
  ‘...’

Documented arguments not in \usage in Rd file 'unique_gene_symbols.Rd':
  ‘...’

Functions with \usage entries need to have the appropriate \alias
entries, and all their arguments documented.
The \usage entries must correspond to syntactically valid R code.
See chapter ‘Writing R documentation files’ in the ‘Writing R
Extensions’ manual.
* checking Rd contents ... OK
* checking for unstated dependencies in examples ... OK
* checking contents of ‘data’ directory ... OK
* checking data for non-ASCII characters ... OK
* checking data for ASCII and uncompressed saves ... OK
* checking R/sysdata.rda ... OK
* checking files in ‘vignettes’ ... OK
* checking examples ... OK
Examples with CPU (user + system) or elapsed time > 5s
                           user system elapsed
plot_zscore_distribution 42.692  4.512  47.489
plot_barcode_trend       42.893  3.335  46.608
compute_metrics          24.634  1.135  25.997
find_robust_zscore_hit   20.275  1.947  22.358
find_zscore_hit          18.897  1.561  21.112
* checking for unstated dependencies in ‘tests’ ... OK
* checking tests ...
  Running ‘testthat.R’
 OK
* checking for unstated dependencies in vignettes ... OK
* checking package vignettes ... OK
* checking running R code from vignettes ... SKIPPED
* checking re-building of vignette outputs ... SKIPPED
* checking PDF version of manual ... OK
* DONE

Status: 2 NOTEs
See
  ‘/Users/biocbuild/bbs-3.20-bioc/meat/ScreenR.Rcheck/00check.log’
for details.


Installation output

ScreenR.Rcheck/00install.out

##############################################################################
##############################################################################
###
### Running command:
###
###   /Library/Frameworks/R.framework/Resources/bin/R CMD INSTALL ScreenR
###
##############################################################################
##############################################################################


* installing to library ‘/Library/Frameworks/R.framework/Versions/4.4-arm64/Resources/library’
* installing *source* package ‘ScreenR’ ...
** using staged installation
** R
** data
** inst
** byte-compile and prepare package for lazy loading
** help
*** installing help indices
*** copying figures
** building package indices
** installing vignettes
** testing if installed package can be loaded from temporary location
** testing if installed package can be loaded from final location
** testing if installed package keeps a record of temporary installation path
* DONE (ScreenR)

Tests output

ScreenR.Rcheck/tests/testthat.Rout


R version 4.4.2 (2024-10-31) -- "Pile of Leaves"
Copyright (C) 2024 The R Foundation for Statistical Computing
Platform: aarch64-apple-darwin20

R is free software and comes with ABSOLUTELY NO WARRANTY.
You are welcome to redistribute it under certain conditions.
Type 'license()' or 'licence()' for distribution details.

R is a collaborative project with many contributors.
Type 'contributors()' for more information and
'citation()' on how to cite R or R packages in publications.

Type 'demo()' for some demos, 'help()' for on-line help, or
'help.start()' for an HTML browser interface to help.
Type 'q()' to quit R.

> library(testthat)
> library(ScreenR)

Welcome to ScreenR
--------------------------

See ?ScreenR for a list of
available functions.

Enjoy!

> 
> test_check("ScreenR")
ScreenR count table containing:
 5320 rows
 15 columns
ScreenR annotation table containing:
 5320 rows
 5 columns
ScreenR normalized count table containing:
 5320 rows
 15 columns
ScreenR normalized data table containing:
 74480 rows
 9 columns
ScreenR annotation table containing:
 5320 rows
 5 columns
ScreenR annotation table containing:
 5320 rows
 5 columns
ScreenR count table containing:
 5320 rows
 15 columns
ScreenR count table containing:
 5320 rows
 15 columns
ScreenR normalized count table containing:
 5320 rows
 15 columns
ScreenR normalized count table containing:
 5320 rows
 15 columns
ScreenR normalized data table containing:
 74480 rows
 9 columns
ScreenR normalized data table containing:
 74480 rows
 9 columns
Using classic mode.
[ FAIL 0 | WARN 253 | SKIP 0 | PASS 64 ]

[ FAIL 0 | WARN 253 | SKIP 0 | PASS 64 ]
> 
> proc.time()
   user  system elapsed 
 28.383   1.000  29.606 

Example timings

ScreenR.Rcheck/ScreenR-Ex.timings

nameusersystemelapsed
barcode_lost0.2120.0280.251
compute_data_table0.2840.0070.304
compute_explained_variance0.0270.0020.029
compute_metrics24.634 1.13525.997
compute_slope0.0440.0010.045
count_mapped_reads0.0630.0160.079
create_edger_obj0.0260.0010.027
create_screenr_object0.0380.0010.039
filter_by_slope0.1150.0070.123
filter_by_variance1.3670.0181.392
find_camera_hit1.4910.0341.533
find_common_hit0.0290.0000.030
find_roast_hit2.0210.0472.104
find_robust_zscore_hit20.275 1.94722.358
find_zscore_hit18.897 1.56121.112
get_annotation_table0.0070.0010.009
get_count_table0.0410.0020.056
get_data_table0.0130.0000.014
get_groups000
get_normalized_count_table0.0210.0000.028
get_replicates000
mapped_reads0.0900.0090.101
normalize_data0.0260.0000.028
plot_barcode_hit1.3520.0261.434
plot_barcode_lost0.4240.0190.445
plot_barcode_lost_for_gene1.4150.0101.428
plot_barcode_trend42.893 3.33546.608
plot_boxplot0.3170.0080.326
plot_common_hit0.2520.0060.261
plot_explained_variance0.3640.0050.372
plot_mapped_reads0.1830.0150.200
plot_mapped_reads_distribution1.2590.0631.366
plot_mds0.3010.0030.311
plot_trend2.0240.9022.968
plot_zscore_distribution42.692 4.51247.489
remove_all_zero_row0.0140.0000.016
set_annotation_table0.1100.0020.112
set_count_table0.1250.0120.138
set_data_table0.1060.0010.108
set_groups0.1040.0010.109
set_normalized_count_table0.1480.0020.152
set_replicates0.1080.0010.110