Back to Multiple platform build/check report for BioC 3.21:   simplified   long
ABCDEFGHIJKLMNOPQR[S]TUVWXYZ

This page was generated on 2025-10-06 11:42 -0400 (Mon, 06 Oct 2025).

HostnameOSArch (*)R versionInstalled pkgs
nebbiolo1Linux (Ubuntu 24.04.3 LTS)x86_644.5.1 (2025-06-13) -- "Great Square Root" 4832
merida1macOS 12.7.5 Montereyx86_644.5.1 RC (2025-06-05 r88288) -- "Great Square Root" 4613
kjohnson1macOS 13.6.6 Venturaarm644.5.1 Patched (2025-06-14 r88325) -- "Great Square Root" 4554
kunpeng2Linux (openEuler 24.03 LTS)aarch64R Under development (unstable) (2025-02-19 r87757) -- "Unsuffered Consequences" 4585
Click on any hostname to see more info about the system (e.g. compilers)      (*) as reported by 'uname -p', except on Windows and Mac OS X

Package 1924/2341HostnameOS / ArchINSTALLBUILDCHECKBUILD BIN
Sconify 1.28.0  (landing page)
Tyler J Burns
Snapshot Date: 2025-10-02 13:40 -0400 (Thu, 02 Oct 2025)
git_url: https://git.bioconductor.org/packages/Sconify
git_branch: RELEASE_3_21
git_last_commit: 77b3a46
git_last_commit_date: 2025-04-15 11:19:48 -0400 (Tue, 15 Apr 2025)
nebbiolo1Linux (Ubuntu 24.04.3 LTS) / x86_64  OK    OK    ERROR  
merida1macOS 12.7.5 Monterey / x86_64  OK    OK    ERROR    OK  
kjohnson1macOS 13.6.6 Ventura / arm64  OK    OK    ERROR    OK  
kunpeng2Linux (openEuler 24.03 LTS) / aarch64  OK    OK    OK  


CHECK results for Sconify on kunpeng2

To the developers/maintainers of the Sconify package:
- Allow up to 24 hours (and sometimes 48 hours) for your latest push to git@git.bioconductor.org:packages/Sconify.git to reflect on this report. See Troubleshooting Build Report for more information.
- Use the following Renviron settings to reproduce errors and warnings.
- If 'R CMD check' started to fail recently on the Linux builder(s) over a missing dependency, add the missing dependency to 'Suggests:' in your DESCRIPTION file. See Renviron.bioc for more information.
- See Martin Grigorov's blog post for how to debug Linux ARM64 related issues on a x86_64 host.

raw results


Summary

Package: Sconify
Version: 1.28.0
Command: /home/biocbuild/R/R/bin/R CMD check --install=check:Sconify.install-out.txt --library=/home/biocbuild/R/R/site-library --no-vignettes --timings Sconify_1.28.0.tar.gz
StartedAt: 2025-10-03 14:05:10 -0000 (Fri, 03 Oct 2025)
EndedAt: 2025-10-03 14:07:45 -0000 (Fri, 03 Oct 2025)
EllapsedTime: 155.2 seconds
RetCode: 0
Status:   OK  
CheckDir: Sconify.Rcheck
Warnings: 0

Command output

##############################################################################
##############################################################################
###
### Running command:
###
###   /home/biocbuild/R/R/bin/R CMD check --install=check:Sconify.install-out.txt --library=/home/biocbuild/R/R/site-library --no-vignettes --timings Sconify_1.28.0.tar.gz
###
##############################################################################
##############################################################################


* using log directory ‘/home/biocbuild/bbs-3.21-bioc/meat/Sconify.Rcheck’
* using R Under development (unstable) (2025-02-19 r87757)
* using platform: aarch64-unknown-linux-gnu
* R was compiled by
    aarch64-unknown-linux-gnu-gcc (GCC) 14.2.0
    GNU Fortran (GCC) 14.2.0
* running under: openEuler 24.03 (LTS-SP1)
* using session charset: UTF-8
* using option ‘--no-vignettes’
* checking for file ‘Sconify/DESCRIPTION’ ... OK
* checking extension type ... Package
* this is package ‘Sconify’ version ‘1.28.0’
* package encoding: UTF-8
* checking package namespace information ... OK
* checking package dependencies ... OK
* checking if this is a source package ... OK
* checking if there is a namespace ... OK
* checking for hidden files and directories ... OK
* checking for portable file names ... OK
* checking for sufficient/correct file permissions ... OK
* checking whether package ‘Sconify’ can be installed ... OK
* checking installed package size ... OK
* checking package directory ... OK
* checking ‘build’ directory ... OK
* checking DESCRIPTION meta-information ... OK
* checking top-level files ... OK
* checking for left-over files ... OK
* checking index information ... OK
* checking package subdirectories ... OK
* checking code files for non-ASCII characters ... OK
* checking R files for syntax errors ... OK
* checking whether the package can be loaded ... OK
* checking whether the package can be loaded with stated dependencies ... OK
* checking whether the package can be unloaded cleanly ... OK
* checking whether the namespace can be loaded with stated dependencies ... OK
* checking whether the namespace can be unloaded cleanly ... OK
* checking loading without being on the library search path ... OK
* checking dependencies in R code ... OK
* checking S3 generic/method consistency ... OK
* checking replacement functions ... OK
* checking foreign function calls ... OK
* checking R code for possible problems ... OK
* checking Rd files ... OK
* checking Rd metadata ... OK
* checking Rd cross-references ... OK
* checking for missing documentation entries ... OK
* checking for code/documentation mismatches ... OK
* checking Rd \usage sections ... OK
* checking Rd contents ... OK
* checking for unstated dependencies in examples ... OK
* checking contents of ‘data’ directory ... OK
* checking data for non-ASCII characters ... OK
* checking LazyData ... OK
* checking data for ASCII and uncompressed saves ... OK
* checking files in ‘vignettes’ ... OK
* checking examples ... OK
Examples with CPU (user + system) or elapsed time > 5s
                user system elapsed
SconeValues   17.442  0.147  18.968
ImputeTesting  4.946  0.055   5.629
* checking for unstated dependencies in ‘tests’ ... OK
* checking tests ...
  Running ‘testthat.R’
 OK
* checking for unstated dependencies in vignettes ... OK
* checking package vignettes ... OK
* checking running R code from vignettes ... SKIPPED
* checking re-building of vignette outputs ... SKIPPED
* checking PDF version of manual ... OK
* DONE

Status: OK


Installation output

Sconify.Rcheck/00install.out

##############################################################################
##############################################################################
###
### Running command:
###
###   /home/biocbuild/R/R/bin/R CMD INSTALL Sconify
###
##############################################################################
##############################################################################


* installing to library ‘/home/biocbuild/R/R-devel_2025-02-19/site-library’
* installing *source* package ‘Sconify’ ...
** this is package ‘Sconify’ version ‘1.28.0’
** using staged installation
** R
** data
*** moving datasets to lazyload DB
** inst
** byte-compile and prepare package for lazy loading
Note: wrong number of arguments to '/' 
Note: wrong number of arguments to 'asinh' 
** help
*** installing help indices
** building package indices
** installing vignettes
** testing if installed package can be loaded from temporary location
** testing if installed package can be loaded from final location
** testing if installed package keeps a record of temporary installation path
* DONE (Sconify)

Tests output

Sconify.Rcheck/tests/testthat.Rout


R Under development (unstable) (2025-02-19 r87757) -- "Unsuffered Consequences"
Copyright (C) 2025 The R Foundation for Statistical Computing
Platform: aarch64-unknown-linux-gnu

R is free software and comes with ABSOLUTELY NO WARRANTY.
You are welcome to redistribute it under certain conditions.
Type 'license()' or 'licence()' for distribution details.

R is a collaborative project with many contributors.
Type 'contributors()' for more information and
'citation()' on how to cite R or R packages in publications.

Type 'demo()' for some demos, 'help()' for on-line help, or
'help.start()' for an HTML browser interface to help.
Type 'q()' to quit R.

> library(testthat)
> library(Sconify)
> 
> test_check("Sconify")
Read the 100 x 27 data matrix successfully!
OpenMP is working. 1 threads.
Using no_dims = 2, perplexity = 30.000000, and theta = 0.500000
Computing input similarities...
Building tree...
Done in 0.01 seconds (sparsity = 0.966000)!
Learning embedding...
Iteration 50: error is 51.498779 (50 iterations in 0.01 seconds)
Iteration 100: error is 52.670813 (50 iterations in 0.01 seconds)
Iteration 150: error is 50.655677 (50 iterations in 0.02 seconds)
Iteration 200: error is 53.330330 (50 iterations in 0.02 seconds)
Iteration 250: error is 53.706197 (50 iterations in 0.02 seconds)
Iteration 300: error is 1.243829 (50 iterations in 0.01 seconds)
Iteration 350: error is 0.597065 (50 iterations in 0.01 seconds)
Iteration 400: error is 0.185030 (50 iterations in 0.01 seconds)
Iteration 450: error is 0.162809 (50 iterations in 0.01 seconds)
Iteration 500: error is 0.166786 (50 iterations in 0.01 seconds)
Iteration 550: error is 0.166141 (50 iterations in 0.01 seconds)
Iteration 600: error is 0.166523 (50 iterations in 0.01 seconds)
Iteration 650: error is 0.166254 (50 iterations in 0.01 seconds)
Iteration 700: error is 0.166114 (50 iterations in 0.01 seconds)
Iteration 750: error is 0.166139 (50 iterations in 0.01 seconds)
Iteration 800: error is 0.166394 (50 iterations in 0.01 seconds)
Iteration 850: error is 0.166050 (50 iterations in 0.01 seconds)
Iteration 900: error is 0.165801 (50 iterations in 0.01 seconds)
Iteration 950: error is 0.165926 (50 iterations in 0.01 seconds)
Iteration 1000: error is 0.166736 (50 iterations in 0.01 seconds)
Fitting performed in 0.24 seconds.
Read the 1000 x 27 data matrix successfully!
OpenMP is working. 1 threads.
Using no_dims = 2, perplexity = 30.000000, and theta = 0.500000
Computing input similarities...
Building tree...
Done in 0.15 seconds (sparsity = 0.129120)!
Learning embedding...
Iteration 50: error is 65.506727 (50 iterations in 0.44 seconds)
Iteration 100: error is 60.782560 (50 iterations in 0.33 seconds)
Iteration 150: error is 60.371590 (50 iterations in 0.33 seconds)
Iteration 200: error is 60.234611 (50 iterations in 0.36 seconds)
Iteration 250: error is 60.168494 (50 iterations in 0.38 seconds)
Iteration 300: error is 1.345390 (50 iterations in 0.31 seconds)
Iteration 350: error is 1.232321 (50 iterations in 0.28 seconds)
Iteration 400: error is 1.200199 (50 iterations in 0.29 seconds)
Iteration 450: error is 1.186286 (50 iterations in 0.28 seconds)
Iteration 500: error is 1.178614 (50 iterations in 0.28 seconds)
Iteration 550: error is 1.173083 (50 iterations in 0.27 seconds)
Iteration 600: error is 1.168727 (50 iterations in 0.26 seconds)
Iteration 650: error is 1.166189 (50 iterations in 0.27 seconds)
Iteration 700: error is 1.164116 (50 iterations in 0.25 seconds)
Iteration 750: error is 1.161598 (50 iterations in 0.23 seconds)
Iteration 800: error is 1.158742 (50 iterations in 0.22 seconds)
Iteration 850: error is 1.155841 (50 iterations in 0.22 seconds)
Iteration 900: error is 1.153830 (50 iterations in 0.22 seconds)
Iteration 950: error is 1.152757 (50 iterations in 0.22 seconds)
Iteration 1000: error is 1.151784 (50 iterations in 0.22 seconds)
Fitting performed in 5.66 seconds.
[ FAIL 0 | WARN 4 | SKIP 0 | PASS 72 ]

[ FAIL 0 | WARN 4 | SKIP 0 | PASS 72 ]
> 
> proc.time()
   user  system elapsed 
 30.667   0.394  33.395 

Example timings

Sconify.Rcheck/Sconify-Ex.timings

nameusersystemelapsed
FcsToTibble0.1660.0000.287
Fnn0.2670.1640.431
GetKnnDe0.1040.0040.109
GetMarkerNames0.0330.0000.033
ImputeTesting4.9460.0555.629
MakeHist0.4270.0040.432
MakeKnnList0.5140.0080.838
MeaningOfLife000
ParseMarkers0.3200.0040.466
PostProcessing0.1140.0000.226
ProcessMultipleFiles0.1620.0040.294
QuantNormalizeElements0.3030.0040.307
SconeValues17.442 0.14718.968
SplitFile0.0970.0040.101
StringToNumbers000
SubsampleAndTsne2.4690.0082.638
TsneVis0.2250.0000.226