Back to Multiple platform build/check report for BioC 3.20:   simplified   long
ABCDEFGHIJKLMNOPQR[S]TUVWXYZ

This page was generated on 2024-11-09 21:31 -0500 (Sat, 09 Nov 2024).

HostnameOSArch (*)R versionInstalled pkgs
teran2Linux (Ubuntu 24.04.1 LTS)x86_644.4.1 (2024-06-14) -- "Race for Your Life" 4505
palomino8Windows Server 2022 Datacenterx644.4.1 (2024-06-14 ucrt) -- "Race for Your Life" 4506
lconwaymacOS 12.7.1 Montereyx86_644.4.1 (2024-06-14) -- "Race for Your Life" 4538
kjohnson3macOS 13.6.5 Venturaarm644.4.1 (2024-06-14) -- "Race for Your Life" 4486
kunpeng2Linux (openEuler 22.03 LTS-SP1)aarch644.4.1 (2024-06-14) -- "Race for Your Life" 4493
Click on any hostname to see more info about the system (e.g. compilers)      (*) as reported by 'uname -p', except on Windows and Mac OS X

Package 1890/2289HostnameOS / ArchINSTALLBUILDCHECKBUILD BIN
Sconify 1.26.0  (landing page)
Tyler J Burns
Snapshot Date: 2024-11-08 13:40 -0500 (Fri, 08 Nov 2024)
git_url: https://git.bioconductor.org/packages/Sconify
git_branch: RELEASE_3_20
git_last_commit: 83670d8
git_last_commit_date: 2024-10-29 10:26:42 -0500 (Tue, 29 Oct 2024)
teran2Linux (Ubuntu 24.04.1 LTS) / x86_64  OK    OK    OK  UNNEEDED, same version is already published
palomino8Windows Server 2022 Datacenter / x64  OK    OK    OK    OK  UNNEEDED, same version is already published
lconwaymacOS 12.7.1 Monterey / x86_64  OK    OK    OK    OK  UNNEEDED, same version is already published
kjohnson3macOS 13.6.5 Ventura / arm64  OK    OK    OK    OK  YES
kunpeng2Linux (openEuler 22.03 LTS-SP1) / aarch64  OK    OK    OK  


CHECK results for Sconify on kjohnson3

To the developers/maintainers of the Sconify package:
- Allow up to 24 hours (and sometimes 48 hours) for your latest push to git@git.bioconductor.org:packages/Sconify.git to reflect on this report. See Troubleshooting Build Report for more information.
- Use the following Renviron settings to reproduce errors and warnings.
- If 'R CMD check' started to fail recently on the Linux builder(s) over a missing dependency, add the missing dependency to 'Suggests:' in your DESCRIPTION file. See Renviron.bioc for more information.

raw results


Summary

Package: Sconify
Version: 1.26.0
Command: /Library/Frameworks/R.framework/Resources/bin/R CMD check --install=check:Sconify.install-out.txt --library=/Library/Frameworks/R.framework/Resources/library --no-vignettes --timings Sconify_1.26.0.tar.gz
StartedAt: 2024-11-09 12:46:48 -0500 (Sat, 09 Nov 2024)
EndedAt: 2024-11-09 12:51:08 -0500 (Sat, 09 Nov 2024)
EllapsedTime: 259.5 seconds
RetCode: 0
Status:   OK  
CheckDir: Sconify.Rcheck
Warnings: 0

Command output

##############################################################################
##############################################################################
###
### Running command:
###
###   /Library/Frameworks/R.framework/Resources/bin/R CMD check --install=check:Sconify.install-out.txt --library=/Library/Frameworks/R.framework/Resources/library --no-vignettes --timings Sconify_1.26.0.tar.gz
###
##############################################################################
##############################################################################


* using log directory ‘/Users/biocbuild/bbs-3.20-bioc/meat/Sconify.Rcheck’
* using R version 4.4.1 (2024-06-14)
* using platform: aarch64-apple-darwin20
* R was compiled by
    Apple clang version 14.0.0 (clang-1400.0.29.202)
    GNU Fortran (GCC) 12.2.0
* running under: macOS Ventura 13.6.7
* using session charset: UTF-8
* using option ‘--no-vignettes’
* checking for file ‘Sconify/DESCRIPTION’ ... OK
* checking extension type ... Package
* this is package ‘Sconify’ version ‘1.26.0’
* package encoding: UTF-8
* checking package namespace information ... OK
* checking package dependencies ...Warning: unable to access index for repository https://CRAN.R-project.org/src/contrib:
  cannot open URL 'https://CRAN.R-project.org/src/contrib/PACKAGES'
 OK
* checking if this is a source package ... OK
* checking if there is a namespace ... OK
* checking for hidden files and directories ... OK
* checking for portable file names ... OK
* checking for sufficient/correct file permissions ... OK
* checking whether package ‘Sconify’ can be installed ... OK
* checking installed package size ... OK
* checking package directory ... OK
* checking ‘build’ directory ... OK
* checking DESCRIPTION meta-information ... OK
* checking top-level files ... OK
* checking for left-over files ... OK
* checking index information ... OK
* checking package subdirectories ... OK
* checking code files for non-ASCII characters ... OK
* checking R files for syntax errors ... OK
* checking whether the package can be loaded ... OK
* checking whether the package can be loaded with stated dependencies ... OK
* checking whether the package can be unloaded cleanly ... OK
* checking whether the namespace can be loaded with stated dependencies ... OK
* checking whether the namespace can be unloaded cleanly ... OK
* checking dependencies in R code ... OK
* checking S3 generic/method consistency ... OK
* checking replacement functions ... OK
* checking foreign function calls ... OK
* checking R code for possible problems ... OK
* checking Rd files ... OK
* checking Rd metadata ... OK
* checking Rd cross-references ... OK
* checking for missing documentation entries ... OK
* checking for code/documentation mismatches ... OK
* checking Rd \usage sections ... OK
* checking Rd contents ... OK
* checking for unstated dependencies in examples ... OK
* checking contents of ‘data’ directory ... OK
* checking data for non-ASCII characters ... OK
* checking LazyData ... OK
* checking data for ASCII and uncompressed saves ... OK
* checking files in ‘vignettes’ ... OK
* checking examples ... OK
* checking for unstated dependencies in ‘tests’ ... OK
* checking tests ...
  Running ‘testthat.R’
 OK
* checking for unstated dependencies in vignettes ... OK
* checking package vignettes ... OK
* checking running R code from vignettes ... SKIPPED
* checking re-building of vignette outputs ... SKIPPED
* checking PDF version of manual ... OK
* DONE

Status: OK


Installation output

Sconify.Rcheck/00install.out

##############################################################################
##############################################################################
###
### Running command:
###
###   /Library/Frameworks/R.framework/Resources/bin/R CMD INSTALL Sconify
###
##############################################################################
##############################################################################


* installing to library ‘/Library/Frameworks/R.framework/Versions/4.4-arm64/Resources/library’
* installing *source* package ‘Sconify’ ...
** using staged installation
** R
** data
*** moving datasets to lazyload DB
** inst
** byte-compile and prepare package for lazy loading
Note: wrong number of arguments to '/' 
Note: wrong number of arguments to 'asinh' 
** help
*** installing help indices
** building package indices
** installing vignettes
** testing if installed package can be loaded from temporary location
** testing if installed package can be loaded from final location
** testing if installed package keeps a record of temporary installation path
* DONE (Sconify)

Tests output

Sconify.Rcheck/tests/testthat.Rout


R version 4.4.1 (2024-06-14) -- "Race for Your Life"
Copyright (C) 2024 The R Foundation for Statistical Computing
Platform: aarch64-apple-darwin20

R is free software and comes with ABSOLUTELY NO WARRANTY.
You are welcome to redistribute it under certain conditions.
Type 'license()' or 'licence()' for distribution details.

R is a collaborative project with many contributors.
Type 'contributors()' for more information and
'citation()' on how to cite R or R packages in publications.

Type 'demo()' for some demos, 'help()' for on-line help, or
'help.start()' for an HTML browser interface to help.
Type 'q()' to quit R.

> library(testthat)
> library(Sconify)
> 
> test_check("Sconify")
Read the 100 x 27 data matrix successfully!
Using no_dims = 2, perplexity = 30.000000, and theta = 0.500000
Computing input similarities...
Building tree...
Done in 0.00 seconds (sparsity = 0.967200)!
Learning embedding...
Iteration 50: error is 54.171425 (50 iterations in 0.00 seconds)
Iteration 100: error is 52.965241 (50 iterations in 0.00 seconds)
Iteration 150: error is 54.321548 (50 iterations in 0.01 seconds)
Iteration 200: error is 55.010634 (50 iterations in 0.00 seconds)
Iteration 250: error is 53.324820 (50 iterations in 0.00 seconds)
Iteration 300: error is 1.596168 (50 iterations in 0.00 seconds)
Iteration 350: error is 1.210593 (50 iterations in 0.00 seconds)
Iteration 400: error is 0.811087 (50 iterations in 0.00 seconds)
Iteration 450: error is 0.530300 (50 iterations in 0.00 seconds)
Iteration 500: error is 0.293619 (50 iterations in 0.00 seconds)
Iteration 550: error is 0.275566 (50 iterations in 0.00 seconds)
Iteration 600: error is 0.270602 (50 iterations in 0.00 seconds)
Iteration 650: error is 0.270250 (50 iterations in 0.00 seconds)
Iteration 700: error is 0.268756 (50 iterations in 0.00 seconds)
Iteration 750: error is 0.266842 (50 iterations in 0.00 seconds)
Iteration 800: error is 0.251580 (50 iterations in 0.00 seconds)
Iteration 850: error is 0.251335 (50 iterations in 0.00 seconds)
Iteration 900: error is 0.253026 (50 iterations in 0.00 seconds)
Iteration 950: error is 0.252234 (50 iterations in 0.00 seconds)
Iteration 1000: error is 0.250541 (50 iterations in 0.00 seconds)
Fitting performed in 0.07 seconds.
Read the 1000 x 27 data matrix successfully!
Using no_dims = 2, perplexity = 30.000000, and theta = 0.500000
Computing input similarities...
Building tree...
Done in 0.05 seconds (sparsity = 0.129120)!
Learning embedding...
Iteration 50: error is 64.273053 (50 iterations in 0.11 seconds)
Iteration 100: error is 60.657654 (50 iterations in 0.07 seconds)
Iteration 150: error is 60.283866 (50 iterations in 0.07 seconds)
Iteration 200: error is 60.164630 (50 iterations in 0.07 seconds)
Iteration 250: error is 60.117372 (50 iterations in 0.07 seconds)
Iteration 300: error is 1.342294 (50 iterations in 0.06 seconds)
Iteration 350: error is 1.235782 (50 iterations in 0.05 seconds)
Iteration 400: error is 1.205896 (50 iterations in 0.05 seconds)
Iteration 450: error is 1.191438 (50 iterations in 0.06 seconds)
Iteration 500: error is 1.181766 (50 iterations in 0.05 seconds)
Iteration 550: error is 1.175396 (50 iterations in 0.05 seconds)
Iteration 600: error is 1.169803 (50 iterations in 0.05 seconds)
Iteration 650: error is 1.164202 (50 iterations in 0.05 seconds)
Iteration 700: error is 1.160659 (50 iterations in 0.05 seconds)
Iteration 750: error is 1.157587 (50 iterations in 0.05 seconds)
Iteration 800: error is 1.155320 (50 iterations in 0.05 seconds)
Iteration 850: error is 1.152984 (50 iterations in 0.05 seconds)
Iteration 900: error is 1.150106 (50 iterations in 0.05 seconds)
Iteration 950: error is 1.147993 (50 iterations in 0.05 seconds)
Iteration 1000: error is 1.147434 (50 iterations in 0.05 seconds)
Fitting performed in 1.20 seconds.
[ FAIL 0 | WARN 4 | SKIP 0 | PASS 72 ]

[ FAIL 0 | WARN 4 | SKIP 0 | PASS 72 ]
> 
> proc.time()
   user  system elapsed 
  6.011   0.250   6.259 

Example timings

Sconify.Rcheck/Sconify-Ex.timings

nameusersystemelapsed
FcsToTibble0.0330.0010.036
Fnn0.1090.2540.364
GetKnnDe0.0390.0020.041
GetMarkerNames0.0090.0010.010
ImputeTesting0.9770.0060.983
MakeHist0.0970.0030.100
MakeKnnList0.1080.0010.109
MeaningOfLife000
ParseMarkers0.0790.0080.089
PostProcessing0.0230.0000.024
ProcessMultipleFiles0.0320.0020.033
QuantNormalizeElements0.0770.0030.080
SconeValues3.5490.0753.624
SplitFile0.0220.0010.023
StringToNumbers000
SubsampleAndTsne0.6260.0680.697
TsneVis0.0510.0010.051