Back to Multiple platform build/check report for BioC 3.22:   simplified   long
ABCDEFGHIJKLMNOPQ[R]STUVWXYZ

This page was generated on 2025-11-07 12:00 -0500 (Fri, 07 Nov 2025).

HostnameOSArch (*)R versionInstalled pkgs
nebbiolo2Linux (Ubuntu 24.04.3 LTS)x86_644.5.1 Patched (2025-08-23 r88802) -- "Great Square Root" 4902
kjohnson3macOS 13.7.7 Venturaarm644.5.1 Patched (2025-09-10 r88807) -- "Great Square Root" 4638
Click on any hostname to see more info about the system (e.g. compilers)      (*) as reported by 'uname -p', except on Windows and Mac OS X

All results for package Rhtslib


To the developers/maintainers of the Rhtslib package:
- Allow up to 24 hours (and sometimes 48 hours) for your latest push to git@git.bioconductor.org:packages/Rhtslib.git to reflect on this report. See Troubleshooting Build Report for more information.
- Use the following Renviron settings to reproduce errors and warnings.
- If 'R CMD check' started to fail recently on the Linux builder(s) over a missing dependency, add the missing dependency to 'Suggests:' in your DESCRIPTION file. See Renviron.bioc for more information.

raw results

Package 1794/2361HostnameOS / ArchINSTALLBUILDCHECKBUILD BIN
Rhtslib 3.6.0  (landing page)
Hervé Pagès
Snapshot Date: 2025-11-06 13:45 -0500 (Thu, 06 Nov 2025)
git_url: https://git.bioconductor.org/packages/Rhtslib
git_branch: RELEASE_3_22
git_last_commit: c4b7268
git_last_commit_date: 2025-10-29 12:34:07 -0500 (Wed, 29 Oct 2025)
nebbiolo2Linux (Ubuntu 24.04.3 LTS) / x86_64  OK    OK    OK  UNNEEDED, same version is already published
kjohnson3macOS 13.7.7 Ventura / arm64  OK    OK    OK    OK  UNNEEDED, same version is already published



Results for Bioconductor software packages that depend directly on package Rhtslib

QUICK STATSOS / ArchINSTALLBUILDCHECKBUILD BIN
nebbiolo2Linux (Ubuntu 24.04.3 LTS) / x86_64
0121
0220
00812
kjohnson3macOS 13.7.7 Ventura / arm64
0121
0121
00813
0021
Package 1/22HostnameOS / ArchINSTALLBUILDCHECKBUILD BIN
bamsignals 1.42.0  (landing page)
Johannes Helmuth
git_last_commit: 47952a1
git_last_commit_date: 2025-10-29 10:24:39 -0500
nebbiolo2Linux (Ubuntu 24.04.3 LTS) / x86_64  OK    OK    OK  UNNEEDED, same version is already published
kjohnson3macOS 13.7.7 Ventura / arm64  OK    OK    OK    OK  UNNEEDED, same version is already published
Package 2/22HostnameOS / ArchINSTALLBUILDCHECKBUILD BIN
csaw 1.44.0  (landing page)
Aaron Lun
git_last_commit: 592497a
git_last_commit_date: 2025-10-29 10:22:21 -0500
nebbiolo2Linux (Ubuntu 24.04.3 LTS) / x86_64  OK    OK    OK  UNNEEDED, same version is already published
kjohnson3macOS 13.7.7 Ventura / arm64  OK    OK    WARNINGS    OK  UNNEEDED, same version is already published
Package 3/22HostnameOS / ArchINSTALLBUILDCHECKBUILD BIN
deepSNV 1.56.0  (landing page)
Moritz Gerstung
git_last_commit: 50518b9
git_last_commit_date: 2025-10-29 10:10:14 -0500
nebbiolo2Linux (Ubuntu 24.04.3 LTS) / x86_64  OK    OK    OK  UNNEEDED, same version is already published
kjohnson3macOS 13.7.7 Ventura / arm64  OK    OK    OK    OK  UNNEEDED, same version is already published
Package 4/22HostnameOS / ArchINSTALLBUILDCHECKBUILD BIN
DiffBind 3.20.0  (landing page)
Rory Stark
git_last_commit: fc696a0
git_last_commit_date: 2025-10-29 10:08:58 -0500
nebbiolo2Linux (Ubuntu 24.04.3 LTS) / x86_64  OK    OK    OK  UNNEEDED, same version is already published
kjohnson3macOS 13.7.7 Ventura / arm64  OK    OK    OK    OK  UNNEEDED, same version is already published
Package 5/22HostnameOS / ArchINSTALLBUILDCHECKBUILD BIN
diffHic 1.42.0  (landing page)
Aaron Lun , Gordon Smyth , Hannah Coughlin
git_last_commit: d1e2c99
git_last_commit_date: 2025-10-29 10:25:47 -0500
nebbiolo2Linux (Ubuntu 24.04.3 LTS) / x86_64  OK    OK    OK  UNNEEDED, same version is already published
kjohnson3macOS 13.7.7 Ventura / arm64  OK    OK    OK    OK  UNNEEDED, same version is already published
Package 6/22HostnameOS / ArchINSTALLBUILDCHECKBUILD BIN
epialleleR 1.18.0  (landing page)
Oleksii Nikolaienko
git_last_commit: e4e0b6f
git_last_commit_date: 2025-10-29 11:09:21 -0500
nebbiolo2Linux (Ubuntu 24.04.3 LTS) / x86_64  OK    OK    OK  UNNEEDED, same version is already published
kjohnson3macOS 13.7.7 Ventura / arm64  OK    OK    OK    OK  UNNEEDED, same version is already published
Package 7/22HostnameOS / ArchINSTALLBUILDCHECKBUILD BIN
FLAMES 2.4.1  (landing page)
Changqing Wang
git_last_commit: 41bbd55
git_last_commit_date: 2025-10-31 01:50:56 -0500
nebbiolo2Linux (Ubuntu 24.04.3 LTS) / x86_64  OK    OK    OK  UNNEEDED, same version is already published
kjohnson3macOS 13.7.7 Ventura / arm64  OK    OK    OK    OK  UNNEEDED, same version is already published
Package 8/22HostnameOS / ArchINSTALLBUILDCHECKBUILD BIN
h5vc 2.44.0  (landing page)
Paul Theodor Pyl
git_last_commit: 159497f
git_last_commit_date: 2025-10-29 10:17:13 -0500
nebbiolo2Linux (Ubuntu 24.04.3 LTS) / x86_64  OK    OK    WARNINGS  UNNEEDED, same version is already published
kjohnson3macOS 13.7.7 Ventura / arm64  OK    OK    WARNINGS    OK  UNNEEDED, same version is already published
Package 9/22HostnameOS / ArchINSTALLBUILDCHECKBUILD BIN
iscream 1.0.0  (landing page)
James Eapen
git_last_commit: faf115f
git_last_commit_date: 2025-10-29 11:39:09 -0500
nebbiolo2Linux (Ubuntu 24.04.3 LTS) / x86_64  OK    OK    OK  UNNEEDED, same version is already published
kjohnson3macOS 13.7.7 Ventura / arm64  OK    OK    OK    OK  UNNEEDED, same version is already published
Package 10/22HostnameOS / ArchINSTALLBUILDCHECKBUILD BIN
maftools 2.26.0  (landing page)
Anand Mayakonda
git_last_commit: 9e83363
git_last_commit_date: 2025-10-29 10:33:17 -0500
nebbiolo2Linux (Ubuntu 24.04.3 LTS) / x86_64  OK    OK    WARNINGS  UNNEEDED, same version is already published
kjohnson3macOS 13.7.7 Ventura / arm64  OK    OK    OK    OK  UNNEEDED, same version is already published
Package 11/22HostnameOS / ArchINSTALLBUILDCHECKBUILD BIN
methylKit 1.36.0  (landing page)
Altuna Akalin , Alexander Blume
git_last_commit: c65437a
git_last_commit_date: 2025-10-29 10:33:14 -0500
nebbiolo2Linux (Ubuntu 24.04.3 LTS) / x86_64  OK    OK    OK  UNNEEDED, same version is already published
kjohnson3macOS 13.7.7 Ventura / arm64  OK    OK    OK    OK  UNNEEDED, same version is already published
Package 12/22HostnameOS / ArchINSTALLBUILDCHECKBUILD BIN
mitoClone2 1.16.0  (landing page)
Benjamin Story
git_last_commit: 43b5799
git_last_commit_date: 2025-10-29 11:11:00 -0500
nebbiolo2Linux (Ubuntu 24.04.3 LTS) / x86_64  OK    OK    WARNINGS  UNNEEDED, same version is already published
kjohnson3macOS 13.7.7 Ventura / arm64  OK    OK    WARNINGS    OK  UNNEEDED, same version is already published
Package 13/22HostnameOS / ArchINSTALLBUILDCHECKBUILD BIN
podkat 1.42.0  (landing page)
Ulrich Bodenhofer
git_last_commit: a5e8201
git_last_commit_date: 2025-10-29 10:24:59 -0500
nebbiolo2Linux (Ubuntu 24.04.3 LTS) / x86_64  OK    OK    OK  UNNEEDED, same version is already published
kjohnson3macOS 13.7.7 Ventura / arm64  OK    OK    OK    OK  UNNEEDED, same version is already published
Package 14/22HostnameOS / ArchINSTALLBUILDCHECKBUILD BIN
QuasR 1.50.0  (landing page)
Michael Stadler
git_last_commit: 3274f2d
git_last_commit_date: 2025-10-29 10:13:16 -0500
nebbiolo2Linux (Ubuntu 24.04.3 LTS) / x86_64  OK    OK    WARNINGS  UNNEEDED, same version is already published
kjohnson3macOS 13.7.7 Ventura / arm64  OK    OK    WARNINGS    OK  UNNEEDED, same version is already published
Package 15/22HostnameOS / ArchINSTALLBUILDCHECKBUILD BIN
raer 1.8.0  (landing page)
Kent Riemondy
git_last_commit: 1e83c0c
git_last_commit_date: 2025-10-29 11:26:05 -0500
nebbiolo2Linux (Ubuntu 24.04.3 LTS) / x86_64  OK    OK    OK  UNNEEDED, same version is already published
kjohnson3macOS 13.7.7 Ventura / arm64  OK    OK    OK    OK  UNNEEDED, same version is already published
Package 16/22HostnameOS / ArchINSTALLBUILDCHECKBUILD BIN
Rfastp 1.20.0  (landing page)
Thomas Carroll
git_last_commit: 99a67b2
git_last_commit_date: 2025-10-29 11:01:44 -0500
nebbiolo2Linux (Ubuntu 24.04.3 LTS) / x86_64  ERROR    ERROR  skipped
kjohnson3macOS 13.7.7 Ventura / arm64  ERROR    ERROR  skippedskipped
Package 17/22HostnameOS / ArchINSTALLBUILDCHECKBUILD BIN
Rsamtools 2.26.0  (landing page)
Bioconductor Package Maintainer
git_last_commit: ea99fb0
git_last_commit_date: 2025-10-29 10:04:41 -0500
nebbiolo2Linux (Ubuntu 24.04.3 LTS) / x86_64  OK    OK    WARNINGS  UNNEEDED, same version is already published
kjohnson3macOS 13.7.7 Ventura / arm64  OK    OK    WARNINGS    OK  UNNEEDED, same version is already published
Package 18/22HostnameOS / ArchINSTALLBUILDCHECKBUILD BIN
scPipe 2.10.0  (landing page)
Shian Su
git_last_commit: c021029
git_last_commit_date: 2025-10-29 10:41:31 -0500
nebbiolo2Linux (Ubuntu 24.04.3 LTS) / x86_64  OK    OK    OK  UNNEEDED, same version is already published
kjohnson3macOS 13.7.7 Ventura / arm64  OK    OK    OK    OK  UNNEEDED, same version is already published
Package 19/22HostnameOS / ArchINSTALLBUILDCHECKBUILD BIN
ShortRead 1.68.0  (landing page)
Bioconductor Package Maintainer
git_last_commit: df90c87
git_last_commit_date: 2025-10-29 10:00:34 -0500
nebbiolo2Linux (Ubuntu 24.04.3 LTS) / x86_64  OK    OK    WARNINGS  UNNEEDED, same version is already published
kjohnson3macOS 13.7.7 Ventura / arm64  OK    OK    WARNINGS    OK  UNNEEDED, same version is already published
Package 20/22HostnameOS / ArchINSTALLBUILDCHECKBUILD BIN
stPipe 1.0.0  (landing page)
Yang Xu
git_last_commit: f234c12
git_last_commit_date: 2025-10-29 11:37:41 -0500
nebbiolo2Linux (Ubuntu 24.04.3 LTS) / x86_64  OK    OK    WARNINGS  UNNEEDED, same version is already published
kjohnson3macOS 13.7.7 Ventura / arm64  OK    OK    WARNINGS    OK  UNNEEDED, same version is already published
Package 21/22HostnameOS / ArchINSTALLBUILDCHECKBUILD BIN
TransView 1.54.0  (landing page)
Julius Muller
git_last_commit: 23c9dd4
git_last_commit_date: 2025-10-29 10:12:30 -0500
nebbiolo2Linux (Ubuntu 24.04.3 LTS) / x86_64  OK    ERROR  skipped
kjohnson3macOS 13.7.7 Ventura / arm64  OK    OK    OK    OK  UNNEEDED, same version is already published
Package 22/22HostnameOS / ArchINSTALLBUILDCHECKBUILD BIN
VariantAnnotation 1.56.0  (landing page)
Bioconductor Package Maintainer
git_last_commit: dc8ecd1
git_last_commit_date: 2025-10-29 10:08:24 -0500
nebbiolo2Linux (Ubuntu 24.04.3 LTS) / x86_64  OK    OK    WARNINGS  UNNEEDED, same version is already published
kjohnson3macOS 13.7.7 Ventura / arm64  OK    OK    WARNINGS    OK  UNNEEDED, same version is already published