| Back to Multiple platform build/check report for BioC 3.21: simplified long |
|
This page was generated on 2025-04-22 13:18 -0400 (Tue, 22 Apr 2025).
| Hostname | OS | Arch (*) | R version | Installed pkgs |
|---|---|---|---|---|
| nebbiolo1 | Linux (Ubuntu 24.04.1 LTS) | x86_64 | 4.5.0 RC (2025-04-04 r88126) -- "How About a Twenty-Six" | 4831 |
| palomino7 | Windows Server 2022 Datacenter | x64 | 4.5.0 RC (2025-04-04 r88126 ucrt) -- "How About a Twenty-Six" | 4573 |
| lconway | macOS 12.7.1 Monterey | x86_64 | 4.5.0 RC (2025-04-04 r88126) -- "How About a Twenty-Six" | 4599 |
| kjohnson3 | macOS 13.7.1 Ventura | arm64 | 4.5.0 RC (2025-04-04 r88126) -- "How About a Twenty-Six" | 4553 |
| kunpeng2 | Linux (openEuler 24.03 LTS) | aarch64 | R Under development (unstable) (2025-02-19 r87757) -- "Unsuffered Consequences" | 4570 |
| Click on any hostname to see more info about the system (e.g. compilers) (*) as reported by 'uname -p', except on Windows and Mac OS X | ||||
| Package 1836/2341 | Hostname | OS / Arch | INSTALL | BUILD | CHECK | BUILD BIN | ||||||||
| Rsamtools 2.24.0 (landing page) Bioconductor Package Maintainer
| nebbiolo1 | Linux (Ubuntu 24.04.1 LTS) / x86_64 | OK | OK | WARNINGS | |||||||||
| palomino7 | Windows Server 2022 Datacenter / x64 | OK | OK | WARNINGS | OK | |||||||||
| lconway | macOS 12.7.1 Monterey / x86_64 | OK | OK | WARNINGS | OK | |||||||||
| kjohnson3 | macOS 13.7.1 Ventura / arm64 | OK | OK | WARNINGS | OK | |||||||||
| kunpeng2 | Linux (openEuler 24.03 LTS) / aarch64 | OK | OK | WARNINGS | ||||||||||
|
To the developers/maintainers of the Rsamtools package: - Allow up to 24 hours (and sometimes 48 hours) for your latest push to git@git.bioconductor.org:packages/Rsamtools.git to reflect on this report. See Troubleshooting Build Report for more information. - Use the following Renviron settings to reproduce errors and warnings. - If 'R CMD check' started to fail recently on the Linux builder(s) over a missing dependency, add the missing dependency to 'Suggests:' in your DESCRIPTION file. See Renviron.bioc for more information. |
| Package: Rsamtools |
| Version: 2.24.0 |
| Command: /Library/Frameworks/R.framework/Resources/bin/R CMD INSTALL Rsamtools |
| StartedAt: 2025-04-21 15:10:26 -0400 (Mon, 21 Apr 2025) |
| EndedAt: 2025-04-21 15:10:42 -0400 (Mon, 21 Apr 2025) |
| EllapsedTime: 15.8 seconds |
| RetCode: 0 |
| Status: OK |
##############################################################################
##############################################################################
###
### Running command:
###
### /Library/Frameworks/R.framework/Resources/bin/R CMD INSTALL Rsamtools
###
##############################################################################
##############################################################################
* installing to library ‘/Library/Frameworks/R.framework/Versions/4.5-arm64/Resources/library’
* installing *source* package ‘Rsamtools’ ...
** this is package ‘Rsamtools’ version ‘2.24.0’
** using staged installation
** libs
using C compiler: ‘Apple clang version 15.0.0 (clang-1500.1.0.2.5)’
using C++ compiler: ‘Apple clang version 15.0.0 (clang-1500.1.0.2.5)’
using SDK: ‘MacOSX11.3.sdk’
clang -arch arm64 -I"/Library/Frameworks/R.framework/Resources/include" -DNDEBUG -D_FILE_OFFSET_BITS=64 -I'/Library/Frameworks/R.framework/Versions/4.5-arm64/Resources/library/Rhtslib/include' -I'/Library/Frameworks/R.framework/Versions/4.5-arm64/Resources/library/S4Vectors/include' -I'/Library/Frameworks/R.framework/Versions/4.5-arm64/Resources/library/IRanges/include' -I'/Library/Frameworks/R.framework/Versions/4.5-arm64/Resources/library/XVector/include' -I'/Library/Frameworks/R.framework/Versions/4.5-arm64/Resources/library/Biostrings/include' -I/opt/R/arm64/include -fPIC -falign-functions=64 -Wall -g -O2 -c Biostrings_stubs.c -o Biostrings_stubs.o
clang -arch arm64 -I"/Library/Frameworks/R.framework/Resources/include" -DNDEBUG -D_FILE_OFFSET_BITS=64 -I'/Library/Frameworks/R.framework/Versions/4.5-arm64/Resources/library/Rhtslib/include' -I'/Library/Frameworks/R.framework/Versions/4.5-arm64/Resources/library/S4Vectors/include' -I'/Library/Frameworks/R.framework/Versions/4.5-arm64/Resources/library/IRanges/include' -I'/Library/Frameworks/R.framework/Versions/4.5-arm64/Resources/library/XVector/include' -I'/Library/Frameworks/R.framework/Versions/4.5-arm64/Resources/library/Biostrings/include' -I/opt/R/arm64/include -fPIC -falign-functions=64 -Wall -g -O2 -c COMPAT_bcf_hdr_read.c -o COMPAT_bcf_hdr_read.o
clang -arch arm64 -I"/Library/Frameworks/R.framework/Resources/include" -DNDEBUG -D_FILE_OFFSET_BITS=64 -I'/Library/Frameworks/R.framework/Versions/4.5-arm64/Resources/library/Rhtslib/include' -I'/Library/Frameworks/R.framework/Versions/4.5-arm64/Resources/library/S4Vectors/include' -I'/Library/Frameworks/R.framework/Versions/4.5-arm64/Resources/library/IRanges/include' -I'/Library/Frameworks/R.framework/Versions/4.5-arm64/Resources/library/XVector/include' -I'/Library/Frameworks/R.framework/Versions/4.5-arm64/Resources/library/Biostrings/include' -I/opt/R/arm64/include -fPIC -falign-functions=64 -Wall -g -O2 -c IRanges_stubs.c -o IRanges_stubs.o
clang++ -arch arm64 -std=gnu++17 -I"/Library/Frameworks/R.framework/Resources/include" -DNDEBUG -D_FILE_OFFSET_BITS=64 -I'/Library/Frameworks/R.framework/Versions/4.5-arm64/Resources/library/Rhtslib/include' -I'/Library/Frameworks/R.framework/Versions/4.5-arm64/Resources/library/S4Vectors/include' -I'/Library/Frameworks/R.framework/Versions/4.5-arm64/Resources/library/IRanges/include' -I'/Library/Frameworks/R.framework/Versions/4.5-arm64/Resources/library/XVector/include' -I'/Library/Frameworks/R.framework/Versions/4.5-arm64/Resources/library/Biostrings/include' -I/opt/R/arm64/include -fPIC -falign-functions=64 -Wall -g -O2 -c PileupBuffer.cpp -o PileupBuffer.o
clang++ -arch arm64 -std=gnu++17 -I"/Library/Frameworks/R.framework/Resources/include" -DNDEBUG -D_FILE_OFFSET_BITS=64 -I'/Library/Frameworks/R.framework/Versions/4.5-arm64/Resources/library/Rhtslib/include' -I'/Library/Frameworks/R.framework/Versions/4.5-arm64/Resources/library/S4Vectors/include' -I'/Library/Frameworks/R.framework/Versions/4.5-arm64/Resources/library/IRanges/include' -I'/Library/Frameworks/R.framework/Versions/4.5-arm64/Resources/library/XVector/include' -I'/Library/Frameworks/R.framework/Versions/4.5-arm64/Resources/library/Biostrings/include' -I/opt/R/arm64/include -fPIC -falign-functions=64 -Wall -g -O2 -c PosCacheColl.cpp -o PosCacheColl.o
clang -arch arm64 -I"/Library/Frameworks/R.framework/Resources/include" -DNDEBUG -D_FILE_OFFSET_BITS=64 -I'/Library/Frameworks/R.framework/Versions/4.5-arm64/Resources/library/Rhtslib/include' -I'/Library/Frameworks/R.framework/Versions/4.5-arm64/Resources/library/S4Vectors/include' -I'/Library/Frameworks/R.framework/Versions/4.5-arm64/Resources/library/IRanges/include' -I'/Library/Frameworks/R.framework/Versions/4.5-arm64/Resources/library/XVector/include' -I'/Library/Frameworks/R.framework/Versions/4.5-arm64/Resources/library/Biostrings/include' -I/opt/R/arm64/include -fPIC -falign-functions=64 -Wall -g -O2 -c R_init_Rsamtools.c -o R_init_Rsamtools.o
clang++ -arch arm64 -std=gnu++17 -I"/Library/Frameworks/R.framework/Resources/include" -DNDEBUG -D_FILE_OFFSET_BITS=64 -I'/Library/Frameworks/R.framework/Versions/4.5-arm64/Resources/library/Rhtslib/include' -I'/Library/Frameworks/R.framework/Versions/4.5-arm64/Resources/library/S4Vectors/include' -I'/Library/Frameworks/R.framework/Versions/4.5-arm64/Resources/library/IRanges/include' -I'/Library/Frameworks/R.framework/Versions/4.5-arm64/Resources/library/XVector/include' -I'/Library/Frameworks/R.framework/Versions/4.5-arm64/Resources/library/Biostrings/include' -I/opt/R/arm64/include -fPIC -falign-functions=64 -Wall -g -O2 -c ResultManager.cpp -o ResultManager.o
ResultManager.cpp:282:13: warning: variable 'i' set but not used [-Wunused-but-set-variable]
int i = 0;
^
1 warning generated.
clang -arch arm64 -I"/Library/Frameworks/R.framework/Resources/include" -DNDEBUG -D_FILE_OFFSET_BITS=64 -I'/Library/Frameworks/R.framework/Versions/4.5-arm64/Resources/library/Rhtslib/include' -I'/Library/Frameworks/R.framework/Versions/4.5-arm64/Resources/library/S4Vectors/include' -I'/Library/Frameworks/R.framework/Versions/4.5-arm64/Resources/library/IRanges/include' -I'/Library/Frameworks/R.framework/Versions/4.5-arm64/Resources/library/XVector/include' -I'/Library/Frameworks/R.framework/Versions/4.5-arm64/Resources/library/Biostrings/include' -I/opt/R/arm64/include -fPIC -falign-functions=64 -Wall -g -O2 -c S4Vectors_stubs.c -o S4Vectors_stubs.o
clang -arch arm64 -I"/Library/Frameworks/R.framework/Resources/include" -DNDEBUG -D_FILE_OFFSET_BITS=64 -I'/Library/Frameworks/R.framework/Versions/4.5-arm64/Resources/library/Rhtslib/include' -I'/Library/Frameworks/R.framework/Versions/4.5-arm64/Resources/library/S4Vectors/include' -I'/Library/Frameworks/R.framework/Versions/4.5-arm64/Resources/library/IRanges/include' -I'/Library/Frameworks/R.framework/Versions/4.5-arm64/Resources/library/XVector/include' -I'/Library/Frameworks/R.framework/Versions/4.5-arm64/Resources/library/Biostrings/include' -I/opt/R/arm64/include -fPIC -falign-functions=64 -Wall -g -O2 -c XVector_stubs.c -o XVector_stubs.o
clang -arch arm64 -I"/Library/Frameworks/R.framework/Resources/include" -DNDEBUG -D_FILE_OFFSET_BITS=64 -I'/Library/Frameworks/R.framework/Versions/4.5-arm64/Resources/library/Rhtslib/include' -I'/Library/Frameworks/R.framework/Versions/4.5-arm64/Resources/library/S4Vectors/include' -I'/Library/Frameworks/R.framework/Versions/4.5-arm64/Resources/library/IRanges/include' -I'/Library/Frameworks/R.framework/Versions/4.5-arm64/Resources/library/XVector/include' -I'/Library/Frameworks/R.framework/Versions/4.5-arm64/Resources/library/Biostrings/include' -I/opt/R/arm64/include -fPIC -falign-functions=64 -Wall -g -O2 -c as_bam.c -o as_bam.o
clang -arch arm64 -I"/Library/Frameworks/R.framework/Resources/include" -DNDEBUG -D_FILE_OFFSET_BITS=64 -I'/Library/Frameworks/R.framework/Versions/4.5-arm64/Resources/library/Rhtslib/include' -I'/Library/Frameworks/R.framework/Versions/4.5-arm64/Resources/library/S4Vectors/include' -I'/Library/Frameworks/R.framework/Versions/4.5-arm64/Resources/library/IRanges/include' -I'/Library/Frameworks/R.framework/Versions/4.5-arm64/Resources/library/XVector/include' -I'/Library/Frameworks/R.framework/Versions/4.5-arm64/Resources/library/Biostrings/include' -I/opt/R/arm64/include -fPIC -falign-functions=64 -Wall -g -O2 -c bam.c -o bam.o
clang -arch arm64 -I"/Library/Frameworks/R.framework/Resources/include" -DNDEBUG -D_FILE_OFFSET_BITS=64 -I'/Library/Frameworks/R.framework/Versions/4.5-arm64/Resources/library/Rhtslib/include' -I'/Library/Frameworks/R.framework/Versions/4.5-arm64/Resources/library/S4Vectors/include' -I'/Library/Frameworks/R.framework/Versions/4.5-arm64/Resources/library/IRanges/include' -I'/Library/Frameworks/R.framework/Versions/4.5-arm64/Resources/library/XVector/include' -I'/Library/Frameworks/R.framework/Versions/4.5-arm64/Resources/library/Biostrings/include' -I/opt/R/arm64/include -fPIC -falign-functions=64 -Wall -g -O2 -c bam_data.c -o bam_data.o
clang++ -arch arm64 -std=gnu++17 -I"/Library/Frameworks/R.framework/Resources/include" -DNDEBUG -D_FILE_OFFSET_BITS=64 -I'/Library/Frameworks/R.framework/Versions/4.5-arm64/Resources/library/Rhtslib/include' -I'/Library/Frameworks/R.framework/Versions/4.5-arm64/Resources/library/S4Vectors/include' -I'/Library/Frameworks/R.framework/Versions/4.5-arm64/Resources/library/IRanges/include' -I'/Library/Frameworks/R.framework/Versions/4.5-arm64/Resources/library/XVector/include' -I'/Library/Frameworks/R.framework/Versions/4.5-arm64/Resources/library/Biostrings/include' -I/opt/R/arm64/include -fPIC -falign-functions=64 -Wall -g -O2 -c bam_mate_iter.cpp -o bam_mate_iter.o
clang -arch arm64 -I"/Library/Frameworks/R.framework/Resources/include" -DNDEBUG -D_FILE_OFFSET_BITS=64 -I'/Library/Frameworks/R.framework/Versions/4.5-arm64/Resources/library/Rhtslib/include' -I'/Library/Frameworks/R.framework/Versions/4.5-arm64/Resources/library/S4Vectors/include' -I'/Library/Frameworks/R.framework/Versions/4.5-arm64/Resources/library/IRanges/include' -I'/Library/Frameworks/R.framework/Versions/4.5-arm64/Resources/library/XVector/include' -I'/Library/Frameworks/R.framework/Versions/4.5-arm64/Resources/library/Biostrings/include' -I/opt/R/arm64/include -fPIC -falign-functions=64 -Wall -g -O2 -c bam_plbuf.c -o bam_plbuf.o
clang -arch arm64 -I"/Library/Frameworks/R.framework/Resources/include" -DNDEBUG -D_FILE_OFFSET_BITS=64 -I'/Library/Frameworks/R.framework/Versions/4.5-arm64/Resources/library/Rhtslib/include' -I'/Library/Frameworks/R.framework/Versions/4.5-arm64/Resources/library/S4Vectors/include' -I'/Library/Frameworks/R.framework/Versions/4.5-arm64/Resources/library/IRanges/include' -I'/Library/Frameworks/R.framework/Versions/4.5-arm64/Resources/library/XVector/include' -I'/Library/Frameworks/R.framework/Versions/4.5-arm64/Resources/library/Biostrings/include' -I/opt/R/arm64/include -fPIC -falign-functions=64 -Wall -g -O2 -c bam_sort.c -o bam_sort.o
clang -arch arm64 -I"/Library/Frameworks/R.framework/Resources/include" -DNDEBUG -D_FILE_OFFSET_BITS=64 -I'/Library/Frameworks/R.framework/Versions/4.5-arm64/Resources/library/Rhtslib/include' -I'/Library/Frameworks/R.framework/Versions/4.5-arm64/Resources/library/S4Vectors/include' -I'/Library/Frameworks/R.framework/Versions/4.5-arm64/Resources/library/IRanges/include' -I'/Library/Frameworks/R.framework/Versions/4.5-arm64/Resources/library/XVector/include' -I'/Library/Frameworks/R.framework/Versions/4.5-arm64/Resources/library/Biostrings/include' -I/opt/R/arm64/include -fPIC -falign-functions=64 -Wall -g -O2 -c bambuffer.c -o bambuffer.o
clang -arch arm64 -I"/Library/Frameworks/R.framework/Resources/include" -DNDEBUG -D_FILE_OFFSET_BITS=64 -I'/Library/Frameworks/R.framework/Versions/4.5-arm64/Resources/library/Rhtslib/include' -I'/Library/Frameworks/R.framework/Versions/4.5-arm64/Resources/library/S4Vectors/include' -I'/Library/Frameworks/R.framework/Versions/4.5-arm64/Resources/library/IRanges/include' -I'/Library/Frameworks/R.framework/Versions/4.5-arm64/Resources/library/XVector/include' -I'/Library/Frameworks/R.framework/Versions/4.5-arm64/Resources/library/Biostrings/include' -I/opt/R/arm64/include -fPIC -falign-functions=64 -Wall -g -O2 -c bamfile.c -o bamfile.o
clang -arch arm64 -I"/Library/Frameworks/R.framework/Resources/include" -DNDEBUG -D_FILE_OFFSET_BITS=64 -I'/Library/Frameworks/R.framework/Versions/4.5-arm64/Resources/library/Rhtslib/include' -I'/Library/Frameworks/R.framework/Versions/4.5-arm64/Resources/library/S4Vectors/include' -I'/Library/Frameworks/R.framework/Versions/4.5-arm64/Resources/library/IRanges/include' -I'/Library/Frameworks/R.framework/Versions/4.5-arm64/Resources/library/XVector/include' -I'/Library/Frameworks/R.framework/Versions/4.5-arm64/Resources/library/Biostrings/include' -I/opt/R/arm64/include -fPIC -falign-functions=64 -Wall -g -O2 -c bcffile.c -o bcffile.o
clang -arch arm64 -I"/Library/Frameworks/R.framework/Resources/include" -DNDEBUG -D_FILE_OFFSET_BITS=64 -I'/Library/Frameworks/R.framework/Versions/4.5-arm64/Resources/library/Rhtslib/include' -I'/Library/Frameworks/R.framework/Versions/4.5-arm64/Resources/library/S4Vectors/include' -I'/Library/Frameworks/R.framework/Versions/4.5-arm64/Resources/library/IRanges/include' -I'/Library/Frameworks/R.framework/Versions/4.5-arm64/Resources/library/XVector/include' -I'/Library/Frameworks/R.framework/Versions/4.5-arm64/Resources/library/Biostrings/include' -I/opt/R/arm64/include -fPIC -falign-functions=64 -Wall -g -O2 -c bedidx.c -o bedidx.o
clang -arch arm64 -I"/Library/Frameworks/R.framework/Resources/include" -DNDEBUG -D_FILE_OFFSET_BITS=64 -I'/Library/Frameworks/R.framework/Versions/4.5-arm64/Resources/library/Rhtslib/include' -I'/Library/Frameworks/R.framework/Versions/4.5-arm64/Resources/library/S4Vectors/include' -I'/Library/Frameworks/R.framework/Versions/4.5-arm64/Resources/library/IRanges/include' -I'/Library/Frameworks/R.framework/Versions/4.5-arm64/Resources/library/XVector/include' -I'/Library/Frameworks/R.framework/Versions/4.5-arm64/Resources/library/Biostrings/include' -I/opt/R/arm64/include -fPIC -falign-functions=64 -Wall -g -O2 -c encode.c -o encode.o
clang -arch arm64 -I"/Library/Frameworks/R.framework/Resources/include" -DNDEBUG -D_FILE_OFFSET_BITS=64 -I'/Library/Frameworks/R.framework/Versions/4.5-arm64/Resources/library/Rhtslib/include' -I'/Library/Frameworks/R.framework/Versions/4.5-arm64/Resources/library/S4Vectors/include' -I'/Library/Frameworks/R.framework/Versions/4.5-arm64/Resources/library/IRanges/include' -I'/Library/Frameworks/R.framework/Versions/4.5-arm64/Resources/library/XVector/include' -I'/Library/Frameworks/R.framework/Versions/4.5-arm64/Resources/library/Biostrings/include' -I/opt/R/arm64/include -fPIC -falign-functions=64 -Wall -g -O2 -c fafile.c -o fafile.o
clang -arch arm64 -I"/Library/Frameworks/R.framework/Resources/include" -DNDEBUG -D_FILE_OFFSET_BITS=64 -I'/Library/Frameworks/R.framework/Versions/4.5-arm64/Resources/library/Rhtslib/include' -I'/Library/Frameworks/R.framework/Versions/4.5-arm64/Resources/library/S4Vectors/include' -I'/Library/Frameworks/R.framework/Versions/4.5-arm64/Resources/library/IRanges/include' -I'/Library/Frameworks/R.framework/Versions/4.5-arm64/Resources/library/XVector/include' -I'/Library/Frameworks/R.framework/Versions/4.5-arm64/Resources/library/Biostrings/include' -I/opt/R/arm64/include -fPIC -falign-functions=64 -Wall -g -O2 -c idxstats.c -o idxstats.o
clang -arch arm64 -I"/Library/Frameworks/R.framework/Resources/include" -DNDEBUG -D_FILE_OFFSET_BITS=64 -I'/Library/Frameworks/R.framework/Versions/4.5-arm64/Resources/library/Rhtslib/include' -I'/Library/Frameworks/R.framework/Versions/4.5-arm64/Resources/library/S4Vectors/include' -I'/Library/Frameworks/R.framework/Versions/4.5-arm64/Resources/library/IRanges/include' -I'/Library/Frameworks/R.framework/Versions/4.5-arm64/Resources/library/XVector/include' -I'/Library/Frameworks/R.framework/Versions/4.5-arm64/Resources/library/Biostrings/include' -I/opt/R/arm64/include -fPIC -falign-functions=64 -Wall -g -O2 -c io_sam.c -o io_sam.o
clang++ -arch arm64 -std=gnu++17 -I"/Library/Frameworks/R.framework/Resources/include" -DNDEBUG -D_FILE_OFFSET_BITS=64 -I'/Library/Frameworks/R.framework/Versions/4.5-arm64/Resources/library/Rhtslib/include' -I'/Library/Frameworks/R.framework/Versions/4.5-arm64/Resources/library/S4Vectors/include' -I'/Library/Frameworks/R.framework/Versions/4.5-arm64/Resources/library/IRanges/include' -I'/Library/Frameworks/R.framework/Versions/4.5-arm64/Resources/library/XVector/include' -I'/Library/Frameworks/R.framework/Versions/4.5-arm64/Resources/library/Biostrings/include' -I/opt/R/arm64/include -fPIC -falign-functions=64 -Wall -g -O2 -c pbuffer_wrapper.cpp -o pbuffer_wrapper.o
clang++ -arch arm64 -std=gnu++17 -I"/Library/Frameworks/R.framework/Resources/include" -DNDEBUG -D_FILE_OFFSET_BITS=64 -I'/Library/Frameworks/R.framework/Versions/4.5-arm64/Resources/library/Rhtslib/include' -I'/Library/Frameworks/R.framework/Versions/4.5-arm64/Resources/library/S4Vectors/include' -I'/Library/Frameworks/R.framework/Versions/4.5-arm64/Resources/library/IRanges/include' -I'/Library/Frameworks/R.framework/Versions/4.5-arm64/Resources/library/XVector/include' -I'/Library/Frameworks/R.framework/Versions/4.5-arm64/Resources/library/Biostrings/include' -I/opt/R/arm64/include -fPIC -falign-functions=64 -Wall -g -O2 -c pileup.cpp -o pileup.o
clang -arch arm64 -I"/Library/Frameworks/R.framework/Resources/include" -DNDEBUG -D_FILE_OFFSET_BITS=64 -I'/Library/Frameworks/R.framework/Versions/4.5-arm64/Resources/library/Rhtslib/include' -I'/Library/Frameworks/R.framework/Versions/4.5-arm64/Resources/library/S4Vectors/include' -I'/Library/Frameworks/R.framework/Versions/4.5-arm64/Resources/library/IRanges/include' -I'/Library/Frameworks/R.framework/Versions/4.5-arm64/Resources/library/XVector/include' -I'/Library/Frameworks/R.framework/Versions/4.5-arm64/Resources/library/Biostrings/include' -I/opt/R/arm64/include -fPIC -falign-functions=64 -Wall -g -O2 -c pileupbam.c -o pileupbam.o
clang -arch arm64 -I"/Library/Frameworks/R.framework/Resources/include" -DNDEBUG -D_FILE_OFFSET_BITS=64 -I'/Library/Frameworks/R.framework/Versions/4.5-arm64/Resources/library/Rhtslib/include' -I'/Library/Frameworks/R.framework/Versions/4.5-arm64/Resources/library/S4Vectors/include' -I'/Library/Frameworks/R.framework/Versions/4.5-arm64/Resources/library/IRanges/include' -I'/Library/Frameworks/R.framework/Versions/4.5-arm64/Resources/library/XVector/include' -I'/Library/Frameworks/R.framework/Versions/4.5-arm64/Resources/library/Biostrings/include' -I/opt/R/arm64/include -fPIC -falign-functions=64 -Wall -g -O2 -c sam_opts.c -o sam_opts.o
clang -arch arm64 -I"/Library/Frameworks/R.framework/Resources/include" -DNDEBUG -D_FILE_OFFSET_BITS=64 -I'/Library/Frameworks/R.framework/Versions/4.5-arm64/Resources/library/Rhtslib/include' -I'/Library/Frameworks/R.framework/Versions/4.5-arm64/Resources/library/S4Vectors/include' -I'/Library/Frameworks/R.framework/Versions/4.5-arm64/Resources/library/IRanges/include' -I'/Library/Frameworks/R.framework/Versions/4.5-arm64/Resources/library/XVector/include' -I'/Library/Frameworks/R.framework/Versions/4.5-arm64/Resources/library/Biostrings/include' -I/opt/R/arm64/include -fPIC -falign-functions=64 -Wall -g -O2 -c sam_utils.c -o sam_utils.o
clang -arch arm64 -I"/Library/Frameworks/R.framework/Resources/include" -DNDEBUG -D_FILE_OFFSET_BITS=64 -I'/Library/Frameworks/R.framework/Versions/4.5-arm64/Resources/library/Rhtslib/include' -I'/Library/Frameworks/R.framework/Versions/4.5-arm64/Resources/library/S4Vectors/include' -I'/Library/Frameworks/R.framework/Versions/4.5-arm64/Resources/library/IRanges/include' -I'/Library/Frameworks/R.framework/Versions/4.5-arm64/Resources/library/XVector/include' -I'/Library/Frameworks/R.framework/Versions/4.5-arm64/Resources/library/Biostrings/include' -I/opt/R/arm64/include -fPIC -falign-functions=64 -Wall -g -O2 -c samtools_patch.c -o samtools_patch.o
clang -arch arm64 -I"/Library/Frameworks/R.framework/Resources/include" -DNDEBUG -D_FILE_OFFSET_BITS=64 -I'/Library/Frameworks/R.framework/Versions/4.5-arm64/Resources/library/Rhtslib/include' -I'/Library/Frameworks/R.framework/Versions/4.5-arm64/Resources/library/S4Vectors/include' -I'/Library/Frameworks/R.framework/Versions/4.5-arm64/Resources/library/IRanges/include' -I'/Library/Frameworks/R.framework/Versions/4.5-arm64/Resources/library/XVector/include' -I'/Library/Frameworks/R.framework/Versions/4.5-arm64/Resources/library/Biostrings/include' -I/opt/R/arm64/include -fPIC -falign-functions=64 -Wall -g -O2 -c scan_bam_data.c -o scan_bam_data.o
clang -arch arm64 -I"/Library/Frameworks/R.framework/Resources/include" -DNDEBUG -D_FILE_OFFSET_BITS=64 -I'/Library/Frameworks/R.framework/Versions/4.5-arm64/Resources/library/Rhtslib/include' -I'/Library/Frameworks/R.framework/Versions/4.5-arm64/Resources/library/S4Vectors/include' -I'/Library/Frameworks/R.framework/Versions/4.5-arm64/Resources/library/IRanges/include' -I'/Library/Frameworks/R.framework/Versions/4.5-arm64/Resources/library/XVector/include' -I'/Library/Frameworks/R.framework/Versions/4.5-arm64/Resources/library/Biostrings/include' -I/opt/R/arm64/include -fPIC -falign-functions=64 -Wall -g -O2 -c tabixfile.c -o tabixfile.o
tabixfile.c:190:9: warning: 'bgzf_is_bgzf' is deprecated: Use bgzf_compression() or hts_detect_format() instead [-Wdeprecated-declarations]
if (bgzf_is_bgzf(fn) != 1)
^
/Library/Frameworks/R.framework/Versions/4.5-arm64/Resources/library/Rhtslib/include/htslib/bgzf.h:270:38: note: 'bgzf_is_bgzf' has been explicitly marked deprecated here
int bgzf_is_bgzf(const char *fn) HTS_DEPRECATED("Use bgzf_compression() or hts_detect_format() instead");
^
/Library/Frameworks/R.framework/Versions/4.5-arm64/Resources/library/Rhtslib/include/htslib/hts_defs.h:75:49: note: expanded from macro 'HTS_DEPRECATED'
#define HTS_DEPRECATED(message) __attribute__ ((__deprecated__ (message)))
^
1 warning generated.
clang -arch arm64 -I"/Library/Frameworks/R.framework/Resources/include" -DNDEBUG -D_FILE_OFFSET_BITS=64 -I'/Library/Frameworks/R.framework/Versions/4.5-arm64/Resources/library/Rhtslib/include' -I'/Library/Frameworks/R.framework/Versions/4.5-arm64/Resources/library/S4Vectors/include' -I'/Library/Frameworks/R.framework/Versions/4.5-arm64/Resources/library/IRanges/include' -I'/Library/Frameworks/R.framework/Versions/4.5-arm64/Resources/library/XVector/include' -I'/Library/Frameworks/R.framework/Versions/4.5-arm64/Resources/library/Biostrings/include' -I/opt/R/arm64/include -fPIC -falign-functions=64 -Wall -g -O2 -c tagfilter.c -o tagfilter.o
clang -arch arm64 -I"/Library/Frameworks/R.framework/Resources/include" -DNDEBUG -D_FILE_OFFSET_BITS=64 -I'/Library/Frameworks/R.framework/Versions/4.5-arm64/Resources/library/Rhtslib/include' -I'/Library/Frameworks/R.framework/Versions/4.5-arm64/Resources/library/S4Vectors/include' -I'/Library/Frameworks/R.framework/Versions/4.5-arm64/Resources/library/IRanges/include' -I'/Library/Frameworks/R.framework/Versions/4.5-arm64/Resources/library/XVector/include' -I'/Library/Frameworks/R.framework/Versions/4.5-arm64/Resources/library/Biostrings/include' -I/opt/R/arm64/include -fPIC -falign-functions=64 -Wall -g -O2 -c utilities.c -o utilities.o
clang -arch arm64 -I"/Library/Frameworks/R.framework/Resources/include" -DNDEBUG -D_FILE_OFFSET_BITS=64 -I'/Library/Frameworks/R.framework/Versions/4.5-arm64/Resources/library/Rhtslib/include' -I'/Library/Frameworks/R.framework/Versions/4.5-arm64/Resources/library/S4Vectors/include' -I'/Library/Frameworks/R.framework/Versions/4.5-arm64/Resources/library/IRanges/include' -I'/Library/Frameworks/R.framework/Versions/4.5-arm64/Resources/library/XVector/include' -I'/Library/Frameworks/R.framework/Versions/4.5-arm64/Resources/library/Biostrings/include' -I/opt/R/arm64/include -fPIC -falign-functions=64 -Wall -g -O2 -c zip_compression.c -o zip_compression.o
clang++ -arch arm64 -std=gnu++17 -dynamiclib -Wl,-headerpad_max_install_names -undefined dynamic_lookup -L/Library/Frameworks/R.framework/Resources/lib -L/opt/R/arm64/lib -o Rsamtools.so Biostrings_stubs.o COMPAT_bcf_hdr_read.o IRanges_stubs.o PileupBuffer.o PosCacheColl.o R_init_Rsamtools.o ResultManager.o S4Vectors_stubs.o XVector_stubs.o as_bam.o bam.o bam_data.o bam_mate_iter.o bam_plbuf.o bam_sort.o bambuffer.o bamfile.o bcffile.o bedidx.o encode.o fafile.o idxstats.o io_sam.o pbuffer_wrapper.o pileup.o pileupbam.o sam_opts.o sam_utils.o samtools_patch.o scan_bam_data.o tabixfile.o tagfilter.o utilities.o zip_compression.o /Library/Frameworks/R.framework/Versions/4.5-arm64/Resources/library/Rhtslib/usrlib/libhts.a -lcurl -lbz2 -llzma -lz -F/Library/Frameworks/R.framework/.. -framework R
installing to /Library/Frameworks/R.framework/Versions/4.5-arm64/Resources/library/00LOCK-Rsamtools/00new/Rsamtools/libs
** R
** inst
** byte-compile and prepare package for lazy loading
** help
*** installing help indices
** building package indices
** installing vignettes
** testing if installed package can be loaded from temporary location
** checking absolute paths in shared objects and dynamic libraries
** testing if installed package can be loaded from final location
** testing if installed package keeps a record of temporary installation path
* DONE (Rsamtools)