Back to Multiple platform build/check report for BioC 3.22:   simplified   long
ABCDEFGHIJKLMNOPQ[R]STUVWXYZ

This page was generated on 2025-10-31 12:03 -0400 (Fri, 31 Oct 2025).

HostnameOSArch (*)R versionInstalled pkgs
nebbiolo2Linux (Ubuntu 24.04.3 LTS)x86_644.5.1 Patched (2025-08-23 r88802) -- "Great Square Root" 4901
lconwaymacOS 12.7.6 Montereyx86_644.5.1 Patched (2025-09-10 r88807) -- "Great Square Root" 4691
kjohnson3macOS 13.7.7 Venturaarm644.5.1 Patched (2025-09-10 r88807) -- "Great Square Root" 4637
Click on any hostname to see more info about the system (e.g. compilers)      (*) as reported by 'uname -p', except on Windows and Mac OS X

Package 1743/2361HostnameOS / ArchINSTALLBUILDCHECKBUILD BIN
ReactomeGSA 1.24.0  (landing page)
Johannes Griss
Snapshot Date: 2025-10-30 13:45 -0400 (Thu, 30 Oct 2025)
git_url: https://git.bioconductor.org/packages/ReactomeGSA
git_branch: RELEASE_3_22
git_last_commit: b801062
git_last_commit_date: 2025-10-29 10:54:21 -0400 (Wed, 29 Oct 2025)
nebbiolo2Linux (Ubuntu 24.04.3 LTS) / x86_64  OK    OK    OK  YES
lconwaymacOS 12.7.6 Monterey / x86_64  OK    OK    OK    OK  UNNEEDED, same version is already published
kjohnson3macOS 13.7.7 Ventura / arm64  OK    OK    OK    OK  UNNEEDED, same version is already published


CHECK results for ReactomeGSA on nebbiolo2

To the developers/maintainers of the ReactomeGSA package:
- Allow up to 24 hours (and sometimes 48 hours) for your latest push to git@git.bioconductor.org:packages/ReactomeGSA.git to reflect on this report. See Troubleshooting Build Report for more information.
- Use the following Renviron settings to reproduce errors and warnings.
- If 'R CMD check' started to fail recently on the Linux builder(s) over a missing dependency, add the missing dependency to 'Suggests:' in your DESCRIPTION file. See Renviron.bioc for more information.

raw results


Summary

Package: ReactomeGSA
Version: 1.24.0
Command: /home/biocbuild/bbs-3.22-bioc/R/bin/R CMD check --install=check:ReactomeGSA.install-out.txt --library=/home/biocbuild/bbs-3.22-bioc/R/site-library --timings ReactomeGSA_1.24.0.tar.gz
StartedAt: 2025-10-31 03:07:55 -0400 (Fri, 31 Oct 2025)
EndedAt: 2025-10-31 03:26:56 -0400 (Fri, 31 Oct 2025)
EllapsedTime: 1141.3 seconds
RetCode: 0
Status:   OK  
CheckDir: ReactomeGSA.Rcheck
Warnings: 0

Command output

##############################################################################
##############################################################################
###
### Running command:
###
###   /home/biocbuild/bbs-3.22-bioc/R/bin/R CMD check --install=check:ReactomeGSA.install-out.txt --library=/home/biocbuild/bbs-3.22-bioc/R/site-library --timings ReactomeGSA_1.24.0.tar.gz
###
##############################################################################
##############################################################################


* using log directory ‘/home/biocbuild/bbs-3.22-bioc/meat/ReactomeGSA.Rcheck’
* using R version 4.5.1 Patched (2025-08-23 r88802)
* using platform: x86_64-pc-linux-gnu
* R was compiled by
    gcc (Ubuntu 13.3.0-6ubuntu2~24.04) 13.3.0
    GNU Fortran (Ubuntu 13.3.0-6ubuntu2~24.04) 13.3.0
* running under: Ubuntu 24.04.3 LTS
* using session charset: UTF-8
* checking for file ‘ReactomeGSA/DESCRIPTION’ ... OK
* checking extension type ... Package
* this is package ‘ReactomeGSA’ version ‘1.24.0’
* package encoding: UTF-8
* checking package namespace information ... OK
* checking package dependencies ... OK
* checking if this is a source package ... OK
* checking if there is a namespace ... OK
* checking for hidden files and directories ... OK
* checking for portable file names ... OK
* checking for sufficient/correct file permissions ... OK
* checking whether package ‘ReactomeGSA’ can be installed ... OK
* checking installed package size ... OK
* checking package directory ... OK
* checking ‘build’ directory ... OK
* checking DESCRIPTION meta-information ... OK
* checking top-level files ... OK
* checking for left-over files ... OK
* checking index information ... OK
* checking package subdirectories ... OK
* checking code files for non-ASCII characters ... OK
* checking R files for syntax errors ... OK
* checking whether the package can be loaded ... OK
* checking whether the package can be loaded with stated dependencies ... OK
* checking whether the package can be unloaded cleanly ... OK
* checking whether the namespace can be loaded with stated dependencies ... OK
* checking whether the namespace can be unloaded cleanly ... OK
* checking loading without being on the library search path ... OK
* checking whether startup messages can be suppressed ... OK
* checking dependencies in R code ... OK
* checking S3 generic/method consistency ... OK
* checking replacement functions ... OK
* checking foreign function calls ... OK
* checking R code for possible problems ... NOTE
plot_correlations,ReactomeAnalysisResult: no visible binding for global
  variable ‘combined_sig’
plot_correlations,ReactomeAnalysisResult: no visible binding for global
  variable ‘alpha’
plot_gsva_pathway,ReactomeAnalysisResult: no visible binding for global
  variable ‘cluster_id’
plot_gsva_pathway,ReactomeAnalysisResult: no visible binding for global
  variable ‘expr’
plot_gsva_pca,ReactomeAnalysisResult: no visible binding for global
  variable ‘gsva_result’
plot_gsva_pca,ReactomeAnalysisResult: no visible binding for global
  variable ‘PC1’
plot_gsva_pca,ReactomeAnalysisResult: no visible binding for global
  variable ‘PC2’
plot_heatmap,ReactomeAnalysisResult: no visible global function
  definition for ‘desc’
plot_heatmap,ReactomeAnalysisResult: no visible binding for global
  variable ‘n_sig’
plot_heatmap,ReactomeAnalysisResult: no visible binding for global
  variable ‘dataset’
plot_heatmap,ReactomeAnalysisResult: no visible binding for global
  variable ‘Name’
plot_volcano,ReactomeAnalysisResult: no visible binding for global
  variable ‘av_foldchange’
plot_volcano,ReactomeAnalysisResult: no visible binding for global
  variable ‘FDR’
Undefined global functions or variables:
  FDR Name PC1 PC2 alpha av_foldchange cluster_id combined_sig dataset
  desc expr gsva_result n_sig
* checking Rd files ... OK
* checking Rd metadata ... OK
* checking Rd cross-references ... OK
* checking for missing documentation entries ... OK
* checking for code/documentation mismatches ... OK
* checking Rd \usage sections ... OK
* checking Rd contents ... OK
* checking for unstated dependencies in examples ... OK
* checking files in ‘vignettes’ ... OK
* checking examples ... OK
Examples with CPU (user + system) or elapsed time > 5s
                                                  user system elapsed
plot_gsva_pathway-ReactomeAnalysisResult-method 35.581  0.857 106.401
plot_gsva_heatmap-ReactomeAnalysisResult-method 34.087  1.015  82.722
plot_gsva_pathway                               33.601  0.941  69.182
analyse_sc_clusters-Seurat-method               32.475  0.826  71.176
plot_gsva_pca                                   32.318  0.970  67.704
plot_gsva_pca-ReactomeAnalysisResult-method     31.975  0.759  72.456
plot_gsva_heatmap                               31.940  0.587  65.697
analyse_sc_clusters-SingleCellExperiment-method 31.143  0.593  66.764
analyse_sc_clusters                             30.983  0.672  66.500
generate_pseudo_bulk_data                       14.090  0.682  14.790
perform_reactome_analysis                        6.301  0.332  51.772
ReactomeAnalysisRequest                          5.022  0.223   5.246
load_public_dataset                              4.501  0.400  44.072
* checking for unstated dependencies in ‘tests’ ... OK
* checking tests ...
  Running ‘testthat.R’
 OK
* checking for unstated dependencies in vignettes ... OK
* checking package vignettes ... OK
* checking re-building of vignette outputs ... OK
* checking PDF version of manual ... OK
* DONE

Status: 1 NOTE
See
  ‘/home/biocbuild/bbs-3.22-bioc/meat/ReactomeGSA.Rcheck/00check.log’
for details.


Installation output

ReactomeGSA.Rcheck/00install.out

##############################################################################
##############################################################################
###
### Running command:
###
###   /home/biocbuild/bbs-3.22-bioc/R/bin/R CMD INSTALL ReactomeGSA
###
##############################################################################
##############################################################################


* installing to library ‘/home/biocbuild/bbs-3.22-bioc/R/site-library’
* installing *source* package ‘ReactomeGSA’ ...
** this is package ‘ReactomeGSA’ version ‘1.24.0’
** using staged installation
** R
** inst
** byte-compile and prepare package for lazy loading
in method for ‘analyse_sc_clusters’ with signature ‘object="Seurat"’: no definition for class “Seurat”
in method for ‘analyse_sc_clusters’ with signature ‘object="SingleCellExperiment"’: no definition for class “SingleCellExperiment”
in method for ‘add_dataset’ with signature ‘request="ReactomeAnalysisRequest",expression_values="EList"’: no definition for class “EList”
in method for ‘add_dataset’ with signature ‘request="ReactomeAnalysisRequest",expression_values="DGEList"’: no definition for class “DGEList”
in method for ‘generate_pseudo_bulk_data’ with signature ‘object="Seurat"’: no definition for class “Seurat”
in method for ‘generate_pseudo_bulk_data’ with signature ‘object="SingleCellExperiment"’: no definition for class “SingleCellExperiment”
** help
*** installing help indices
** building package indices
** installing vignettes
** testing if installed package can be loaded from temporary location
** testing if installed package can be loaded from final location
** testing if installed package keeps a record of temporary installation path
* DONE (ReactomeGSA)

Tests output

ReactomeGSA.Rcheck/tests/testthat.Rout


R version 4.5.1 Patched (2025-08-23 r88802) -- "Great Square Root"
Copyright (C) 2025 The R Foundation for Statistical Computing
Platform: x86_64-pc-linux-gnu

R is free software and comes with ABSOLUTELY NO WARRANTY.
You are welcome to redistribute it under certain conditions.
Type 'license()' or 'licence()' for distribution details.

R is a collaborative project with many contributors.
Type 'contributors()' for more information and
'citation()' on how to cite R or R packages in publications.

Type 'demo()' for some demos, 'help()' for on-line help, or
'help.start()' for an HTML browser interface to help.
Type 'q()' to quit R.

> library(testthat)
> library(ReactomeGSA)
> 
> test_check("ReactomeGSA")
[ FAIL 0 | WARN 0 | SKIP 0 | PASS 17 ]
> 
> proc.time()
   user  system elapsed 
  1.684   0.127   1.800 

Example timings

ReactomeGSA.Rcheck/ReactomeGSA-Ex.timings

nameusersystemelapsed
ReactomeAnalysisRequest5.0220.2235.246
ReactomeAnalysisResult-class0.1820.0030.186
add_dataset-ReactomeAnalysisRequest-DGEList-method0.9060.0150.921
add_dataset-ReactomeAnalysisRequest-EList-method0.5280.0030.531
add_dataset-ReactomeAnalysisRequest-ExpressionSet-method0.5170.0310.548
add_dataset-ReactomeAnalysisRequest-data.frame-method0.5280.0030.531
add_dataset-ReactomeAnalysisRequest-matrix-method0.5180.0030.521
add_dataset0.5160.0020.518
analyse_sc_clusters-Seurat-method32.475 0.82671.176
analyse_sc_clusters-SingleCellExperiment-method31.143 0.59366.764
analyse_sc_clusters30.983 0.67266.500
find_public_datasets0.4500.0233.345
generate_metadata0.0000.0010.002
generate_pseudo_bulk_data14.090 0.68214.790
get_public_species0.1360.0140.651
get_reactome_data_types0.1870.0101.011
get_reactome_methods0.4800.0431.948
get_result-ReactomeAnalysisResult-method0.2280.0050.233
get_result0.1910.0030.194
load_public_dataset 4.501 0.40044.072
names-ReactomeAnalysisResult-method0.1960.0040.200
open_reactome-ReactomeAnalysisResult-method0.2030.0060.209
open_reactome0.1870.0050.193
pathways-ReactomeAnalysisResult-method0.2500.0210.270
pathways0.1940.0140.209
perform_reactome_analysis 6.301 0.33251.772
plot_correlations-ReactomeAnalysisResult-method0.2880.0030.291
plot_correlations0.2490.0010.250
plot_gsva_heatmap-ReactomeAnalysisResult-method34.087 1.01582.722
plot_gsva_heatmap31.940 0.58765.697
plot_gsva_pathway-ReactomeAnalysisResult-method 35.581 0.857106.401
plot_gsva_pathway33.601 0.94169.182
plot_gsva_pca-ReactomeAnalysisResult-method31.975 0.75972.456
plot_gsva_pca32.318 0.97067.704
plot_heatmap-ReactomeAnalysisResult-method0.5210.0070.528
plot_heatmap0.6230.0020.625
plot_volcano-ReactomeAnalysisResult-method0.2210.0040.225
plot_volcano0.2300.0050.235
print-ReactomeAnalysisRequest-method0.0020.0000.002
print-ReactomeAnalysisResult-method0.2030.0020.205
reactome_links-ReactomeAnalysisResult-method0.1950.0010.196
reactome_links0.1940.0010.195
result_types-ReactomeAnalysisResult-method0.1980.0040.202
result_types0.2000.0040.204
set_method-ReactomeAnalysisRequest-method0.0020.0000.002
set_method0.0020.0000.002
set_parameters-ReactomeAnalysisRequest-method0.0010.0000.001
set_parameters0.0010.0000.001
show-ReactomeAnalysisRequest-method0.0010.0000.001
show-ReactomeAnalysisResult-method0.1890.0020.191