Back to Multiple platform build/check report for BioC 3.22:   simplified   long
ABCDEFGHIJKLMNOPQ[R]STUVWXYZ

This page was generated on 2025-11-07 12:01 -0500 (Fri, 07 Nov 2025).

HostnameOSArch (*)R versionInstalled pkgs
nebbiolo2Linux (Ubuntu 24.04.3 LTS)x86_644.5.1 Patched (2025-08-23 r88802) -- "Great Square Root" 4902
kjohnson3macOS 13.7.7 Venturaarm644.5.1 Patched (2025-09-10 r88807) -- "Great Square Root" 4638
Click on any hostname to see more info about the system (e.g. compilers)      (*) as reported by 'uname -p', except on Windows and Mac OS X

Package 1743/2361HostnameOS / ArchINSTALLBUILDCHECKBUILD BIN
ReactomeGSA 1.24.0  (landing page)
Johannes Griss
Snapshot Date: 2025-11-06 13:45 -0500 (Thu, 06 Nov 2025)
git_url: https://git.bioconductor.org/packages/ReactomeGSA
git_branch: RELEASE_3_22
git_last_commit: b801062
git_last_commit_date: 2025-10-29 10:54:21 -0500 (Wed, 29 Oct 2025)
nebbiolo2Linux (Ubuntu 24.04.3 LTS) / x86_64  OK    OK    ERROR  
kjohnson3macOS 13.7.7 Ventura / arm64  OK    OK    OK    OK  UNNEEDED, same version is already published


CHECK results for ReactomeGSA on kjohnson3

To the developers/maintainers of the ReactomeGSA package:
- Allow up to 24 hours (and sometimes 48 hours) for your latest push to git@git.bioconductor.org:packages/ReactomeGSA.git to reflect on this report. See Troubleshooting Build Report for more information.
- Use the following Renviron settings to reproduce errors and warnings.
- If 'R CMD check' started to fail recently on the Linux builder(s) over a missing dependency, add the missing dependency to 'Suggests:' in your DESCRIPTION file. See Renviron.bioc for more information.

raw results


Summary

Package: ReactomeGSA
Version: 1.24.0
Command: /Library/Frameworks/R.framework/Resources/bin/R CMD check --install=check:ReactomeGSA.install-out.txt --library=/Library/Frameworks/R.framework/Resources/library --no-vignettes --timings ReactomeGSA_1.24.0.tar.gz
StartedAt: 2025-11-06 21:35:29 -0500 (Thu, 06 Nov 2025)
EndedAt: 2025-11-06 21:44:47 -0500 (Thu, 06 Nov 2025)
EllapsedTime: 558.1 seconds
RetCode: 0
Status:   OK  
CheckDir: ReactomeGSA.Rcheck
Warnings: 0

Command output

##############################################################################
##############################################################################
###
### Running command:
###
###   /Library/Frameworks/R.framework/Resources/bin/R CMD check --install=check:ReactomeGSA.install-out.txt --library=/Library/Frameworks/R.framework/Resources/library --no-vignettes --timings ReactomeGSA_1.24.0.tar.gz
###
##############################################################################
##############################################################################


* using log directory ‘/Users/biocbuild/bbs-3.22-bioc/meat/ReactomeGSA.Rcheck’
* using R version 4.5.1 Patched (2025-09-10 r88807)
* using platform: aarch64-apple-darwin20
* R was compiled by
    Apple clang version 16.0.0 (clang-1600.0.26.6)
    GNU Fortran (GCC) 14.2.0
* running under: macOS Ventura 13.7.7
* using session charset: UTF-8
* using option ‘--no-vignettes’
* checking for file ‘ReactomeGSA/DESCRIPTION’ ... OK
* checking extension type ... Package
* this is package ‘ReactomeGSA’ version ‘1.24.0’
* package encoding: UTF-8
* checking package namespace information ... OK
* checking package dependencies ... OK
* checking if this is a source package ... OK
* checking if there is a namespace ... OK
* checking for hidden files and directories ... OK
* checking for portable file names ... OK
* checking for sufficient/correct file permissions ... OK
* checking whether package ‘ReactomeGSA’ can be installed ... OK
* checking installed package size ... OK
* checking package directory ... OK
* checking ‘build’ directory ... OK
* checking DESCRIPTION meta-information ... OK
* checking top-level files ... OK
* checking for left-over files ... OK
* checking index information ... OK
* checking package subdirectories ... OK
* checking code files for non-ASCII characters ... OK
* checking R files for syntax errors ... OK
* checking whether the package can be loaded ... OK
* checking whether the package can be loaded with stated dependencies ... OK
* checking whether the package can be unloaded cleanly ... OK
* checking whether the namespace can be loaded with stated dependencies ... OK
* checking whether the namespace can be unloaded cleanly ... OK
* checking whether startup messages can be suppressed ... OK
* checking dependencies in R code ... OK
* checking S3 generic/method consistency ... OK
* checking replacement functions ... OK
* checking foreign function calls ... OK
* checking R code for possible problems ... NOTE
plot_correlations,ReactomeAnalysisResult: no visible binding for global
  variable ‘combined_sig’
plot_correlations,ReactomeAnalysisResult: no visible binding for global
  variable ‘alpha’
plot_gsva_pathway,ReactomeAnalysisResult: no visible binding for global
  variable ‘cluster_id’
plot_gsva_pathway,ReactomeAnalysisResult: no visible binding for global
  variable ‘expr’
plot_gsva_pca,ReactomeAnalysisResult: no visible binding for global
  variable ‘gsva_result’
plot_gsva_pca,ReactomeAnalysisResult: no visible binding for global
  variable ‘PC1’
plot_gsva_pca,ReactomeAnalysisResult: no visible binding for global
  variable ‘PC2’
plot_heatmap,ReactomeAnalysisResult: no visible global function
  definition for ‘desc’
plot_heatmap,ReactomeAnalysisResult: no visible binding for global
  variable ‘n_sig’
plot_heatmap,ReactomeAnalysisResult: no visible binding for global
  variable ‘dataset’
plot_heatmap,ReactomeAnalysisResult: no visible binding for global
  variable ‘Name’
plot_volcano,ReactomeAnalysisResult: no visible binding for global
  variable ‘av_foldchange’
plot_volcano,ReactomeAnalysisResult: no visible binding for global
  variable ‘FDR’
Undefined global functions or variables:
  FDR Name PC1 PC2 alpha av_foldchange cluster_id combined_sig dataset
  desc expr gsva_result n_sig
* checking Rd files ... OK
* checking Rd metadata ... OK
* checking Rd cross-references ... OK
* checking for missing documentation entries ... OK
* checking for code/documentation mismatches ... OK
* checking Rd \usage sections ... OK
* checking Rd contents ... OK
* checking for unstated dependencies in examples ... OK
* checking files in ‘vignettes’ ... OK
* checking examples ... OK
Examples with CPU (user + system) or elapsed time > 5s
                                                  user system elapsed
plot_gsva_pathway                               10.776  1.176  76.196
plot_gsva_heatmap                               10.402  1.170  47.456
plot_gsva_pca                                   10.116  1.174  39.696
analyse_sc_clusters-Seurat-method               10.272  0.985  39.994
plot_gsva_pca-ReactomeAnalysisResult-method      9.999  1.190  40.346
plot_gsva_pathway-ReactomeAnalysisResult-method  9.975  1.156  39.604
analyse_sc_clusters-SingleCellExperiment-method  9.872  0.964  41.397
plot_gsva_heatmap-ReactomeAnalysisResult-method  9.744  0.975  43.070
analyse_sc_clusters                              9.521  1.041  39.148
generate_pseudo_bulk_data                        6.015  0.570   6.882
perform_reactome_analysis                        1.158  0.151  52.667
load_public_dataset                              0.741  0.112  46.589
find_public_datasets                             0.039  0.008   5.797
* checking for unstated dependencies in ‘tests’ ... OK
* checking tests ...
  Running ‘testthat.R’
 OK
* checking for unstated dependencies in vignettes ... OK
* checking package vignettes ... OK
* checking running R code from vignettes ... SKIPPED
* checking re-building of vignette outputs ... SKIPPED
* checking PDF version of manual ... OK
* DONE

Status: 1 NOTE
See
  ‘/Users/biocbuild/bbs-3.22-bioc/meat/ReactomeGSA.Rcheck/00check.log’
for details.


Installation output

ReactomeGSA.Rcheck/00install.out

##############################################################################
##############################################################################
###
### Running command:
###
###   /Library/Frameworks/R.framework/Resources/bin/R CMD INSTALL ReactomeGSA
###
##############################################################################
##############################################################################


* installing to library ‘/Library/Frameworks/R.framework/Versions/4.5-arm64/Resources/library’
* installing *source* package ‘ReactomeGSA’ ...
** this is package ‘ReactomeGSA’ version ‘1.24.0’
** using staged installation
** R
** inst
** byte-compile and prepare package for lazy loading
in method for ‘analyse_sc_clusters’ with signature ‘object="Seurat"’: no definition for class “Seurat”
in method for ‘analyse_sc_clusters’ with signature ‘object="SingleCellExperiment"’: no definition for class “SingleCellExperiment”
in method for ‘add_dataset’ with signature ‘request="ReactomeAnalysisRequest",expression_values="EList"’: no definition for class “EList”
in method for ‘add_dataset’ with signature ‘request="ReactomeAnalysisRequest",expression_values="DGEList"’: no definition for class “DGEList”
in method for ‘generate_pseudo_bulk_data’ with signature ‘object="Seurat"’: no definition for class “Seurat”
in method for ‘generate_pseudo_bulk_data’ with signature ‘object="SingleCellExperiment"’: no definition for class “SingleCellExperiment”
** help
*** installing help indices
** building package indices
** installing vignettes
** testing if installed package can be loaded from temporary location
** testing if installed package can be loaded from final location
** testing if installed package keeps a record of temporary installation path
* DONE (ReactomeGSA)

Tests output

ReactomeGSA.Rcheck/tests/testthat.Rout


R version 4.5.1 Patched (2025-09-10 r88807) -- "Great Square Root"
Copyright (C) 2025 The R Foundation for Statistical Computing
Platform: aarch64-apple-darwin20

R is free software and comes with ABSOLUTELY NO WARRANTY.
You are welcome to redistribute it under certain conditions.
Type 'license()' or 'licence()' for distribution details.

R is a collaborative project with many contributors.
Type 'contributors()' for more information and
'citation()' on how to cite R or R packages in publications.

Type 'demo()' for some demos, 'help()' for on-line help, or
'help.start()' for an HTML browser interface to help.
Type 'q()' to quit R.

> library(testthat)
> library(ReactomeGSA)
> 
> test_check("ReactomeGSA")
[ FAIL 0 | WARN 0 | SKIP 0 | PASS 17 ]
> 
> proc.time()
   user  system elapsed 
  0.702   0.073   0.787 

Example timings

ReactomeGSA.Rcheck/ReactomeGSA-Ex.timings

nameusersystemelapsed
ReactomeAnalysisRequest1.9900.1532.177
ReactomeAnalysisResult-class0.0850.0050.093
add_dataset-ReactomeAnalysisRequest-DGEList-method0.4320.0280.461
add_dataset-ReactomeAnalysisRequest-EList-method0.2620.0310.319
add_dataset-ReactomeAnalysisRequest-ExpressionSet-method0.2590.0290.293
add_dataset-ReactomeAnalysisRequest-data.frame-method0.2610.0270.319
add_dataset-ReactomeAnalysisRequest-matrix-method0.2600.0360.300
add_dataset0.2570.0280.289
analyse_sc_clusters-Seurat-method10.272 0.98539.994
analyse_sc_clusters-SingleCellExperiment-method 9.872 0.96441.397
analyse_sc_clusters 9.521 1.04139.148
find_public_datasets0.0390.0085.797
generate_metadata000
generate_pseudo_bulk_data6.0150.5706.882
get_public_species0.0110.0020.342
get_reactome_data_types0.0220.0040.748
get_reactome_methods0.0360.0061.024
get_result-ReactomeAnalysisResult-method0.0870.0040.091
get_result0.0940.0040.101
load_public_dataset 0.741 0.11246.589
names-ReactomeAnalysisResult-method0.0870.0040.090
open_reactome-ReactomeAnalysisResult-method0.0840.0040.088
open_reactome0.0870.0040.091
pathways-ReactomeAnalysisResult-method0.1100.0060.117
pathways0.0970.0040.102
perform_reactome_analysis 1.158 0.15152.667
plot_correlations-ReactomeAnalysisResult-method0.1180.0040.122
plot_correlations0.1010.0040.105
plot_gsva_heatmap-ReactomeAnalysisResult-method 9.744 0.97543.070
plot_gsva_heatmap10.402 1.17047.456
plot_gsva_pathway-ReactomeAnalysisResult-method 9.975 1.15639.604
plot_gsva_pathway10.776 1.17676.196
plot_gsva_pca-ReactomeAnalysisResult-method 9.999 1.19040.346
plot_gsva_pca10.116 1.17439.696
plot_heatmap-ReactomeAnalysisResult-method0.2160.0050.225
plot_heatmap0.2240.0040.239
plot_volcano-ReactomeAnalysisResult-method0.0950.0040.101
plot_volcano0.0950.0040.099
print-ReactomeAnalysisRequest-method0.0010.0000.001
print-ReactomeAnalysisResult-method0.0900.0030.094
reactome_links-ReactomeAnalysisResult-method0.0910.0030.094
reactome_links0.0970.0060.121
result_types-ReactomeAnalysisResult-method0.0890.0040.097
result_types0.0900.0040.095
set_method-ReactomeAnalysisRequest-method0.0010.0010.002
set_method0.0000.0000.001
set_parameters-ReactomeAnalysisRequest-method0.0010.0010.001
set_parameters0.0010.0000.000
show-ReactomeAnalysisRequest-method000
show-ReactomeAnalysisResult-method0.0870.0040.092