Back to Multiple platform build/check report for BioC 3.22:   simplified   long
ABCDEFGHIJKLMNOPQ[R]STUVWXYZ

This page was generated on 2025-11-04 12:04 -0500 (Tue, 04 Nov 2025).

HostnameOSArch (*)R versionInstalled pkgs
nebbiolo2Linux (Ubuntu 24.04.3 LTS)x86_644.5.1 Patched (2025-08-23 r88802) -- "Great Square Root" 4902
lconwaymacOS 12.7.6 Montereyx86_644.5.1 Patched (2025-09-10 r88807) -- "Great Square Root" 4692
kjohnson3macOS 13.7.7 Venturaarm644.5.1 Patched (2025-09-10 r88807) -- "Great Square Root" 4638
Click on any hostname to see more info about the system (e.g. compilers)      (*) as reported by 'uname -p', except on Windows and Mac OS X

Package 1766/2361HostnameOS / ArchINSTALLBUILDCHECKBUILD BIN
REMP 1.34.0  (landing page)
Yinan Zheng
Snapshot Date: 2025-11-03 13:45 -0500 (Mon, 03 Nov 2025)
git_url: https://git.bioconductor.org/packages/REMP
git_branch: RELEASE_3_22
git_last_commit: 7f2a04f
git_last_commit_date: 2025-10-29 10:36:53 -0500 (Wed, 29 Oct 2025)
nebbiolo2Linux (Ubuntu 24.04.3 LTS) / x86_64  OK    OK    OK  UNNEEDED, same version is already published
lconwaymacOS 12.7.6 Monterey / x86_64  OK    OK    OK    OK  UNNEEDED, same version is already published
kjohnson3macOS 13.7.7 Ventura / arm64  OK    OK    OK    OK  UNNEEDED, same version is already published


CHECK results for REMP on lconway

To the developers/maintainers of the REMP package:
- Allow up to 24 hours (and sometimes 48 hours) for your latest push to git@git.bioconductor.org:packages/REMP.git to reflect on this report. See Troubleshooting Build Report for more information.
- Use the following Renviron settings to reproduce errors and warnings.
- If 'R CMD check' started to fail recently on the Linux builder(s) over a missing dependency, add the missing dependency to 'Suggests:' in your DESCRIPTION file. See Renviron.bioc for more information.

raw results


Summary

Package: REMP
Version: 1.34.0
Command: /Library/Frameworks/R.framework/Resources/bin/R CMD check --install=check:REMP.install-out.txt --library=/Library/Frameworks/R.framework/Resources/library --no-vignettes --timings REMP_1.34.0.tar.gz
StartedAt: 2025-11-03 23:41:28 -0500 (Mon, 03 Nov 2025)
EndedAt: 2025-11-03 23:50:20 -0500 (Mon, 03 Nov 2025)
EllapsedTime: 531.8 seconds
RetCode: 0
Status:   OK  
CheckDir: REMP.Rcheck
Warnings: 0

Command output

##############################################################################
##############################################################################
###
### Running command:
###
###   /Library/Frameworks/R.framework/Resources/bin/R CMD check --install=check:REMP.install-out.txt --library=/Library/Frameworks/R.framework/Resources/library --no-vignettes --timings REMP_1.34.0.tar.gz
###
##############################################################################
##############################################################################


* using log directory ‘/Users/biocbuild/bbs-3.22-bioc/meat/REMP.Rcheck’
* using R version 4.5.1 Patched (2025-09-10 r88807)
* using platform: x86_64-apple-darwin20
* R was compiled by
    Apple clang version 14.0.0 (clang-1400.0.29.202)
    GNU Fortran (GCC) 14.2.0
* running under: macOS Monterey 12.7.6
* using session charset: UTF-8
* using option ‘--no-vignettes’
* checking for file ‘REMP/DESCRIPTION’ ... OK
* checking extension type ... Package
* this is package ‘REMP’ version ‘1.34.0’
* package encoding: UTF-8
* checking package namespace information ... OK
* checking package dependencies ... OK
* checking if this is a source package ... OK
* checking if there is a namespace ... OK
* checking for hidden files and directories ... OK
* checking for portable file names ... OK
* checking for sufficient/correct file permissions ... OK
* checking whether package ‘REMP’ can be installed ... OK
* checking installed package size ... OK
* checking package directory ... OK
* checking ‘build’ directory ... OK
* checking DESCRIPTION meta-information ... OK
* checking top-level files ... OK
* checking for left-over files ... OK
* checking index information ... OK
* checking package subdirectories ... OK
* checking code files for non-ASCII characters ... OK
* checking R files for syntax errors ... OK
* checking whether the package can be loaded ... OK
* checking whether the package can be loaded with stated dependencies ... OK
* checking whether the package can be unloaded cleanly ... OK
* checking whether the namespace can be loaded with stated dependencies ... OK
* checking whether the namespace can be unloaded cleanly ... OK
* checking whether startup messages can be suppressed ... OK
* checking dependencies in R code ... NOTE
'library' or 'require' calls in package code:
  ‘IlluminaHumanMethylation450kanno.ilmn12.hg19’
  ‘IlluminaHumanMethylationEPICanno.ilm10b2.hg19’
  Please use :: or requireNamespace() instead.
  See section 'Suggested packages' in the 'Writing R Extensions' manual.
* checking S3 generic/method consistency ... OK
* checking replacement functions ... OK
* checking foreign function calls ... OK
* checking R code for possible problems ... NOTE
initREMP: no visible binding for global variable
  ‘IlluminaHumanMethylation450kanno.ilmn12.hg19’
initREMP: no visible binding for global variable
  ‘IlluminaHumanMethylationEPICanno.ilm10b2.hg19’
remprofile: no visible binding for global variable
  ‘IlluminaHumanMethylation450kanno.ilmn12.hg19’
remprofile: no visible binding for global variable
  ‘IlluminaHumanMethylationEPICanno.ilm10b2.hg19’
Undefined global functions or variables:
  IlluminaHumanMethylation450kanno.ilmn12.hg19
  IlluminaHumanMethylationEPICanno.ilm10b2.hg19
* checking Rd files ... OK
* checking Rd metadata ... OK
* checking Rd cross-references ... NOTE
Found the following Rd file(s) with Rd \link{} targets missing package
anchors:
  Alu.hg19.demo.Rd: GRanges
  Alu.hg38.demo.Rd: GRanges
  GRannot.Rd: GRanges, GRangesList
  REMProduct-class.Rd: BiocParallelParam, org.Hs.eg.db
  fetchRMSK.Rd: GRanges
  fetchRefSeqGene.Rd: GRangesList, GRanges
  findRECpG.Rd: GRanges, BiocParallel
  getBackend.Rd: BiocParallel
  getGM12878.Rd: GenomicRatioSet, RatioSet
  grooMethy.Rd: RatioSet, GenomicRatioSet, DataFrame, GRanges,
    impute.knn
  initREMP.Rd: GRanges, AnnotationHub, BiocParallelParam
  remp.Rd: RatioSet, GenomicRatioSet, DataFrame, GRanges,
    BiocParallelParam, ranger
  rempTemplate.Rd: RatioSet, GenomicRatioSet, DataFrame, GRanges
  remprofile.Rd: RatioSet, GenomicRatioSet, DataFrame, GRanges,
    AnnotationHub
Please provide package anchors for all Rd \link{} targets not in the
package itself and the base packages.
* checking for missing documentation entries ... OK
* checking for code/documentation mismatches ... OK
* checking Rd \usage sections ... OK
* checking Rd contents ... OK
* checking for unstated dependencies in examples ... OK
* checking contents of ‘data’ directory ... OK
* checking data for non-ASCII characters ... OK
* checking LazyData ... OK
* checking data for ASCII and uncompressed saves ... OK
* checking sizes of PDF files under ‘inst/doc’ ... OK
* checking files in ‘vignettes’ ... OK
* checking examples ... OK
Examples with CPU (user + system) or elapsed time > 5s
                  user system elapsed
remp            17.051  1.203  17.815
fetchRMSK       16.448  1.051  19.595
GRannot         11.798  0.837  13.082
remprofile      11.533  0.846  12.233
rempTemplate    10.123  0.937  14.939
initREMP         7.883  0.602   8.722
fetchRefSeqGene  6.273  0.541   7.041
getBackend       6.613  0.074   6.759
* checking for unstated dependencies in vignettes ... OK
* checking package vignettes ... OK
* checking running R code from vignettes ... SKIPPED
* checking re-building of vignette outputs ... SKIPPED
* checking PDF version of manual ... OK
* DONE

Status: 3 NOTEs
See
  ‘/Users/biocbuild/bbs-3.22-bioc/meat/REMP.Rcheck/00check.log’
for details.


Installation output

REMP.Rcheck/00install.out

##############################################################################
##############################################################################
###
### Running command:
###
###   /Library/Frameworks/R.framework/Resources/bin/R CMD INSTALL REMP
###
##############################################################################
##############################################################################


* installing to library ‘/Library/Frameworks/R.framework/Versions/4.5-x86_64/Resources/library’
* installing *source* package ‘REMP’ ...
** this is package ‘REMP’ version ‘1.34.0’
** using staged installation
** R
** data
*** moving datasets to lazyload DB
** inst
** byte-compile and prepare package for lazy loading
** help
*** installing help indices
** building package indices
** installing vignettes
** testing if installed package can be loaded from temporary location
** testing if installed package can be loaded from final location
** testing if installed package keeps a record of temporary installation path
* DONE (REMP)

Tests output


Example timings

REMP.Rcheck/REMP-Ex.timings

nameusersystemelapsed
GRannot11.798 0.83713.082
REMParcel-class0.0000.0010.001
REMProduct-class0.0010.0000.001
fetchRMSK16.448 1.05119.595
fetchRefSeqGene6.2730.5417.041
findRECpG0.9900.0791.086
getBackend6.6130.0746.759
getGM128781.7880.1301.935
grooMethy1.7560.3342.670
initREMP7.8830.6028.722
options0.0010.0010.002
remp17.051 1.20317.815
rempTemplate10.123 0.93714.939
remprofile11.533 0.84612.233