| Back to Multiple platform build/check report for BioC 3.21: simplified long |
|
This page was generated on 2025-04-22 13:18 -0400 (Tue, 22 Apr 2025).
| Hostname | OS | Arch (*) | R version | Installed pkgs |
|---|---|---|---|---|
| nebbiolo1 | Linux (Ubuntu 24.04.1 LTS) | x86_64 | 4.5.0 RC (2025-04-04 r88126) -- "How About a Twenty-Six" | 4831 |
| palomino7 | Windows Server 2022 Datacenter | x64 | 4.5.0 RC (2025-04-04 r88126 ucrt) -- "How About a Twenty-Six" | 4573 |
| lconway | macOS 12.7.1 Monterey | x86_64 | 4.5.0 RC (2025-04-04 r88126) -- "How About a Twenty-Six" | 4599 |
| kjohnson3 | macOS 13.7.1 Ventura | arm64 | 4.5.0 RC (2025-04-04 r88126) -- "How About a Twenty-Six" | 4553 |
| kunpeng2 | Linux (openEuler 24.03 LTS) | aarch64 | R Under development (unstable) (2025-02-19 r87757) -- "Unsuffered Consequences" | 4570 |
| Click on any hostname to see more info about the system (e.g. compilers) (*) as reported by 'uname -p', except on Windows and Mac OS X | ||||
| Package 1751/2341 | Hostname | OS / Arch | INSTALL | BUILD | CHECK | BUILD BIN | ||||||||
| REMP 1.32.0 (landing page) Yinan Zheng
| nebbiolo1 | Linux (Ubuntu 24.04.1 LTS) / x86_64 | OK | OK | OK | |||||||||
| palomino7 | Windows Server 2022 Datacenter / x64 | OK | OK | OK | OK | |||||||||
| lconway | macOS 12.7.1 Monterey / x86_64 | OK | OK | OK | OK | |||||||||
| kjohnson3 | macOS 13.7.1 Ventura / arm64 | OK | OK | OK | OK | |||||||||
| kunpeng2 | Linux (openEuler 24.03 LTS) / aarch64 | OK | ERROR | skipped | ||||||||||
|
To the developers/maintainers of the REMP package: - Allow up to 24 hours (and sometimes 48 hours) for your latest push to git@git.bioconductor.org:packages/REMP.git to reflect on this report. See Troubleshooting Build Report for more information. - Use the following Renviron settings to reproduce errors and warnings. - If 'R CMD check' started to fail recently on the Linux builder(s) over a missing dependency, add the missing dependency to 'Suggests:' in your DESCRIPTION file. See Renviron.bioc for more information. |
| Package: REMP |
| Version: 1.32.0 |
| Command: /Library/Frameworks/R.framework/Resources/bin/R CMD check --install=check:REMP.install-out.txt --library=/Library/Frameworks/R.framework/Resources/library --no-vignettes --timings REMP_1.32.0.tar.gz |
| StartedAt: 2025-04-21 21:10:56 -0400 (Mon, 21 Apr 2025) |
| EndedAt: 2025-04-21 21:14:14 -0400 (Mon, 21 Apr 2025) |
| EllapsedTime: 198.4 seconds |
| RetCode: 0 |
| Status: OK |
| CheckDir: REMP.Rcheck |
| Warnings: 0 |
##############################################################################
##############################################################################
###
### Running command:
###
### /Library/Frameworks/R.framework/Resources/bin/R CMD check --install=check:REMP.install-out.txt --library=/Library/Frameworks/R.framework/Resources/library --no-vignettes --timings REMP_1.32.0.tar.gz
###
##############################################################################
##############################################################################
* using log directory ‘/Users/biocbuild/bbs-3.21-bioc/meat/REMP.Rcheck’
* using R version 4.5.0 RC (2025-04-04 r88126)
* using platform: aarch64-apple-darwin20
* R was compiled by
Apple clang version 14.0.0 (clang-1400.0.29.202)
GNU Fortran (GCC) 14.2.0
* running under: macOS Ventura 13.7.1
* using session charset: UTF-8
* using option ‘--no-vignettes’
* checking for file ‘REMP/DESCRIPTION’ ... OK
* checking extension type ... Package
* this is package ‘REMP’ version ‘1.32.0’
* package encoding: UTF-8
* checking package namespace information ... OK
* checking package dependencies ... OK
* checking if this is a source package ... OK
* checking if there is a namespace ... OK
* checking for hidden files and directories ... OK
* checking for portable file names ... OK
* checking for sufficient/correct file permissions ... OK
* checking whether package ‘REMP’ can be installed ... OK
* checking installed package size ... OK
* checking package directory ... OK
* checking ‘build’ directory ... OK
* checking DESCRIPTION meta-information ... OK
* checking top-level files ... OK
* checking for left-over files ... OK
* checking index information ... OK
* checking package subdirectories ... OK
* checking code files for non-ASCII characters ... OK
* checking R files for syntax errors ... OK
* checking whether the package can be loaded ... OK
* checking whether the package can be loaded with stated dependencies ... OK
* checking whether the package can be unloaded cleanly ... OK
* checking whether the namespace can be loaded with stated dependencies ... OK
* checking whether the namespace can be unloaded cleanly ... OK
* checking whether startup messages can be suppressed ... OK
* checking dependencies in R code ... NOTE
'library' or 'require' calls in package code:
‘IlluminaHumanMethylation450kanno.ilmn12.hg19’
‘IlluminaHumanMethylationEPICanno.ilm10b2.hg19’
Please use :: or requireNamespace() instead.
See section 'Suggested packages' in the 'Writing R Extensions' manual.
* checking S3 generic/method consistency ... OK
* checking replacement functions ... OK
* checking foreign function calls ... OK
* checking R code for possible problems ... NOTE
initREMP: no visible binding for global variable
‘IlluminaHumanMethylation450kanno.ilmn12.hg19’
initREMP: no visible binding for global variable
‘IlluminaHumanMethylationEPICanno.ilm10b2.hg19’
remprofile: no visible binding for global variable
‘IlluminaHumanMethylation450kanno.ilmn12.hg19’
remprofile: no visible binding for global variable
‘IlluminaHumanMethylationEPICanno.ilm10b2.hg19’
Undefined global functions or variables:
IlluminaHumanMethylation450kanno.ilmn12.hg19
IlluminaHumanMethylationEPICanno.ilm10b2.hg19
* checking Rd files ... OK
* checking Rd metadata ... OK
* checking Rd cross-references ... NOTE
Found the following Rd file(s) with Rd \link{} targets missing package
anchors:
Alu.hg19.demo.Rd: GRanges
Alu.hg38.demo.Rd: GRanges
GRannot.Rd: GRanges, GRangesList
REMProduct-class.Rd: BiocParallelParam, org.Hs.eg.db
fetchRMSK.Rd: GRanges
fetchRefSeqGene.Rd: GRangesList, GRanges
findRECpG.Rd: GRanges, BiocParallel
getBackend.Rd: BiocParallel
getGM12878.Rd: GenomicRatioSet, RatioSet
grooMethy.Rd: RatioSet, GenomicRatioSet, DataFrame, GRanges,
impute.knn
initREMP.Rd: GRanges, AnnotationHub, BiocParallelParam
remp.Rd: RatioSet, GenomicRatioSet, DataFrame, GRanges,
BiocParallelParam, ranger
rempTemplate.Rd: RatioSet, GenomicRatioSet, DataFrame, GRanges
remprofile.Rd: RatioSet, GenomicRatioSet, DataFrame, GRanges,
AnnotationHub
Please provide package anchors for all Rd \link{} targets not in the
package itself and the base packages.
* checking for missing documentation entries ... OK
* checking for code/documentation mismatches ... OK
* checking Rd \usage sections ... OK
* checking Rd contents ... OK
* checking for unstated dependencies in examples ... OK
* checking contents of ‘data’ directory ... OK
* checking data for non-ASCII characters ... OK
* checking LazyData ... OK
* checking data for ASCII and uncompressed saves ... OK
* checking sizes of PDF files under ‘inst/doc’ ... OK
* checking files in ‘vignettes’ ... OK
* checking examples ... OK
Examples with CPU (user + system) or elapsed time > 5s
user system elapsed
fetchRMSK 7.402 0.359 11.658
remp 6.221 0.447 6.625
GRannot 4.126 0.283 5.185
* checking for unstated dependencies in vignettes ... OK
* checking package vignettes ... OK
* checking running R code from vignettes ... SKIPPED
* checking re-building of vignette outputs ... SKIPPED
* checking PDF version of manual ... OK
* DONE
Status: 3 NOTEs
See
‘/Users/biocbuild/bbs-3.21-bioc/meat/REMP.Rcheck/00check.log’
for details.
REMP.Rcheck/00install.out
############################################################################## ############################################################################## ### ### Running command: ### ### /Library/Frameworks/R.framework/Resources/bin/R CMD INSTALL REMP ### ############################################################################## ############################################################################## * installing to library ‘/Library/Frameworks/R.framework/Versions/4.5-arm64/Resources/library’ * installing *source* package ‘REMP’ ... ** this is package ‘REMP’ version ‘1.32.0’ ** using staged installation ** R ** data *** moving datasets to lazyload DB ** inst ** byte-compile and prepare package for lazy loading ** help *** installing help indices ** building package indices ** installing vignettes ** testing if installed package can be loaded from temporary location ** testing if installed package can be loaded from final location ** testing if installed package keeps a record of temporary installation path * DONE (REMP)
REMP.Rcheck/REMP-Ex.timings
| name | user | system | elapsed | |
| GRannot | 4.126 | 0.283 | 5.185 | |
| REMParcel-class | 0 | 0 | 0 | |
| REMProduct-class | 0.001 | 0.000 | 0.001 | |
| fetchRMSK | 7.402 | 0.359 | 11.658 | |
| fetchRefSeqGene | 2.186 | 0.177 | 2.577 | |
| findRECpG | 0.363 | 0.059 | 0.423 | |
| getBackend | 3.462 | 0.038 | 3.513 | |
| getGM12878 | 0.993 | 0.041 | 1.048 | |
| grooMethy | 0.760 | 0.107 | 1.757 | |
| initREMP | 2.846 | 0.248 | 3.292 | |
| options | 0.001 | 0.000 | 0.001 | |
| remp | 6.221 | 0.447 | 6.625 | |
| rempTemplate | 3.436 | 0.382 | 3.912 | |
| remprofile | 3.432 | 0.375 | 3.868 | |