Back to Multiple platform build/check report for BioC 3.22:   simplified   long
ABCDEFGHIJKLMNOPQ[R]STUVWXYZ

This page was generated on 2025-11-24 12:06 -0500 (Mon, 24 Nov 2025).

HostnameOSArch (*)R versionInstalled pkgs
nebbiolo2Linux (Ubuntu 24.04.3 LTS)x86_644.5.2 (2025-10-31) -- "[Not] Part in a Rumble" 4873
merida1macOS 12.7.6 Montereyx86_644.5.2 Patched (2025-11-05 r88990) -- "[Not] Part in a Rumble" 4654
kjohnson1macOS 13.7.5 Venturaarm644.5.2 Patched (2025-11-04 r88984) -- "[Not] Part in a Rumble" 4600
taishanLinux (openEuler 24.03 LTS)aarch644.5.0 (2025-04-11) -- "How About a Twenty-Six" 4668
Click on any hostname to see more info about the system (e.g. compilers)      (*) as reported by 'uname -p', except on Windows and Mac OS X

Package 1737/2361HostnameOS / ArchINSTALLBUILDCHECKBUILD BIN
RCX 1.14.0  (landing page)
Florian Auer
Snapshot Date: 2025-11-20 15:01 -0500 (Thu, 20 Nov 2025)
git_url: https://git.bioconductor.org/packages/RCX
git_branch: RELEASE_3_22
git_last_commit: 6ce2c95
git_last_commit_date: 2025-10-29 11:14:31 -0500 (Wed, 29 Oct 2025)
nebbiolo2Linux (Ubuntu 24.04.3 LTS) / x86_64  OK    OK    OK  UNNEEDED, same version is already published
merida1macOS 12.7.6 Monterey / x86_64  OK    OK    OK    OK  UNNEEDED, same version is already published
kjohnson1macOS 13.7.5 Ventura / arm64  OK    OK    OK    OK  UNNEEDED, same version is already published
taishanLinux (openEuler 24.03 LTS) / aarch64  OK    OK    OK  


CHECK results for RCX on kjohnson1

To the developers/maintainers of the RCX package:
- Allow up to 24 hours (and sometimes 48 hours) for your latest push to git@git.bioconductor.org:packages/RCX.git to reflect on this report. See Troubleshooting Build Report for more information.
- Use the following Renviron settings to reproduce errors and warnings.
- If 'R CMD check' started to fail recently on the Linux builder(s) over a missing dependency, add the missing dependency to 'Suggests:' in your DESCRIPTION file. See Renviron.bioc for more information.

raw results


Summary

Package: RCX
Version: 1.14.0
Command: /Library/Frameworks/R.framework/Resources/bin/R CMD check --install=check:RCX.install-out.txt --library=/Library/Frameworks/R.framework/Resources/library --no-vignettes --timings RCX_1.14.0.tar.gz
StartedAt: 2025-11-22 19:42:05 -0500 (Sat, 22 Nov 2025)
EndedAt: 2025-11-22 19:43:25 -0500 (Sat, 22 Nov 2025)
EllapsedTime: 79.5 seconds
RetCode: 0
Status:   OK  
CheckDir: RCX.Rcheck
Warnings: 0

Command output

##############################################################################
##############################################################################
###
### Running command:
###
###   /Library/Frameworks/R.framework/Resources/bin/R CMD check --install=check:RCX.install-out.txt --library=/Library/Frameworks/R.framework/Resources/library --no-vignettes --timings RCX_1.14.0.tar.gz
###
##############################################################################
##############################################################################


* using log directory ‘/Users/biocbuild/bbs-3.22-bioc/meat/RCX.Rcheck’
* using R version 4.5.2 Patched (2025-11-04 r88984)
* using platform: aarch64-apple-darwin20
* R was compiled by
    Apple clang version 16.0.0 (clang-1600.0.26.6)
    GNU Fortran (GCC) 14.2.0
* running under: macOS Ventura 13.7.8
* using session charset: UTF-8
* using option ‘--no-vignettes’
* checking for file ‘RCX/DESCRIPTION’ ... OK
* checking extension type ... Package
* this is package ‘RCX’ version ‘1.14.0’
* package encoding: UTF-8
* checking package namespace information ... OK
* checking package dependencies ... OK
* checking if this is a source package ... OK
* checking if there is a namespace ... OK
* checking for hidden files and directories ... OK
* checking for portable file names ... OK
* checking for sufficient/correct file permissions ... OK
* checking whether package ‘RCX’ can be installed ... OK
* checking installed package size ... OK
* checking package directory ... OK
* checking ‘build’ directory ... OK
* checking DESCRIPTION meta-information ... NOTE
License stub is invalid DCF.
* checking top-level files ... OK
* checking for left-over files ... OK
* checking index information ... OK
* checking package subdirectories ... NOTE
Problems with news in ‘NEWS.md’:
No news entries found.
* checking code files for non-ASCII characters ... OK
* checking R files for syntax errors ... OK
* checking whether the package can be loaded ... OK
* checking whether the package can be loaded with stated dependencies ... OK
* checking whether the package can be unloaded cleanly ... OK
* checking whether the namespace can be loaded with stated dependencies ... OK
* checking whether the namespace can be unloaded cleanly ... OK
* checking whether startup messages can be suppressed ... OK
* checking dependencies in R code ... OK
* checking S3 generic/method consistency ... OK
* checking replacement functions ... OK
* checking foreign function calls ... OK
* checking R code for possible problems ... OK
* checking Rd files ... OK
* checking Rd metadata ... OK
* checking Rd cross-references ... NOTE
Non-topic package-anchored link(s) in Rd file 'Igraph.Rd':
  ‘[igraph:aaa-igraph-package]{igraph}’

See section 'Cross-references' in the 'Writing R Extensions' manual.

Found the following Rd file(s) with Rd \link{} targets missing package
anchors:
  jsonToRCX.Rd: jsonlite
  readCX.Rd: jsonlite
Please provide package anchors for all Rd \link{} targets not in the
package itself and the base packages.
* checking for missing documentation entries ... OK
* checking for code/documentation mismatches ... OK
* checking Rd \usage sections ... NOTE
Documented arguments not in \usage in Rd file 'dot-format.Rd':
  ‘.log’

Functions with \usage entries need to have the appropriate \alias
entries, and all their arguments documented.
The \usage entries must correspond to syntactically valid R code.
See chapter ‘Writing R documentation files’ in the ‘Writing R
Extensions’ manual.
* checking Rd contents ... OK
* checking for unstated dependencies in examples ... OK
* checking R/sysdata.rda ... OK
* checking files in ‘vignettes’ ... OK
* checking examples ... OK
* checking for unstated dependencies in ‘tests’ ... OK
* checking tests ...
  Running ‘testthat.R’
 OK
* checking for unstated dependencies in vignettes ... OK
* checking package vignettes ... OK
* checking running R code from vignettes ... SKIPPED
* checking re-building of vignette outputs ... SKIPPED
* checking PDF version of manual ... OK
* DONE

Status: 4 NOTEs
See
  ‘/Users/biocbuild/bbs-3.22-bioc/meat/RCX.Rcheck/00check.log’
for details.


Installation output

RCX.Rcheck/00install.out

##############################################################################
##############################################################################
###
### Running command:
###
###   /Library/Frameworks/R.framework/Resources/bin/R CMD INSTALL RCX
###
##############################################################################
##############################################################################


* installing to library ‘/Library/Frameworks/R.framework/Versions/4.5-arm64/Resources/library’
* installing *source* package ‘RCX’ ...
** this is package ‘RCX’ version ‘1.14.0’
** using staged installation
** R
** inst
** byte-compile and prepare package for lazy loading
** help
*** installing help indices
** building package indices
** installing vignettes
** testing if installed package can be loaded from temporary location
** testing if installed package can be loaded from final location
** testing if installed package keeps a record of temporary installation path
* DONE (RCX)

Tests output

RCX.Rcheck/tests/testthat.Rout


R version 4.5.2 Patched (2025-11-04 r88984) -- "[Not] Part in a Rumble"
Copyright (C) 2025 The R Foundation for Statistical Computing
Platform: aarch64-apple-darwin20

R is free software and comes with ABSOLUTELY NO WARRANTY.
You are welcome to redistribute it under certain conditions.
Type 'license()' or 'licence()' for distribution details.

R is a collaborative project with many contributors.
Type 'contributors()' for more information and
'citation()' on how to cite R or R packages in publications.

Type 'demo()' for some demos, 'help()' for on-line help, or
'help.start()' for an HTML browser interface to help.
Type 'q()' to quit R.

> library(testthat)
> library(RCX)
> 
> test_check("RCX")
[ FAIL 0 | WARN 0 | SKIP 0 | PASS 60 ]
> 
> proc.time()
   user  system elapsed 
  2.764   0.154   3.971 

Example timings

RCX.Rcheck/RCX-Ex.timings

nameusersystemelapsed
CartesianLayout0.0040.0010.005
Convert-Names-and-Classes0.0010.0010.003
CyGroups0.0060.0010.018
CyHiddenAttributes0.1340.0070.214
CyNetworkRelations0.0020.0000.001
CySubNetworks0.0060.0000.006
CyTableColumn0.0040.0000.005
CyVisualProperties0.0170.0010.035
CyVisualProperty0.0110.0010.016
CyVisualPropertyDependencies0.0050.0010.014
CyVisualPropertyMappings0.0030.0010.004
CyVisualPropertyProperties0.0030.0000.005
EdgeAttributes0.0190.0010.024
Edges0.0010.0010.002
Igraph2.6880.0483.766
Meta-data0.0260.0020.033
NetworkAttributes0.0120.0020.024
NodeAttributes0.0190.0010.023
Nodes0.0010.0000.002
RCX-object0.2140.0030.305
aspectClasses0.0010.0000.002
checks000
convert-data-types-and-values0.0010.0010.002
convert2json000
countElements0.0070.0010.008
custom-print0.0050.0000.005
dot-addAspectNameToJson0.0000.0000.001
dot-addAttributeData0.0010.0000.001
dot-aspectClass0.0000.0010.001
dot-convertRawList0.0010.0000.001
dot-createAttributeAspect0.0000.0010.001
dot-createCyVpPorD0.0010.0000.001
dot-filterBy0.0000.0010.001
dot-format000
dot-infer000
dot-json2RDataType0.0010.0000.000
dot-jsonL000
dot-jsonV0.0000.0000.001
dot-log0.0000.0000.001
dot-mergeAttributesAspect000
dot-mergeIdAspect0.0010.0000.000
dot-modClass000
dot-pasteC000
dot-renameDF0.0020.0000.055
dot-stop0.0000.0000.001
dot-summaryAspect0.0020.0000.002
dot-transformListLength-set0.0030.0010.010
dot-transformVLD0.0040.0010.005
getCyVisualProperty0.0100.0010.024
graphNEL2.9230.0364.180
hasIds0.0010.0000.001
idProperty000
jsonToRCX0.0020.0000.003
markAttributeColumn0.0020.0010.006
markRefColumn0.0010.0000.002
maxId0.0010.0000.001
rcxToJson0.0020.0000.006
readCX0.7260.0081.155
referredBy0.0090.0000.009
refersTo0.0010.0000.001
setExtension000
summary0.0110.0010.012
toCX0.0110.0010.012
updateCartesianLayout0.0480.0020.078
updateCyGroups0.0290.0020.041
updateCyHiddenAttributes0.0450.0020.061
updateCyNetworkRelations0.0390.0020.055
updateCySubNetworks0.0300.0010.035
updateCyTableColumn0.0500.0020.092
updateCyVisualProperties0.2380.0100.355
updateCyVisualProperty0.0700.0050.112
updateEdgeAttributes0.0500.0020.073
updateEdges0.0240.0010.030
updateMetaDataProperties0.0190.0010.021
updateNetworkAttributes0.0520.0020.073
updateNodeAttributes0.0650.0030.110
updateNodes0.0140.0010.015
validate0.2820.0090.449
visualize0.0070.0000.008
writeCX000
writeHTML0.0630.0340.119