Back to Multiple platform build/check report for BioC 3.20:   simplified   long
ABCDEFGHIJKLMNOPQ[R]STUVWXYZ

This page was generated on 2025-02-03 12:12 -0500 (Mon, 03 Feb 2025).

HostnameOSArch (*)R versionInstalled pkgs
nebbiolo2Linux (Ubuntu 24.04.1 LTS)x86_644.4.2 (2024-10-31) -- "Pile of Leaves" 4746
palomino8Windows Server 2022 Datacenterx644.4.2 (2024-10-31 ucrt) -- "Pile of Leaves" 4494
merida1macOS 12.7.5 Montereyx86_644.4.2 (2024-10-31) -- "Pile of Leaves" 4517
kjohnson1macOS 13.6.6 Venturaarm644.4.2 (2024-10-31) -- "Pile of Leaves" 4469
taishanLinux (openEuler 24.03 LTS)aarch644.4.2 (2024-10-31) -- "Pile of Leaves" 4400
Click on any hostname to see more info about the system (e.g. compilers)      (*) as reported by 'uname -p', except on Windows and Mac OS X

Package 1690/2289HostnameOS / ArchINSTALLBUILDCHECKBUILD BIN
RCX 1.10.0  (landing page)
Florian Auer
Snapshot Date: 2025-01-30 13:00 -0500 (Thu, 30 Jan 2025)
git_url: https://git.bioconductor.org/packages/RCX
git_branch: RELEASE_3_20
git_last_commit: df064cb
git_last_commit_date: 2024-10-29 11:07:45 -0500 (Tue, 29 Oct 2024)
nebbiolo2Linux (Ubuntu 24.04.1 LTS) / x86_64  OK    OK    OK  UNNEEDED, same version is already published
palomino8Windows Server 2022 Datacenter / x64  OK    OK    OK    OK  UNNEEDED, same version is already published
merida1macOS 12.7.5 Monterey / x86_64  OK    OK    OK    OK  UNNEEDED, same version is already published
kjohnson1macOS 13.6.6 Ventura / arm64  OK    OK    OK    OK  UNNEEDED, same version is already published
taishanLinux (openEuler 24.03 LTS) / aarch64  OK    OK    OK  


CHECK results for RCX on taishan

To the developers/maintainers of the RCX package:
- Allow up to 24 hours (and sometimes 48 hours) for your latest push to git@git.bioconductor.org:packages/RCX.git to reflect on this report. See Troubleshooting Build Report for more information.
- Use the following Renviron settings to reproduce errors and warnings.
- If 'R CMD check' started to fail recently on the Linux builder(s) over a missing dependency, add the missing dependency to 'Suggests:' in your DESCRIPTION file. See Renviron.bioc for more information.
- See Martin Grigorov's blog post for how to debug Linux ARM64 related issues on a x86_64 host.

raw results


Summary

Package: RCX
Version: 1.10.0
Command: /home/biocbuild/R/R/bin/R CMD check --install=check:RCX.install-out.txt --library=/home/biocbuild/R/R/site-library --no-vignettes --timings RCX_1.10.0.tar.gz
StartedAt: 2025-01-31 09:32:54 -0000 (Fri, 31 Jan 2025)
EndedAt: 2025-01-31 09:33:45 -0000 (Fri, 31 Jan 2025)
EllapsedTime: 51.1 seconds
RetCode: 0
Status:   OK  
CheckDir: RCX.Rcheck
Warnings: 0

Command output

##############################################################################
##############################################################################
###
### Running command:
###
###   /home/biocbuild/R/R/bin/R CMD check --install=check:RCX.install-out.txt --library=/home/biocbuild/R/R/site-library --no-vignettes --timings RCX_1.10.0.tar.gz
###
##############################################################################
##############################################################################


* using log directory ‘/home/biocbuild/bbs-3.20-bioc/meat/RCX.Rcheck’
* using R version 4.4.2 (2024-10-31)
* using platform: aarch64-unknown-linux-gnu
* R was compiled by
    aarch64-unknown-linux-gnu-gcc (GCC) 14.2.0
    GNU Fortran (GCC) 12.3.1 (openEuler 12.3.1-36.oe2403)
* running under: openEuler 24.03 (LTS)
* using session charset: UTF-8
* using option ‘--no-vignettes’
* checking for file ‘RCX/DESCRIPTION’ ... OK
* checking extension type ... Package
* this is package ‘RCX’ version ‘1.10.0’
* package encoding: UTF-8
* checking package namespace information ... OK
* checking package dependencies ... OK
* checking if this is a source package ... OK
* checking if there is a namespace ... OK
* checking for hidden files and directories ... OK
* checking for portable file names ... OK
* checking for sufficient/correct file permissions ... OK
* checking whether package ‘RCX’ can be installed ... OK
* checking installed package size ... OK
* checking package directory ... OK
* checking ‘build’ directory ... OK
* checking DESCRIPTION meta-information ... NOTE
License stub is invalid DCF.
* checking top-level files ... OK
* checking for left-over files ... OK
* checking index information ... OK
* checking package subdirectories ... NOTE
Problems with news in ‘NEWS.md’:
No news entries found.
* checking code files for non-ASCII characters ... OK
* checking R files for syntax errors ... OK
* checking whether the package can be loaded ... OK
* checking whether the package can be loaded with stated dependencies ... OK
* checking whether the package can be unloaded cleanly ... OK
* checking whether the namespace can be loaded with stated dependencies ... OK
* checking whether the namespace can be unloaded cleanly ... OK
* checking loading without being on the library search path ... OK
* checking whether startup messages can be suppressed ... OK
* checking dependencies in R code ... OK
* checking S3 generic/method consistency ... OK
* checking replacement functions ... OK
* checking foreign function calls ... OK
* checking R code for possible problems ... OK
* checking Rd files ... OK
* checking Rd metadata ... OK
* checking Rd cross-references ... OK
* checking for missing documentation entries ... OK
* checking for code/documentation mismatches ... OK
* checking Rd \usage sections ... NOTE
Documented arguments not in \usage in Rd file 'dot-format.Rd':
  ‘.log’

Functions with \usage entries need to have the appropriate \alias
entries, and all their arguments documented.
The \usage entries must correspond to syntactically valid R code.
See chapter ‘Writing R documentation files’ in the ‘Writing R
Extensions’ manual.
* checking Rd contents ... OK
* checking for unstated dependencies in examples ... OK
* checking R/sysdata.rda ... OK
* checking files in ‘vignettes’ ... OK
* checking examples ... OK
* checking for unstated dependencies in ‘tests’ ... OK
* checking tests ...
  Running ‘testthat.R’
 OK
* checking for unstated dependencies in vignettes ... OK
* checking package vignettes ... OK
* checking running R code from vignettes ... SKIPPED
* checking re-building of vignette outputs ... SKIPPED
* checking PDF version of manual ... OK
* DONE

Status: 3 NOTEs
See
  ‘/home/biocbuild/bbs-3.20-bioc/meat/RCX.Rcheck/00check.log’
for details.


Installation output

RCX.Rcheck/00install.out

##############################################################################
##############################################################################
###
### Running command:
###
###   /home/biocbuild/R/R/bin/R CMD INSTALL RCX
###
##############################################################################
##############################################################################


* installing to library ‘/home/biocbuild/R/R-4.4.2/site-library’
* installing *source* package ‘RCX’ ...
** using staged installation
** R
** inst
** byte-compile and prepare package for lazy loading
** help
*** installing help indices
** building package indices
** installing vignettes
** testing if installed package can be loaded from temporary location
** testing if installed package can be loaded from final location
** testing if installed package keeps a record of temporary installation path
* DONE (RCX)

Tests output

RCX.Rcheck/tests/testthat.Rout


R version 4.4.2 (2024-10-31) -- "Pile of Leaves"
Copyright (C) 2024 The R Foundation for Statistical Computing
Platform: aarch64-unknown-linux-gnu

R is free software and comes with ABSOLUTELY NO WARRANTY.
You are welcome to redistribute it under certain conditions.
Type 'license()' or 'licence()' for distribution details.

R is a collaborative project with many contributors.
Type 'contributors()' for more information and
'citation()' on how to cite R or R packages in publications.

Type 'demo()' for some demos, 'help()' for on-line help, or
'help.start()' for an HTML browser interface to help.
Type 'q()' to quit R.

> library(testthat)
> library(RCX)
> 
> test_check("RCX")
[ FAIL 0 | WARN 0 | SKIP 0 | PASS 60 ]
> 
> proc.time()
   user  system elapsed 
  3.248   0.196   3.445 

Example timings

RCX.Rcheck/RCX-Ex.timings

nameusersystemelapsed
CartesianLayout0.0050.0000.005
Convert-Names-and-Classes000
CyGroups0.0050.0000.006
CyHiddenAttributes0.1460.0000.148
CyNetworkRelations0.0020.0000.002
CySubNetworks0.0030.0000.003
CyTableColumn0.0070.0000.006
CyVisualProperties0.0150.0040.018
CyVisualProperty0.0130.0000.014
CyVisualPropertyDependencies0.0040.0000.004
CyVisualPropertyMappings0.0080.0000.008
CyVisualPropertyProperties0.0040.0000.004
EdgeAttributes0.0190.0000.020
Edges0.0020.0000.002
Igraph3.4160.1033.532
Meta-data0.0360.0000.036
NetworkAttributes0.0160.0040.021
NodeAttributes0.0200.0000.021
Nodes0.0020.0000.002
RCX-object0.3180.0040.322
aspectClasses0.0010.0000.001
checks000
convert-data-types-and-values0.0020.0000.001
convert2json0.0010.0000.000
countElements0.0110.0000.011
custom-print0.0070.0000.008
dot-addAspectNameToJson000
dot-addAttributeData000
dot-aspectClass0.0000.0000.001
dot-convertRawList0.0000.0000.001
dot-createAttributeAspect000
dot-createCyVpPorD000
dot-filterBy0.0000.0000.001
dot-format000
dot-infer000
dot-json2RDataType0.0000.0000.001
dot-jsonL0.0000.0000.001
dot-jsonV0.0010.0010.001
dot-log000
dot-mergeAttributesAspect000
dot-mergeIdAspect000
dot-modClass0.0000.0010.001
dot-pasteC000
dot-renameDF0.0020.0000.002
dot-stop000
dot-summaryAspect0.0030.0000.002
dot-transformListLength-set0.0010.0030.003
dot-transformVLD0.0050.0010.007
getCyVisualProperty0.0120.0000.012
graphNEL3.8150.0643.890
hasIds0.0010.0000.001
idProperty0.0010.0000.001
jsonToRCX0.0030.0000.003
markAttributeColumn0.0010.0000.001
markRefColumn0.0010.0000.001
maxId0.0010.0000.001
rcxToJson0.0030.0000.003
readCX0.8420.0120.855
referredBy0.0110.0000.011
refersTo0.0000.0000.001
setExtension000
summary0.0140.0000.015
toCX0.0140.0000.014
updateCartesianLayout0.0580.0000.058
updateCyGroups0.0440.0000.044
updateCyHiddenAttributes0.0630.0080.071
updateCyNetworkRelations0.0500.0000.051
updateCySubNetworks0.0360.0000.037
updateCyTableColumn0.0630.0000.063
updateCyVisualProperties0.3340.0040.339
updateCyVisualProperty0.0840.0080.092
updateEdgeAttributes0.0820.0000.083
updateEdges0.0300.0000.029
updateMetaDataProperties0.0270.0000.027
updateNetworkAttributes0.0630.0000.064
updateNodeAttributes0.0870.0000.088
updateNodes0.020.000.02
validate0.3700.0000.371
visualize0.0120.0000.012
writeCX000
writeHTML0.0780.0120.098