Back to Multiple platform build/check report for BioC 3.22:   simplified   long
ABCDEFGHIJKLMNOPQ[R]STUVWXYZ

This page was generated on 2025-11-24 12:06 -0500 (Mon, 24 Nov 2025).

HostnameOSArch (*)R versionInstalled pkgs
nebbiolo2Linux (Ubuntu 24.04.3 LTS)x86_644.5.2 (2025-10-31) -- "[Not] Part in a Rumble" 4873
merida1macOS 12.7.6 Montereyx86_644.5.2 Patched (2025-11-05 r88990) -- "[Not] Part in a Rumble" 4654
kjohnson1macOS 13.7.5 Venturaarm644.5.2 Patched (2025-11-04 r88984) -- "[Not] Part in a Rumble" 4600
taishanLinux (openEuler 24.03 LTS)aarch644.5.0 (2025-04-11) -- "How About a Twenty-Six" 4668
Click on any hostname to see more info about the system (e.g. compilers)      (*) as reported by 'uname -p', except on Windows and Mac OS X

Package 1702/2361HostnameOS / ArchINSTALLBUILDCHECKBUILD BIN
RAIDS 1.8.0  (landing page)
Pascal Belleau
Snapshot Date: 2025-11-20 15:01 -0500 (Thu, 20 Nov 2025)
git_url: https://git.bioconductor.org/packages/RAIDS
git_branch: RELEASE_3_22
git_last_commit: 4c9a678
git_last_commit_date: 2025-10-29 11:25:36 -0500 (Wed, 29 Oct 2025)
nebbiolo2Linux (Ubuntu 24.04.3 LTS) / x86_64  OK    OK    OK  UNNEEDED, same version is already published
merida1macOS 12.7.6 Monterey / x86_64  OK    OK    OK    OK  UNNEEDED, same version is already published
kjohnson1macOS 13.7.5 Ventura / arm64  OK    OK    OK    OK  UNNEEDED, same version is already published
taishanLinux (openEuler 24.03 LTS) / aarch64  OK    OK    OK  


CHECK results for RAIDS on kjohnson1

To the developers/maintainers of the RAIDS package:
- Allow up to 24 hours (and sometimes 48 hours) for your latest push to git@git.bioconductor.org:packages/RAIDS.git to reflect on this report. See Troubleshooting Build Report for more information.
- Use the following Renviron settings to reproduce errors and warnings.
- If 'R CMD check' started to fail recently on the Linux builder(s) over a missing dependency, add the missing dependency to 'Suggests:' in your DESCRIPTION file. See Renviron.bioc for more information.

raw results


Summary

Package: RAIDS
Version: 1.8.0
Command: /Library/Frameworks/R.framework/Resources/bin/R CMD check --install=check:RAIDS.install-out.txt --library=/Library/Frameworks/R.framework/Resources/library --no-vignettes --timings RAIDS_1.8.0.tar.gz
StartedAt: 2025-11-22 19:20:00 -0500 (Sat, 22 Nov 2025)
EndedAt: 2025-11-22 19:32:43 -0500 (Sat, 22 Nov 2025)
EllapsedTime: 763.2 seconds
RetCode: 0
Status:   OK  
CheckDir: RAIDS.Rcheck
Warnings: 0

Command output

##############################################################################
##############################################################################
###
### Running command:
###
###   /Library/Frameworks/R.framework/Resources/bin/R CMD check --install=check:RAIDS.install-out.txt --library=/Library/Frameworks/R.framework/Resources/library --no-vignettes --timings RAIDS_1.8.0.tar.gz
###
##############################################################################
##############################################################################


* using log directory ‘/Users/biocbuild/bbs-3.22-bioc/meat/RAIDS.Rcheck’
* using R version 4.5.2 Patched (2025-11-04 r88984)
* using platform: aarch64-apple-darwin20
* R was compiled by
    Apple clang version 16.0.0 (clang-1600.0.26.6)
    GNU Fortran (GCC) 14.2.0
* running under: macOS Ventura 13.7.8
* using session charset: UTF-8
* using option ‘--no-vignettes’
* checking for file ‘RAIDS/DESCRIPTION’ ... OK
* checking extension type ... Package
* this is package ‘RAIDS’ version ‘1.8.0’
* package encoding: UTF-8
* checking package namespace information ... OK
* checking package dependencies ... OK
* checking if this is a source package ... OK
* checking if there is a namespace ... OK
* checking for hidden files and directories ... OK
* checking for portable file names ... OK
* checking for sufficient/correct file permissions ... OK
* checking whether package ‘RAIDS’ can be installed ... OK
* checking installed package size ... OK
* checking package directory ... OK
* checking ‘build’ directory ... OK
* checking DESCRIPTION meta-information ... OK
* checking top-level files ... OK
* checking for left-over files ... OK
* checking index information ... OK
* checking package subdirectories ... OK
* checking code files for non-ASCII characters ... OK
* checking R files for syntax errors ... OK
* checking whether the package can be loaded ... OK
* checking whether the package can be loaded with stated dependencies ... OK
* checking whether the package can be unloaded cleanly ... OK
* checking whether the namespace can be loaded with stated dependencies ... OK
* checking whether the namespace can be unloaded cleanly ... OK
* checking dependencies in R code ... OK
* checking S3 generic/method consistency ... OK
* checking replacement functions ... OK
* checking foreign function calls ... OK
* checking R code for possible problems ... OK
* checking Rd files ... OK
* checking Rd metadata ... OK
* checking Rd cross-references ... OK
* checking for missing documentation entries ... OK
* checking for code/documentation mismatches ... OK
* checking Rd \usage sections ... NOTE
Documented arguments not in \usage in Rd file 'wrapperAncestry.Rd':
  ‘pathGeno’

Functions with \usage entries need to have the appropriate \alias
entries, and all their arguments documented.
The \usage entries must correspond to syntactically valid R code.
See chapter ‘Writing R documentation files’ in the ‘Writing R
Extensions’ manual.
* checking Rd contents ... OK
* checking for unstated dependencies in examples ... OK
* checking contents of ‘data’ directory ... OK
* checking data for non-ASCII characters ... OK
* checking data for ASCII and uncompressed saves ... OK
* checking files in ‘vignettes’ ... OK
* checking examples ... OK
Examples with CPU (user + system) or elapsed time > 5s
                                  user system elapsed
readSNVBAM                       7.711  0.048  10.970
computeAncestryFromSyntheticFile 7.430  0.211  11.337
selParaPCAUpQuartile             5.687  0.068   8.238
readSNVVCF                       5.391  0.072   7.709
processPileupChrBin              4.700  0.054   6.764
* checking for unstated dependencies in ‘tests’ ... OK
* checking tests ...
  Running ‘testthat.R’
 OK
* checking for unstated dependencies in vignettes ... OK
* checking package vignettes ... OK
* checking running R code from vignettes ... SKIPPED
* checking re-building of vignette outputs ... SKIPPED
* checking PDF version of manual ... OK
* DONE

Status: 1 NOTE
See
  ‘/Users/biocbuild/bbs-3.22-bioc/meat/RAIDS.Rcheck/00check.log’
for details.


Installation output

RAIDS.Rcheck/00install.out

##############################################################################
##############################################################################
###
### Running command:
###
###   /Library/Frameworks/R.framework/Resources/bin/R CMD INSTALL RAIDS
###
##############################################################################
##############################################################################


* installing to library ‘/Library/Frameworks/R.framework/Versions/4.5-arm64/Resources/library’
* installing *source* package ‘RAIDS’ ...
** this is package ‘RAIDS’ version ‘1.8.0’
** using staged installation
** R
** data
** inst
** byte-compile and prepare package for lazy loading
** help
*** installing help indices
** building package indices
** installing vignettes
** testing if installed package can be loaded from temporary location
** testing if installed package can be loaded from final location
** testing if installed package keeps a record of temporary installation path
* DONE (RAIDS)

Tests output

RAIDS.Rcheck/tests/testthat.Rout


R version 4.5.2 Patched (2025-11-04 r88984) -- "[Not] Part in a Rumble"
Copyright (C) 2025 The R Foundation for Statistical Computing
Platform: aarch64-apple-darwin20

R is free software and comes with ABSOLUTELY NO WARRANTY.
You are welcome to redistribute it under certain conditions.
Type 'license()' or 'licence()' for distribution details.

R is a collaborative project with many contributors.
Type 'contributors()' for more information and
'citation()' on how to cite R or R packages in publications.

Type 'demo()' for some demos, 'help()' for on-line help, or
'help.start()' for an HTML browser interface to help.
Type 'q()' to quit R.

> library(testthat)
> library(RAIDS)
Loading required package: gdsfmt
Loading required package: SNPRelate
Loading required package: GENESIS
Loading required package: dplyr

Attaching package: 'dplyr'

The following objects are masked from 'package:stats':

    filter, lag

The following objects are masked from 'package:base':

    intersect, setdiff, setequal, union

Loading required package: Rsamtools
Loading required package: Seqinfo
Loading required package: BiocGenerics
Loading required package: generics

Attaching package: 'generics'

The following object is masked from 'package:dplyr':

    explain

The following objects are masked from 'package:base':

    as.difftime, as.factor, as.ordered, intersect, is.element, setdiff,
    setequal, union


Attaching package: 'BiocGenerics'

The following object is masked from 'package:dplyr':

    combine

The following objects are masked from 'package:stats':

    IQR, mad, sd, var, xtabs

The following objects are masked from 'package:base':

    Filter, Find, Map, Position, Reduce, anyDuplicated, aperm, append,
    as.data.frame, basename, cbind, colnames, dirname, do.call,
    duplicated, eval, evalq, get, grep, grepl, is.unsorted, lapply,
    mapply, match, mget, order, paste, pmax, pmax.int, pmin, pmin.int,
    rank, rbind, rownames, sapply, saveRDS, table, tapply, unique,
    unsplit, which.max, which.min

Loading required package: GenomicRanges
Loading required package: stats4
Loading required package: S4Vectors

Attaching package: 'S4Vectors'

The following objects are masked from 'package:dplyr':

    first, rename

The following object is masked from 'package:utils':

    findMatches

The following objects are masked from 'package:base':

    I, expand.grid, unname

Loading required package: IRanges

Attaching package: 'IRanges'

The following objects are masked from 'package:dplyr':

    collapse, desc, slice

Loading required package: Biostrings
Loading required package: XVector

Attaching package: 'Biostrings'

The following object is masked from 'package:base':

    strsplit

> 
> ## Run all unit tests
> test_check("RAIDS")

Attaching package: 'Matrix'

The following object is masked from 'package:S4Vectors':

    expand

[ FAIL 0 | WARN 0 | SKIP 0 | PASS 478 ]
> 
> proc.time()
   user  system elapsed 
 46.009   2.170  72.178 

Example timings

RAIDS.Rcheck/RAIDS-Ex.timings

nameusersystemelapsed
add1KG2SampleGDS0.0630.0230.135
addBlockFromDetFile0.0020.0030.006
addBlockInGDSAnnot0.0060.0040.011
addGDS1KGLDBlock0.0020.0010.003
addGDSRef0.0030.0020.005
addGDSStudyPruning0.0010.0010.003
addGeneBlockGDSRefAnnot1.5320.1122.393
addGeneBlockRefAnnot0.0020.0020.003
addRef2GDS1KG0.0050.0050.011
addStudy1Kg0.0110.0100.024
addStudyGDSSample0.0090.0040.020
addUpdateLap0.0010.0020.003
addUpdateSegment0.0010.0020.006
appendGDSRefSample0.0070.0040.012
appendGDSSampleOnly0.0010.0020.003
appendGDSgenotype0.0160.0110.034
appendGDSgenotypeMat0.0020.0020.004
calcAFMLRNA0.0070.0040.010
computeAlleleFraction0.0030.0000.003
computeAllelicFractionDNA0.1690.0280.297
computeAllelicFractionRNA0.2480.0120.409
computeAllelicImbDNAChr0.0090.0020.012
computeAncestryFromSynthetic0.0210.0080.030
computeAncestryFromSyntheticFile 7.430 0.21111.337
computeKNNRefSample0.0480.0170.090
computeKNNRefSynthetic2.8890.0773.687
computeLOHBlocksDNAChr0.0110.0020.012
computePCAMultiSynthetic0.0120.0070.028
computePCARefRMMulti0.1110.0090.159
computePCARefSample0.1370.0050.166
computePoolSyntheticAncestryGr0.3770.0140.484
computeSyntheticConfMat0.0170.0100.031
computeSyntheticROC0.0880.0140.137
createAUROCGraph1.0200.0401.415
createAccuracyGraph0.8190.0121.121
createProfile0.0350.0130.071
createStudy2GDS1KG0.0330.0070.072
demoKnownSuperPop1KG1.3290.0462.028
demoPCA1KG0.0100.0080.028
demoPCASyntheticProfiles1.4290.0361.865
demoPedigreeEx10.0180.0080.031
estimateAllelicFraction0.0830.0060.110
extractNucleotide0.0000.0000.001
generateGDS1KG0.0110.0080.022
generateGDS1KGgenotypeFromSNPPileup0.0610.0120.083
generateGDSRefSample0.0040.0040.009
generateGDSSNPinfo0.0050.0040.010
generateGDSgenotype0.0120.0070.021
generateGeneBlock0.0020.0010.003
generateMapSnvSel0.0040.0020.006
generatePhase1KG2GDS0.0160.0130.031
generatePhaseRef0.0160.0090.038
generateProfileGDS0.0610.0120.090
getBlockIDs0.0030.0010.004
getRef1KGPop0.0040.0010.006
getRefSuperPop0.0040.0010.005
getTableSNV0.0140.0040.017
groupChr1KGSNV0.0590.0690.141
identifyRelative0.0120.0030.015
identifyRelativeRef0.0100.0050.044
inferAncestry0.0160.0030.021
inferAncestryDNA0.0150.0020.017
inferAncestryGeneAware0.0120.0020.014
matKNNSynthetic0.0440.0150.096
pedSynthetic0.0450.0140.088
prepPed1KG0.0050.0020.007
prepPedSynthetic1KG0.0050.0020.007
prepSynthetic0.0110.0050.016
processBlockChr0.0040.0020.014
processPileupChrBin4.7000.0546.764
profileAncestry0.0230.0100.057
pruning1KGbyChr0.0040.0020.006
pruningSample0.0440.0100.073
readSNVBAM 7.711 0.04810.970
readSNVFileGeneric0.0050.0010.006
readSNVPileupFile0.0530.0020.066
readSNVVCF5.3910.0727.709
runExomeAncestry0.0180.0070.041
runIBDKING0.0640.0050.102
runLDPruning0.0280.0090.045
runProfileAncestry0.0220.0080.052
runRNAAncestry0.0180.0070.025
runWrapperAncestry0.0170.0070.030
selParaPCAUpQuartile5.6870.0688.238
select1KGPop0.0050.0010.006
select1KGPopForSynthetic0.0050.0010.013
snpPositionDemo0.0050.0070.049
snvListVCF0.0050.0020.014
splitSelectByPop0.0010.0000.001
syntheticGeno0.0350.0080.075
tableBlockAF0.0250.0060.069
testAlleleFractionChange0.0010.0010.002
testEmptyBox0.0010.0010.002
validateAccuracyGraphInternal0.0000.0010.001
validateAdd1KG2SampleGDS0.0020.0010.004
validateAddStudy1Kg0.0020.0010.004
validateCharacterString000
validateComputeAncestryFromSyntheticFile0.0020.0010.003
validateComputeKNNRefSample0.0050.0090.014
validateComputeKNNRefSynthetic0.0060.0090.023
validateComputePCAMultiSynthetic0.0050.0060.032
validateComputePCARefSample0.0010.0000.001
validateComputePoolSyntheticAncestryGr0.0010.0000.002
validateComputeSyntheticRoc0.0140.0100.024
validateCreateAccuracyGraph0.0020.0000.002
validateCreateStudy2GDS1KG0.0020.0010.007
validateDataRefSynParameter0.0010.0010.002
validateEstimateAllelicFraction0.0050.0020.007
validateGDSClass0.0020.0010.002
validateGenerateGDS1KG0.0010.0000.002
validateLogical0.0000.0000.001
validatePEDStudyParameter0.0010.0000.001
validatePepSynthetic0.0020.0000.002
validatePositiveIntegerVector000
validatePrepPed1KG0.0010.0010.002
validateProfileGDSExist0.0010.0000.002
validatePruningSample0.0010.0010.003
validateRunExomeOrRNAAncestry0.0050.0010.007
validateSingleRatio000
validateStudyDataFrameParameter0.0010.0000.002
validateSyntheticGeno0.0020.0020.003
validatecreateAUROCGraph0.0020.0010.003
validatecreateProfile0.0030.0010.003
wrapperAncestry0.0210.0070.087