Back to Multiple platform build/check report for BioC 3.22:   simplified   long
ABCDEFGHIJKLMNOPQ[R]STUVWXYZ

This page was generated on 2025-11-20 12:04 -0500 (Thu, 20 Nov 2025).

HostnameOSArch (*)R versionInstalled pkgs
nebbiolo2Linux (Ubuntu 24.04.3 LTS)x86_644.5.2 (2025-10-31) -- "[Not] Part in a Rumble" 4615
merida1macOS 12.7.6 Montereyx86_644.5.2 Patched (2025-11-05 r88990) -- "[Not] Part in a Rumble" 4610
kjohnson1macOS 13.7.5 Venturaarm644.5.2 Patched (2025-11-04 r88984) -- "[Not] Part in a Rumble" 4598
taishanLinux (openEuler 24.03 LTS)aarch644.5.0 (2025-04-11) -- "How About a Twenty-Six" 4668
Click on any hostname to see more info about the system (e.g. compilers)      (*) as reported by 'uname -p', except on Windows and Mac OS X

Package 1702/2361HostnameOS / ArchINSTALLBUILDCHECKBUILD BIN
RAIDS 1.8.0  (landing page)
Pascal Belleau
Snapshot Date: 2025-11-17 13:45 -0500 (Mon, 17 Nov 2025)
git_url: https://git.bioconductor.org/packages/RAIDS
git_branch: RELEASE_3_22
git_last_commit: 4c9a678
git_last_commit_date: 2025-10-29 11:25:36 -0500 (Wed, 29 Oct 2025)
nebbiolo2Linux (Ubuntu 24.04.3 LTS) / x86_64  OK    OK    OK  UNNEEDED, same version is already published
merida1macOS 12.7.6 Monterey / x86_64  OK    OK    OK    OK  UNNEEDED, same version is already published
kjohnson1macOS 13.7.5 Ventura / arm64  OK    OK    OK    OK  UNNEEDED, same version is already published
taishanLinux (openEuler 24.03 LTS) / aarch64  OK    OK    OK  


CHECK results for RAIDS on nebbiolo2

To the developers/maintainers of the RAIDS package:
- Allow up to 24 hours (and sometimes 48 hours) for your latest push to git@git.bioconductor.org:packages/RAIDS.git to reflect on this report. See Troubleshooting Build Report for more information.
- Use the following Renviron settings to reproduce errors and warnings.
- If 'R CMD check' started to fail recently on the Linux builder(s) over a missing dependency, add the missing dependency to 'Suggests:' in your DESCRIPTION file. See Renviron.bioc for more information.

raw results


Summary

Package: RAIDS
Version: 1.8.0
Command: /home/biocbuild/bbs-3.22-bioc/R/bin/R CMD check --install=check:RAIDS.install-out.txt --library=/home/biocbuild/bbs-3.22-bioc/R/site-library --timings RAIDS_1.8.0.tar.gz
StartedAt: 2025-11-18 07:32:16 -0500 (Tue, 18 Nov 2025)
EndedAt: 2025-11-18 07:41:08 -0500 (Tue, 18 Nov 2025)
EllapsedTime: 531.8 seconds
RetCode: 0
Status:   OK  
CheckDir: RAIDS.Rcheck
Warnings: 0

Command output

##############################################################################
##############################################################################
###
### Running command:
###
###   /home/biocbuild/bbs-3.22-bioc/R/bin/R CMD check --install=check:RAIDS.install-out.txt --library=/home/biocbuild/bbs-3.22-bioc/R/site-library --timings RAIDS_1.8.0.tar.gz
###
##############################################################################
##############################################################################


* using log directory ‘/home/biocbuild/bbs-3.22-bioc/meat/RAIDS.Rcheck’
* using R version 4.5.2 (2025-10-31)
* using platform: x86_64-pc-linux-gnu
* R was compiled by
    gcc (Ubuntu 13.3.0-6ubuntu2~24.04) 13.3.0
    GNU Fortran (Ubuntu 13.3.0-6ubuntu2~24.04) 13.3.0
* running under: Ubuntu 24.04.3 LTS
* using session charset: UTF-8
* checking for file ‘RAIDS/DESCRIPTION’ ... OK
* checking extension type ... Package
* this is package ‘RAIDS’ version ‘1.8.0’
* package encoding: UTF-8
* checking package namespace information ... OK
* checking package dependencies ... OK
* checking if this is a source package ... OK
* checking if there is a namespace ... OK
* checking for hidden files and directories ... OK
* checking for portable file names ... OK
* checking for sufficient/correct file permissions ... OK
* checking whether package ‘RAIDS’ can be installed ... OK
* checking installed package size ... OK
* checking package directory ... OK
* checking ‘build’ directory ... OK
* checking DESCRIPTION meta-information ... OK
* checking top-level files ... OK
* checking for left-over files ... OK
* checking index information ... OK
* checking package subdirectories ... OK
* checking code files for non-ASCII characters ... OK
* checking R files for syntax errors ... OK
* checking whether the package can be loaded ... OK
* checking whether the package can be loaded with stated dependencies ... OK
* checking whether the package can be unloaded cleanly ... OK
* checking whether the namespace can be loaded with stated dependencies ... OK
* checking whether the namespace can be unloaded cleanly ... OK
* checking loading without being on the library search path ... OK
* checking dependencies in R code ... OK
* checking S3 generic/method consistency ... OK
* checking replacement functions ... OK
* checking foreign function calls ... OK
* checking R code for possible problems ... OK
* checking Rd files ... OK
* checking Rd metadata ... OK
* checking Rd cross-references ... OK
* checking for missing documentation entries ... OK
* checking for code/documentation mismatches ... OK
* checking Rd \usage sections ... NOTE
Documented arguments not in \usage in Rd file 'wrapperAncestry.Rd':
  ‘pathGeno’

Functions with \usage entries need to have the appropriate \alias
entries, and all their arguments documented.
The \usage entries must correspond to syntactically valid R code.
See chapter ‘Writing R documentation files’ in the ‘Writing R
Extensions’ manual.
* checking Rd contents ... OK
* checking for unstated dependencies in examples ... OK
* checking contents of ‘data’ directory ... OK
* checking data for non-ASCII characters ... OK
* checking data for ASCII and uncompressed saves ... OK
* checking files in ‘vignettes’ ... OK
* checking examples ... OK
Examples with CPU (user + system) or elapsed time > 5s
                                  user system elapsed
computeAncestryFromSyntheticFile 5.184  0.147   5.332
readSNVBAM                       5.102  0.096   5.200
* checking for unstated dependencies in ‘tests’ ... OK
* checking tests ...
  Running ‘testthat.R’
 OK
* checking for unstated dependencies in vignettes ... OK
* checking package vignettes ... OK
* checking re-building of vignette outputs ... OK
* checking PDF version of manual ... OK
* DONE

Status: 1 NOTE
See
  ‘/home/biocbuild/bbs-3.22-bioc/meat/RAIDS.Rcheck/00check.log’
for details.


Installation output

RAIDS.Rcheck/00install.out

##############################################################################
##############################################################################
###
### Running command:
###
###   /home/biocbuild/bbs-3.22-bioc/R/bin/R CMD INSTALL RAIDS
###
##############################################################################
##############################################################################


* installing to library ‘/home/biocbuild/bbs-3.22-bioc/R/site-library’
* installing *source* package ‘RAIDS’ ...
** this is package ‘RAIDS’ version ‘1.8.0’
** using staged installation
** R
** data
** inst
** byte-compile and prepare package for lazy loading
** help
*** installing help indices
** building package indices
** installing vignettes
** testing if installed package can be loaded from temporary location
** testing if installed package can be loaded from final location
** testing if installed package keeps a record of temporary installation path
* DONE (RAIDS)

Tests output

RAIDS.Rcheck/tests/testthat.Rout


R version 4.5.2 (2025-10-31) -- "[Not] Part in a Rumble"
Copyright (C) 2025 The R Foundation for Statistical Computing
Platform: x86_64-pc-linux-gnu

R is free software and comes with ABSOLUTELY NO WARRANTY.
You are welcome to redistribute it under certain conditions.
Type 'license()' or 'licence()' for distribution details.

R is a collaborative project with many contributors.
Type 'contributors()' for more information and
'citation()' on how to cite R or R packages in publications.

Type 'demo()' for some demos, 'help()' for on-line help, or
'help.start()' for an HTML browser interface to help.
Type 'q()' to quit R.

> library(testthat)
> library(RAIDS)
Loading required package: gdsfmt
Loading required package: SNPRelate
SNPRelate -- supported by Streaming SIMD Extensions 2 (SSE2)
Loading required package: GENESIS
Loading required package: dplyr

Attaching package: 'dplyr'

The following objects are masked from 'package:stats':

    filter, lag

The following objects are masked from 'package:base':

    intersect, setdiff, setequal, union

Loading required package: Rsamtools
Loading required package: Seqinfo
Loading required package: BiocGenerics
Loading required package: generics

Attaching package: 'generics'

The following object is masked from 'package:dplyr':

    explain

The following objects are masked from 'package:base':

    as.difftime, as.factor, as.ordered, intersect, is.element, setdiff,
    setequal, union


Attaching package: 'BiocGenerics'

The following object is masked from 'package:dplyr':

    combine

The following objects are masked from 'package:stats':

    IQR, mad, sd, var, xtabs

The following objects are masked from 'package:base':

    Filter, Find, Map, Position, Reduce, anyDuplicated, aperm, append,
    as.data.frame, basename, cbind, colnames, dirname, do.call,
    duplicated, eval, evalq, get, grep, grepl, is.unsorted, lapply,
    mapply, match, mget, order, paste, pmax, pmax.int, pmin, pmin.int,
    rank, rbind, rownames, sapply, saveRDS, table, tapply, unique,
    unsplit, which.max, which.min

Loading required package: GenomicRanges
Loading required package: stats4
Loading required package: S4Vectors

Attaching package: 'S4Vectors'

The following objects are masked from 'package:dplyr':

    first, rename

The following object is masked from 'package:utils':

    findMatches

The following objects are masked from 'package:base':

    I, expand.grid, unname

Loading required package: IRanges

Attaching package: 'IRanges'

The following objects are masked from 'package:dplyr':

    collapse, desc, slice

Loading required package: Biostrings
Loading required package: XVector

Attaching package: 'Biostrings'

The following object is masked from 'package:base':

    strsplit

> 
> ## Run all unit tests
> test_check("RAIDS")

Attaching package: 'Matrix'

The following object is masked from 'package:S4Vectors':

    expand

[ FAIL 0 | WARN 0 | SKIP 0 | PASS 478 ]
> 
> proc.time()
   user  system elapsed 
 35.101   2.349  38.331 

Example timings

RAIDS.Rcheck/RAIDS-Ex.timings

nameusersystemelapsed
add1KG2SampleGDS0.0500.0170.099
addBlockFromDetFile0.0010.0020.008
addBlockInGDSAnnot0.0040.0020.016
addGDS1KGLDBlock0.0010.0010.002
addGDSRef0.0020.0010.006
addGDSStudyPruning0.0010.0000.002
addGeneBlockGDSRefAnnot0.8800.0801.067
addGeneBlockRefAnnot0.0010.0010.001
addRef2GDS1KG0.0030.0020.044
addStudy1Kg0.0110.0000.024
addStudyGDSSample0.0110.0020.019
addUpdateLap0.0010.0000.003
addUpdateSegment0.0010.0000.002
appendGDSRefSample0.0060.0010.013
appendGDSSampleOnly0.0010.0000.003
appendGDSgenotype0.0350.0030.213
appendGDSgenotypeMat0.0020.0000.003
calcAFMLRNA0.0050.0010.006
computeAlleleFraction0.0020.0000.002
computeAllelicFractionDNA0.1570.0040.188
computeAllelicFractionRNA0.2430.0030.261
computeAllelicImbDNAChr0.0060.0010.007
computeAncestryFromSynthetic0.0170.0010.020
computeAncestryFromSyntheticFile5.1840.1475.332
computeKNNRefSample0.0160.0020.018
computeKNNRefSynthetic1.5290.0301.560
computeLOHBlocksDNAChr0.0070.0010.008
computePCAMultiSynthetic0.0060.0020.008
computePCARefRMMulti0.1510.0110.161
computePCARefSample0.1930.0010.193
computePoolSyntheticAncestryGr0.4880.0060.493
computeSyntheticConfMat0.0140.0010.015
computeSyntheticROC0.0400.0010.041
createAUROCGraph0.9710.0170.994
createAccuracyGraph0.9310.0460.976
createProfile0.0550.0050.078
createStudy2GDS1KG0.0490.0020.065
demoKnownSuperPop1KG2.7340.1812.915
demoPCA1KG0.0060.0010.007
demoPCASyntheticProfiles1.4050.0011.406
demoPedigreeEx10.0120.0020.015
estimateAllelicFraction0.0760.0000.076
extractNucleotide000
generateGDS1KG0.0110.0030.022
generateGDS1KGgenotypeFromSNPPileup0.0780.0040.094
generateGDSRefSample0.0060.0000.011
generateGDSSNPinfo0.0050.0020.012
generateGDSgenotype0.0150.0020.027
generateGeneBlock0.0000.0010.001
generateMapSnvSel0.0020.0010.003
generatePhase1KG2GDS0.0110.0020.020
generatePhaseRef0.0120.0010.021
generateProfileGDS0.0420.0000.055
getBlockIDs0.0020.0000.002
getRef1KGPop0.0020.0000.003
getRefSuperPop0.0020.0000.003
getTableSNV0.0080.0020.010
groupChr1KGSNV0.0440.0090.054
identifyRelative0.0070.0010.008
identifyRelativeRef0.0050.0000.006
inferAncestry0.0130.0000.013
inferAncestryDNA0.0130.0000.012
inferAncestryGeneAware0.0130.0000.012
matKNNSynthetic0.0380.0000.038
pedSynthetic0.0360.0010.037
prepPed1KG0.0030.0010.004
prepPedSynthetic1KG0.0030.0020.004
prepSynthetic0.0080.0020.012
processBlockChr0.0020.0010.002
processPileupChrBin3.0260.0493.074
profileAncestry0.0160.0010.016
pruning1KGbyChr0.0020.0020.003
pruningSample0.0360.0040.041
readSNVBAM5.1020.0965.200
readSNVFileGeneric0.0030.0000.004
readSNVPileupFile0.0340.0000.035
readSNVVCF4.8350.0714.907
runExomeAncestry0.0140.0010.015
runIBDKING0.0520.0010.076
runLDPruning0.0160.0070.023
runProfileAncestry0.0170.0000.016
runRNAAncestry0.0120.0030.014
runWrapperAncestry0.0140.0010.014
selParaPCAUpQuartile4.6080.0154.625
select1KGPop0.0040.0000.004
select1KGPopForSynthetic0.0040.0010.004
snpPositionDemo0.0030.0000.003
snvListVCF0.0020.0010.004
splitSelectByPop0.0010.0000.001
syntheticGeno0.0270.0000.029
tableBlockAF0.020.000.02
testAlleleFractionChange0.0010.0000.001
testEmptyBox0.0010.0000.001
validateAccuracyGraphInternal000
validateAdd1KG2SampleGDS0.0000.0020.001
validateAddStudy1Kg0.0010.0000.002
validateCharacterString000
validateComputeAncestryFromSyntheticFile0.0010.0010.001
validateComputeKNNRefSample0.0030.0010.004
validateComputeKNNRefSynthetic0.0050.0010.005
validateComputePCAMultiSynthetic0.0020.0010.004
validateComputePCARefSample0.0010.0000.001
validateComputePoolSyntheticAncestryGr0.0010.0010.001
validateComputeSyntheticRoc0.0100.0010.011
validateCreateAccuracyGraph0.0010.0000.001
validateCreateStudy2GDS1KG0.0010.0010.002
validateDataRefSynParameter0.0010.0000.001
validateEstimateAllelicFraction0.0030.0000.003
validateGDSClass0.0010.0000.001
validateGenerateGDS1KG0.0010.0000.000
validateLogical000
validatePEDStudyParameter0.0010.0000.001
validatePepSynthetic0.0020.0000.001
validatePositiveIntegerVector000
validatePrepPed1KG0.0010.0000.001
validateProfileGDSExist0.0010.0000.001
validatePruningSample0.0000.0010.001
validateRunExomeOrRNAAncestry0.0040.0000.004
validateSingleRatio000
validateStudyDataFrameParameter000
validateSyntheticGeno0.0010.0000.001
validatecreateAUROCGraph0.0020.0000.002
validatecreateProfile0.0020.0000.002
wrapperAncestry0.0310.0010.032