| Back to Multiple platform build/check report for BioC 3.22: simplified long |
|
This page was generated on 2025-11-15 11:58 -0500 (Sat, 15 Nov 2025).
| Hostname | OS | Arch (*) | R version | Installed pkgs |
|---|---|---|---|---|
| nebbiolo2 | Linux (Ubuntu 24.04.3 LTS) | x86_64 | 4.5.1 Patched (2025-08-23 r88802) -- "Great Square Root" | 4903 |
| taishan | Linux (openEuler 24.03 LTS) | aarch64 | 4.5.0 (2025-04-11) -- "How About a Twenty-Six" | 4668 |
| Click on any hostname to see more info about the system (e.g. compilers) (*) as reported by 'uname -p', except on Windows and Mac OS X | ||||
| Package 1653/2361 | Hostname | OS / Arch | INSTALL | BUILD | CHECK | BUILD BIN | ||||||||
| PRONE 1.4.0 (landing page) Lis Arend
| nebbiolo2 | Linux (Ubuntu 24.04.3 LTS) / x86_64 | OK | OK | OK | |||||||||
| taishan | Linux (openEuler 24.03 LTS) / aarch64 | OK | OK | OK | ||||||||||
|
To the developers/maintainers of the PRONE package: - Allow up to 24 hours (and sometimes 48 hours) for your latest push to git@git.bioconductor.org:packages/PRONE.git to reflect on this report. See Troubleshooting Build Report for more information. - Use the following Renviron settings to reproduce errors and warnings. - If 'R CMD check' started to fail recently on the Linux builder(s) over a missing dependency, add the missing dependency to 'Suggests:' in your DESCRIPTION file. See Renviron.bioc for more information. - See Martin Grigorov's blog post for how to debug Linux ARM64 related issues on a x86_64 host. |
| Package: PRONE |
| Version: 1.4.0 |
| Command: /home/biocbuild/R/R/bin/R CMD check --install=check:PRONE.install-out.txt --library=/home/biocbuild/R/R/site-library --no-vignettes --timings PRONE_1.4.0.tar.gz |
| StartedAt: 2025-11-14 13:11:38 -0000 (Fri, 14 Nov 2025) |
| EndedAt: 2025-11-14 13:19:26 -0000 (Fri, 14 Nov 2025) |
| EllapsedTime: 467.9 seconds |
| RetCode: 0 |
| Status: OK |
| CheckDir: PRONE.Rcheck |
| Warnings: 0 |
##############################################################################
##############################################################################
###
### Running command:
###
### /home/biocbuild/R/R/bin/R CMD check --install=check:PRONE.install-out.txt --library=/home/biocbuild/R/R/site-library --no-vignettes --timings PRONE_1.4.0.tar.gz
###
##############################################################################
##############################################################################
* using log directory ‘/home/biocbuild/bbs-3.22-bioc/meat/PRONE.Rcheck’
* using R version 4.5.0 (2025-04-11)
* using platform: aarch64-unknown-linux-gnu
* R was compiled by
aarch64-unknown-linux-gnu-gcc (GCC) 14.2.0
GNU Fortran (GCC) 14.2.0
* running under: openEuler 24.03 (LTS)
* using session charset: UTF-8
* using option ‘--no-vignettes’
* checking for file ‘PRONE/DESCRIPTION’ ... OK
* checking extension type ... Package
* this is package ‘PRONE’ version ‘1.4.0’
* package encoding: UTF-8
* checking package namespace information ... OK
* checking package dependencies ... INFO
Imports includes 34 non-default packages.
Importing from so many packages makes the package vulnerable to any of
them becoming unavailable. Move as many as possible to Suggests and
use conditionally.
* checking if this is a source package ... OK
* checking if there is a namespace ... OK
* checking for hidden files and directories ... OK
* checking for portable file names ... OK
* checking for sufficient/correct file permissions ... OK
* checking whether package ‘PRONE’ can be installed ... OK
* checking installed package size ... OK
* checking package directory ... OK
* checking ‘build’ directory ... OK
* checking DESCRIPTION meta-information ... OK
* checking top-level files ... OK
* checking for left-over files ... OK
* checking index information ... OK
* checking package subdirectories ... OK
* checking code files for non-ASCII characters ... OK
* checking R files for syntax errors ... OK
* checking whether the package can be loaded ... OK
* checking whether the package can be loaded with stated dependencies ... OK
* checking whether the package can be unloaded cleanly ... OK
* checking whether the namespace can be loaded with stated dependencies ... OK
* checking whether the namespace can be unloaded cleanly ... OK
* checking loading without being on the library search path ... OK
* checking dependencies in R code ... NOTE
Unexported objects imported by ':::' calls:
‘NormalyzerDE:::calculateAvgMadMem’
‘NormalyzerDE:::calculateAvgReplicateVariation’
‘NormalyzerDE:::calculatePercentageAvgDiffInMat’
‘NormalyzerDE:::calculateReplicateCV’
‘NormalyzerDE:::calculateSummarizedCorrelationVector’
See the note in ?`:::` about the use of this operator.
* checking S3 generic/method consistency ... OK
* checking replacement functions ... OK
* checking foreign function calls ... OK
* checking R code for possible problems ... NOTE
plot_upset_DE: no visible global function definition for
‘packageVersion’
Undefined global functions or variables:
packageVersion
Consider adding
importFrom("utils", "packageVersion")
to your NAMESPACE file.
* checking Rd files ... OK
* checking Rd metadata ... OK
* checking Rd cross-references ... OK
* checking for missing documentation entries ... OK
* checking for code/documentation mismatches ... OK
* checking Rd \usage sections ... OK
* checking Rd contents ... OK
* checking for unstated dependencies in examples ... OK
* checking contents of ‘data’ directory ... OK
* checking data for non-ASCII characters ... OK
* checking data for ASCII and uncompressed saves ... OK
* checking files in ‘vignettes’ ... OK
* checking examples ... OK
Examples with CPU (user + system) or elapsed time > 5s
user system elapsed
plot_boxplots 7.746 0.152 9.429
normalize_se_combination 6.294 0.187 6.651
plot_volcano_DE 6.083 0.183 6.442
normalize_se 6.073 0.184 7.773
normalize_se_single 5.615 0.136 5.878
plot_heatmap 5.634 0.012 5.945
normicsNorm 5.230 0.040 5.594
* checking for unstated dependencies in vignettes ... OK
* checking package vignettes ... OK
* checking running R code from vignettes ... SKIPPED
* checking re-building of vignette outputs ... SKIPPED
* checking PDF version of manual ... OK
* DONE
Status: 2 NOTEs
See
‘/home/biocbuild/bbs-3.22-bioc/meat/PRONE.Rcheck/00check.log’
for details.
PRONE.Rcheck/00install.out
############################################################################## ############################################################################## ### ### Running command: ### ### /home/biocbuild/R/R/bin/R CMD INSTALL PRONE ### ############################################################################## ############################################################################## * installing to library ‘/home/biocbuild/R/R-4.5.0/site-library’ * installing *source* package ‘PRONE’ ... ** this is package ‘PRONE’ version ‘1.4.0’ ** using staged installation ** R ** data ** inst ** byte-compile and prepare package for lazy loading ** help *** installing help indices *** copying figures ** building package indices ** installing vignettes ** testing if installed package can be loaded from temporary location ** testing if installed package can be loaded from final location ** testing if installed package keeps a record of temporary installation path * DONE (PRONE)
PRONE.Rcheck/PRONE-Ex.timings
| name | user | system | elapsed | |
| apply_thresholds | 0.030 | 0.004 | 0.033 | |
| detect_outliers_POMA | 2.313 | 0.100 | 2.616 | |
| eigenMSNorm | 0.936 | 0.079 | 1.208 | |
| export_data | 0.024 | 0.000 | 0.023 | |
| extract_consensus_DE_candidates | 0.100 | 0.012 | 0.112 | |
| filter_out_NA_proteins_by_threshold | 0.275 | 0.012 | 0.287 | |
| filter_out_complete_NA_proteins | 0.054 | 0.004 | 0.057 | |
| filter_out_proteins_by_ID | 0.216 | 0.000 | 0.217 | |
| filter_out_proteins_by_value | 0.209 | 0.004 | 0.213 | |
| get_NA_overview | 0.035 | 0.000 | 0.035 | |
| get_normalization_methods | 0 | 0 | 0 | |
| get_overview_DE | 0.042 | 0.004 | 0.046 | |
| get_proteins_by_value | 0.202 | 0.004 | 0.255 | |
| get_spiked_stats_DE | 0.114 | 0.000 | 0.114 | |
| globalIntNorm | 0.190 | 0.000 | 0.192 | |
| globalMeanNorm | 0.189 | 0.000 | 0.190 | |
| globalMedianNorm | 0.190 | 0.000 | 0.191 | |
| impute_se | 1.068 | 0.024 | 1.392 | |
| irsNorm | 0.065 | 0.000 | 0.065 | |
| limmaNorm | 0.090 | 0.000 | 0.089 | |
| load_data | 0.071 | 0.000 | 0.113 | |
| load_spike_data | 0.050 | 0.005 | 0.108 | |
| loessCycNorm | 0.179 | 0.003 | 0.355 | |
| loessFNorm | 0.127 | 0.000 | 0.128 | |
| meanNorm | 0.047 | 0.000 | 0.046 | |
| medianAbsDevNorm | 0.127 | 0.000 | 0.127 | |
| medianNorm | 0.069 | 0.000 | 0.068 | |
| normalize_se | 6.073 | 0.184 | 7.773 | |
| normalize_se_combination | 6.294 | 0.187 | 6.651 | |
| normalize_se_single | 5.615 | 0.136 | 5.878 | |
| normicsNorm | 5.230 | 0.040 | 5.594 | |
| plot_NA_density | 0.578 | 0.016 | 0.617 | |
| plot_NA_frequency | 0.295 | 0.016 | 0.381 | |
| plot_NA_heatmap | 1.888 | 0.048 | 2.016 | |
| plot_PCA | 1.978 | 0.076 | 2.124 | |
| plot_ROC_AUC_spiked | 1.713 | 0.020 | 1.934 | |
| plot_TP_FP_spiked_bar | 0.452 | 0.020 | 0.474 | |
| plot_TP_FP_spiked_box | 0.628 | 0.024 | 0.654 | |
| plot_TP_FP_spiked_scatter | 0.606 | 0.008 | 0.637 | |
| plot_boxplots | 7.746 | 0.152 | 9.429 | |
| plot_condition_overview | 0.367 | 0.004 | 0.372 | |
| plot_densities | 3.923 | 0.055 | 4.256 | |
| plot_fold_changes_spiked | 0.720 | 0.004 | 0.725 | |
| plot_heatmap | 5.634 | 0.012 | 5.945 | |
| plot_heatmap_DE | 1.761 | 0.024 | 1.891 | |
| plot_histogram_spiked | 0.569 | 0.000 | 0.570 | |
| plot_identified_spiked_proteins | 0.652 | 0.000 | 0.720 | |
| plot_intersection_enrichment | 1.222 | 0.079 | 4.436 | |
| plot_intragroup_PCV | 0.964 | 0.076 | 1.198 | |
| plot_intragroup_PEV | 0.696 | 0.036 | 0.965 | |
| plot_intragroup_PMAD | 0.655 | 0.080 | 0.737 | |
| plot_intragroup_correlation | 0.676 | 0.064 | 0.760 | |
| plot_jaccard_heatmap | 0.452 | 0.027 | 0.481 | |
| plot_logFC_thresholds_spiked | 1.032 | 0.075 | 1.140 | |
| plot_markers_boxplots | 1.295 | 0.092 | 1.477 | |
| plot_nr_prot_samples | 0.386 | 0.004 | 0.393 | |
| plot_overview_DE_bar | 0.656 | 0.023 | 0.795 | |
| plot_overview_DE_tile | 0.359 | 0.016 | 0.388 | |
| plot_profiles_spiked | 1.287 | 0.068 | 1.660 | |
| plot_pvalues_spiked | 0.761 | 0.020 | 1.097 | |
| plot_stats_spiked_heatmap | 0.573 | 0.044 | 0.712 | |
| plot_tot_int_samples | 0.383 | 0.020 | 0.404 | |
| plot_upset | 1.304 | 0.060 | 1.367 | |
| plot_upset_DE | 0.032 | 0.000 | 0.033 | |
| plot_volcano_DE | 6.083 | 0.183 | 6.442 | |
| quantileNorm | 0.048 | 0.000 | 0.075 | |
| readPRONE_example | 0.001 | 0.000 | 0.002 | |
| remove_POMA_outliers | 1.037 | 0.036 | 2.149 | |
| remove_assays_from_SE | 0.047 | 0.008 | 0.112 | |
| remove_reference_samples | 0.033 | 0.004 | 0.074 | |
| remove_samples_manually | 0.039 | 0.004 | 0.087 | |
| rlrMACycNorm | 0.966 | 0.044 | 1.154 | |
| rlrMANorm | 0.176 | 0.008 | 0.185 | |
| rlrNorm | 0.114 | 0.000 | 0.114 | |
| robnormNorm | 0.106 | 0.008 | 0.115 | |
| run_DE | 3.430 | 0.076 | 3.750 | |
| specify_comparisons | 0.026 | 0.000 | 0.027 | |
| subset_SE_by_norm | 0.1 | 0.0 | 0.1 | |
| tmmNorm | 0.170 | 0.004 | 0.210 | |
| vsnNorm | 0.074 | 0.004 | 0.079 | |