Back to Multiple platform build/check report for BioC 3.21:   simplified   long
ABCDEFGHIJKLMN[O]PQRSTUVWXYZ

This page was generated on 2025-04-22 13:16 -0400 (Tue, 22 Apr 2025).

HostnameOSArch (*)R versionInstalled pkgs
nebbiolo1Linux (Ubuntu 24.04.1 LTS)x86_644.5.0 RC (2025-04-04 r88126) -- "How About a Twenty-Six" 4831
palomino7Windows Server 2022 Datacenterx644.5.0 RC (2025-04-04 r88126 ucrt) -- "How About a Twenty-Six" 4573
lconwaymacOS 12.7.1 Montereyx86_644.5.0 RC (2025-04-04 r88126) -- "How About a Twenty-Six" 4599
kjohnson3macOS 13.7.1 Venturaarm644.5.0 RC (2025-04-04 r88126) -- "How About a Twenty-Six" 4553
kunpeng2Linux (openEuler 24.03 LTS)aarch64R Under development (unstable) (2025-02-19 r87757) -- "Unsuffered Consequences" 4570
Click on any hostname to see more info about the system (e.g. compilers)      (*) as reported by 'uname -p', except on Windows and Mac OS X

Package 1484/2341HostnameOS / ArchINSTALLBUILDCHECKBUILD BIN
OmnipathR 3.16.0  (landing page)
Denes Turei
Snapshot Date: 2025-04-21 13:40 -0400 (Mon, 21 Apr 2025)
git_url: https://git.bioconductor.org/packages/OmnipathR
git_branch: RELEASE_3_21
git_last_commit: 08e98a0
git_last_commit_date: 2025-04-15 11:51:33 -0400 (Tue, 15 Apr 2025)
nebbiolo1Linux (Ubuntu 24.04.1 LTS) / x86_64  OK    OK    ERROR  
palomino7Windows Server 2022 Datacenter / x64  OK    ERROR  skippedskipped
lconwaymacOS 12.7.1 Monterey / x86_64  OK    OK    OK    OK  YES
kjohnson3macOS 13.7.1 Ventura / arm64  OK    OK    OK    OK  YES
kunpeng2Linux (openEuler 24.03 LTS) / aarch64  OK    ERROR  skipped


CHECK results for OmnipathR on lconway

To the developers/maintainers of the OmnipathR package:
- Allow up to 24 hours (and sometimes 48 hours) for your latest push to git@git.bioconductor.org:packages/OmnipathR.git to reflect on this report. See Troubleshooting Build Report for more information.
- Use the following Renviron settings to reproduce errors and warnings.
- If 'R CMD check' started to fail recently on the Linux builder(s) over a missing dependency, add the missing dependency to 'Suggests:' in your DESCRIPTION file. See Renviron.bioc for more information.

raw results


Summary

Package: OmnipathR
Version: 3.16.0
Command: /Library/Frameworks/R.framework/Resources/bin/R CMD check --install=check:OmnipathR.install-out.txt --library=/Library/Frameworks/R.framework/Resources/library --no-vignettes --timings OmnipathR_3.16.0.tar.gz
StartedAt: 2025-04-21 22:23:30 -0400 (Mon, 21 Apr 2025)
EndedAt: 2025-04-21 22:41:35 -0400 (Mon, 21 Apr 2025)
EllapsedTime: 1084.5 seconds
RetCode: 0
Status:   OK  
CheckDir: OmnipathR.Rcheck
Warnings: 0

Command output

##############################################################################
##############################################################################
###
### Running command:
###
###   /Library/Frameworks/R.framework/Resources/bin/R CMD check --install=check:OmnipathR.install-out.txt --library=/Library/Frameworks/R.framework/Resources/library --no-vignettes --timings OmnipathR_3.16.0.tar.gz
###
##############################################################################
##############################################################################


* using log directory ‘/Users/biocbuild/bbs-3.21-bioc/meat/OmnipathR.Rcheck’
* using R version 4.5.0 RC (2025-04-04 r88126)
* using platform: x86_64-apple-darwin20
* R was compiled by
    Apple clang version 14.0.0 (clang-1400.0.29.202)
    GNU Fortran (GCC) 14.2.0
* running under: macOS Monterey 12.7.6
* using session charset: UTF-8
* using option ‘--no-vignettes’
* checking for file ‘OmnipathR/DESCRIPTION’ ... OK
* checking extension type ... Package
* this is package ‘OmnipathR’ version ‘3.16.0’
* package encoding: UTF-8
* checking package namespace information ... OK
* checking package dependencies ... INFO
Imports includes 35 non-default packages.
Importing from so many packages makes the package vulnerable to any of
them becoming unavailable.  Move as many as possible to Suggests and
use conditionally.
* checking if this is a source package ... OK
* checking if there is a namespace ... OK
* checking for hidden files and directories ... OK
* checking for portable file names ... OK
* checking for sufficient/correct file permissions ... OK
* checking whether package ‘OmnipathR’ can be installed ... OK
* checking installed package size ... OK
* checking package directory ... OK
* checking DESCRIPTION meta-information ... OK
* checking top-level files ... OK
* checking for left-over files ... OK
* checking index information ... OK
* checking package subdirectories ... OK
* checking code files for non-ASCII characters ... OK
* checking R files for syntax errors ... OK
* checking whether the package can be loaded ... OK
* checking whether the package can be loaded with stated dependencies ... OK
* checking whether the package can be unloaded cleanly ... OK
* checking whether the namespace can be loaded with stated dependencies ... OK
* checking whether the namespace can be unloaded cleanly ... OK
* checking whether startup messages can be suppressed ... NOTE
[2025-04-21 22:24:06] [TRACE]   [OmnipathR] Reading JSON from `/Users/biocbuild/Library/Caches/OmnipathR/cache.json` (encoding: UTF-8).
[2025-04-21 22:24:06] [TRACE]   [OmnipathR] JSON validation successful: TRUE
[2025-04-21 22:24:06] [INFO]    [OmnipathR] Initialized cache: `/Users/biocbuild/Library/Caches/OmnipathR`.
[2025-04-21 22:24:06] [INFO]    [OmnipathR] Package `OmnipathR` packaged: NA
[2025-04-21 22:24:06] [INFO]    [OmnipathR] Package `OmnipathR` date/publication: 2025-04-21
[2025-04-21 22:24:06] [INFO]    [OmnipathR] Package `OmnipathR` built: R 4.5.0; ; 2025-04-21 19:09:16 UTC; unix
[2025-04-21 22:24:06] [INFO]    [OmnipathR] Package `OmnipathR` version: 3.16.0
[2025-04-21 22:24:06] [INFO]    [OmnipathR] Package `OmnipathR` repository: Bioconductor 3.21
[2025-04-21 22:24:06] [INFO]    [OmnipathR] Session info: [version=R version 4.5.0 RC (2025-04-04 r88126); os=macOS Monterey 12.7.6; system=x86_64, darwin20; ui=X11; language=(EN); collate=C; ctype=en_US.UTF-8; tz=America/New_York; date=2025-04-21; pandoc=2.7.3 @ /usr/local/bin/ (via rmarkdown); quarto=NA]
[2025-04-21 22:24:06] [INFO]    [OmnipathR] External libraries: [cairo=1.17.6; cairoFT=; pango=1.50.14; png=1.6.44; jpeg=9.5; tiff=LIBTIFF, Version 4.5.0; tcl=8.6.13; curl=8.7.1; zlib=1.2.11; bzlib=1.0.8, 13-Jul-2019; xz=5.6.3; deflate=1.23; PCRE=10.44 2024-06-07; ICU=70.1; TRE=TRE 0.8.0 R_fixes (BSD); iconv=Apple or GNU libiconv 1.11 /Library/Frameworks/R.framework/Versions/4.5-x86_64/Resources/lib/libR.dylib; readline=5.2; BLAS=/Library/Frameworks/R.framework/Versions/4.5-x86_64/Resources/lib/libRblas.0.dylib; lapack=/Library/Frameworks/R.framework/Versions/4.5-x86_64/Resources/lib/libRlapack.dylib; lapack_version=3.12.1]
[2025-04-21 22:24:07] [INFO]    [OmnipathR] Loaded packages: backports 1.5.0(2024-05-23); bit 4.6.0(2025-03-06); bit64 4.6.0-1(2025-01-16); blob 1.2.4(2023-03-17); cachem 1.1.0(2024-05-16); cellranger 1.1.0(2016-07-27); checkmate 2.3.2(2024-07-29); chromote 0.5.0(2025-03-21); cli 3.6.4(2025-02-13); crayon 1.5.3(2024-06-20); curl 6.2.2(2025-03-24); DBI 1.2.3(2024-06-02); digest 0.6.37(2024-08-19); dplyr 1.1.4(2023-11-17); evaluate 1.0.3(2025-01-10); fastmap 1.2.0(2024-05-15); fs 1.6.6(2025-04-12); generics 0.1.3(2022-07-05); glue 1.8.0(2024-09-30); hms 1.1.3(2023-03-21); htmltools 0.5.8.1(2024-04-04); httr 1.4.7(2023-08-15); httr2 1.1.2(2025-03-26); igraph 2.1.4(2025-01-23); jsonlite 2.0.0(2025-03-27); knitr 1.50(2025-03-16); later 1.4.2(2025-04-08); lifecycle 1.0.4(2023-11-07); logger 0.4.0(2024-10-22); lubridate 1.9.4(2024-12-08); magrittr 2.0.3(2022-03-30); memoise 2.0.1(2021-11-26); OmnipathR 3.16.0(2025-04-21); pillar 1.10.2(2025-04-05); pkgconfig 2.0.3(2019-09-22); prettyunits 1.2.0(2023-09-24); processx 3.8.6(2025-02-21); progress 1.2.3(2023-12-06); promises 1.3.2(2024-11-28); ps 1.9.1(2025-04-12); purrr 1.0.4(2025-02-05); R.methodsS3 1.8.2(2022-06-13); R.oo 1.27.0(2024-11-01); R.utils 2.13.0(2025-02-24); R6 2.6.1(2025-02-15); rappdirs 0.3.3(2021-01-31); Rcpp 1.0.14(2025-01-12); readr 2.1.5(2024-01-10); readxl 1.4.5(2025-03-07); rlang 1.1.6(2025-04-11); rmarkdown 2.29(2024-11-04); RSQLite 2.3.9(2024-12-03); rvest 1.0.4(2024-02-12); sessioninfo 1.2.3(2025-02-05); stringi 1.8.7(2025-03-27); stringr 1.5.1(2023-11-14); tibble 3.2.1(2023-03-20); tidyr 1.3.1(2024-01-24); tidyselect 1.2.1(2024-03-11); timechange 0.3.0(2024-01-18); tzdb 0.5.0(2025-03-15); vctrs 0.6.5(2023-12-01); websocket 1.4.4(2025-04-10); withr 3.0.2(2024-10-28); xfun 0.52(2025-04-02); XML 3.99-0.18(2025-01-01); xml2 1.3.8(2025-03-14); yaml 2.3.10(2024-07-26); zip 2.3.2(2025-02-01)
[2025-04-21 22:24:07] [INFO]    [OmnipathR] CURL: version: 8.11.1; headers: 8.11.1; ssl_version: OpenSSL/3.3.2 (SecureTransport); libz_version: 1.2.11; libssh_version: NA; libidn_version: NA; host: x86_64-apple-darwin22.6.0; protocols: dict, file, ftp, ftps, gopher, gophers, http, https, imap, imaps, ldap, ldaps, mqtt, pop3, pop3s, rtsp, smb, smbs, smtp, smtps, telnet, tftp, ws, wss; ipv6: TRUE; http2: TRUE; idn: FALSE; url_parser: TRUE
[2025-04-21 22:24:07] [TRACE]   [OmnipathR] Running on a build server, wiping cache.
[2025-04-21 22:24:07] [TRACE]   [OmnipathR] Cache is at `/Users/biocbuild/Library/Caches/OmnipathR`.
[2025-04-21 22:24:07] [TRACE]   [OmnipathR] Contains 1 files.
[2025-04-21 22:24:07] [TRACE]   [OmnipathR] Cache is locked: FALSE.
[2025-04-21 22:24:07] [TRACE]   [OmnipathR] Reading JSON from `/Users/biocbuild/Library/Caches/OmnipathR/cache.json` (encoding: UTF-8).
[2025-04-21 22:24:07] [TRACE]   [OmnipathR] JSON validation successful: TRUE
[2025-04-21 22:24:07] [SUCCESS] [OmnipathR] Removing all cache contents from `/Users/biocbuild/Library/Caches/OmnipathR`.
[2025-04-21 22:24:07] [TRACE]   [OmnipathR] Pandoc version: `2.7.3`.
[2025-04-21 22:24:07] [TRACE]   [OmnipathR] Reading JSON from `/Library/Frameworks/R.framework/Versions/4.5-x86_64/Resources/library/OmnipathR/db/db_def.json` (encoding: UTF-8).
[2025-04-21 22:24:07] [TRACE]   [OmnipathR] JSON validation successful: TRUE
[2025-04-21 22:24:07] [TRACE]   [OmnipathR] Reading JSON from `/Library/Frameworks/R.framework/Versions/4.5-x86_64/Resources/library/OmnipathR/internal/magic_bytes.json` (encoding: UTF-8).
[2025-04-21 22:24:07] [TRACE]   [OmnipathR] JSON validation successful: TRUE
[2025-04-21 22:24:07] [TRACE]   [OmnipathR] Reading JSON from `/Library/Frameworks/R.framework/Versions/4.5-x86_64/Resources/library/OmnipathR/internal/urls.json` (encoding: UTF-8).
[2025-04-21 22:24:07] [TRACE]   [OmnipathR] JSON validation successful: TRUE
[2025-04-21 22:24:07] [TRACE]   [OmnipathR] Reading JSON from `/Library/Frameworks/R.framework/Versions/4.5-x86_64/Resources/library/OmnipathR/internal/id_types.json` (encoding: UTF-8).
[2025-04-21 22:24:07] [TRACE]   [OmnipathR] JSON validation successful: TRUE
[2025-04-21 22:24:07] [TRACE]   [OmnipathR] Cache locked: FALSE

It looks like this package (or a package it requires) has a startup
message which cannot be suppressed: see ?packageStartupMessage.
* checking dependencies in R code ... OK
* checking S3 generic/method consistency ... OK
* checking replacement functions ... OK
* checking foreign function calls ... OK
* checking R code for possible problems ... NOTE
[2025-04-21 22:24:30] [TRACE]   [OmnipathR] Reading JSON from `/Users/biocbuild/Library/Caches/OmnipathR/cache.json` (encoding: UTF-8).
[2025-04-21 22:24:30] [TRACE]   [OmnipathR] JSON validation successful: TRUE
[2025-04-21 22:24:30] [INFO]    [OmnipathR] Initialized cache: `/Users/biocbuild/Library/Caches/OmnipathR`.
[2025-04-21 22:24:30] [INFO]    [OmnipathR] Package `OmnipathR` packaged: NA
[2025-04-21 22:24:30] [INFO]    [OmnipathR] Package `OmnipathR` date/publication: 2025-04-21
[2025-04-21 22:24:30] [INFO]    [OmnipathR] Package `OmnipathR` built: R 4.5.0; ; 2025-04-21 19:09:16 UTC; unix
[2025-04-21 22:24:30] [INFO]    [OmnipathR] Package `OmnipathR` version: 3.16.0
[2025-04-21 22:24:30] [INFO]    [OmnipathR] Package `OmnipathR` repository: Bioconductor 3.21
[2025-04-21 22:24:31] [INFO]    [OmnipathR] Session info: [version=R version 4.5.0 RC (2025-04-04 r88126); os=macOS Monterey 12.7.6; system=x86_64, darwin20; ui=X11; language=(EN); collate=C; ctype=en_US.UTF-8; tz=America/New_York; date=2025-04-21; pandoc=2.7.3 @ /usr/local/bin/ (via rmarkdown); quarto=NA]
[2025-04-21 22:24:31] [INFO]    [OmnipathR] External libraries: [cairo=1.17.6; cairoFT=; pango=1.50.14; png=1.6.44; jpeg=9.5; tiff=LIBTIFF, Version 4.5.0; tcl=8.6.13; curl=8.7.1; zlib=1.2.11; bzlib=1.0.8, 13-Jul-2019; xz=5.6.3; deflate=1.23; PCRE=10.44 2024-06-07; ICU=70.1; TRE=TRE 0.8.0 R_fixes (BSD); iconv=Apple or GNU libiconv 1.11 /Library/Frameworks/R.framework/Versions/4.5-x86_64/Resources/lib/libR.dylib; readline=5.2; BLAS=/Library/Frameworks/R.framework/Versions/4.5-x86_64/Resources/lib/libRblas.0.dylib; lapack=/Library/Frameworks/R.framework/Versions/4.5-x86_64/Resources/lib/libRlapack.dylib; lapack_version=3.12.1]
[2025-04-21 22:24:31] [INFO]    [OmnipathR] Loaded packages: backports 1.5.0(2024-05-23); bit 4.6.0(2025-03-06); bit64 4.6.0-1(2025-01-16); blob 1.2.4(2023-03-17); cachem 1.1.0(2024-05-16); cellranger 1.1.0(2016-07-27); checkmate 2.3.2(2024-07-29); chromote 0.5.0(2025-03-21); cli 3.6.4(2025-02-13); crayon 1.5.3(2024-06-20); curl 6.2.2(2025-03-24); DBI 1.2.3(2024-06-02); digest 0.6.37(2024-08-19); dplyr 1.1.4(2023-11-17); evaluate 1.0.3(2025-01-10); fastmap 1.2.0(2024-05-15); fs 1.6.6(2025-04-12); generics 0.1.3(2022-07-05); glue 1.8.0(2024-09-30); hms 1.1.3(2023-03-21); htmltools 0.5.8.1(2024-04-04); httr 1.4.7(2023-08-15); httr2 1.1.2(2025-03-26); igraph 2.1.4(2025-01-23); jsonlite 2.0.0(2025-03-27); knitr 1.50(2025-03-16); later 1.4.2(2025-04-08); lifecycle 1.0.4(2023-11-07); logger 0.4.0(2024-10-22); lubridate 1.9.4(2024-12-08); magrittr 2.0.3(2022-03-30); memoise 2.0.1(2021-11-26); OmnipathR 3.16.0(2025-04-21); pillar 1.10.2(2025-04-05); pkgconfig 2.0.3(2019-09-22); prettyunits 1.2.0(2023-09-24); processx 3.8.6(2025-02-21); progress 1.2.3(2023-12-06); promises 1.3.2(2024-11-28); ps 1.9.1(2025-04-12); purrr 1.0.4(2025-02-05); R.methodsS3 1.8.2(2022-06-13); R.oo 1.27.0(2024-11-01); R.utils 2.13.0(2025-02-24); R6 2.6.1(2025-02-15); rappdirs 0.3.3(2021-01-31); Rcpp 1.0.14(2025-01-12); readr 2.1.5(2024-01-10); readxl 1.4.5(2025-03-07); rlang 1.1.6(2025-04-11); rmarkdown 2.29(2024-11-04); RSQLite 2.3.9(2024-12-03); rvest 1.0.4(2024-02-12); sessioninfo 1.2.3(2025-02-05); stringi 1.8.7(2025-03-27); stringr 1.5.1(2023-11-14); tibble 3.2.1(2023-03-20); tidyr 1.3.1(2024-01-24); tidyselect 1.2.1(2024-03-11); timechange 0.3.0(2024-01-18); tzdb 0.5.0(2025-03-15); vctrs 0.6.5(2023-12-01); websocket 1.4.4(2025-04-10); withr 3.0.2(2024-10-28); xfun 0.52(2025-04-02); XML 3.99-0.18(2025-01-01); xml2 1.3.8(2025-03-14); yaml 2.3.10(2024-07-26); zip 2.3.2(2025-02-01)
[2025-04-21 22:24:31] [INFO]    [OmnipathR] CURL: version: 8.11.1; headers: 8.11.1; ssl_version: OpenSSL/3.3.2 (SecureTransport); libz_version: 1.2.11; libssh_version: NA; libidn_version: NA; host: x86_64-apple-darwin22.6.0; protocols: dict, file, ftp, ftps, gopher, gophers, http, https, imap, imaps, ldap, ldaps, mqtt, pop3, pop3s, rtsp, smb, smbs, smtp, smtps, telnet, tftp, ws, wss; ipv6: TRUE; http2: TRUE; idn: FALSE; url_parser: TRUE
[2025-04-21 22:24:31] [TRACE]   [OmnipathR] Running on a build server, wiping cache.
[2025-04-21 22:24:31] [TRACE]   [OmnipathR] Cache is at `/Users/biocbuild/Library/Caches/OmnipathR`.
[2025-04-21 22:24:31] [TRACE]   [OmnipathR] Contains 1 files.
[2025-04-21 22:24:31] [TRACE]   [OmnipathR] Cache is locked: FALSE.
[2025-04-21 22:24:31] [TRACE]   [OmnipathR] Reading JSON from `/Users/biocbuild/Library/Caches/OmnipathR/cache.json` (encoding: UTF-8).
[2025-04-21 22:24:31] [TRACE]   [OmnipathR] JSON validation successful: TRUE
[2025-04-21 22:24:31] [SUCCESS] [OmnipathR] Removing all cache contents from `/Users/biocbuild/Library/Caches/OmnipathR`.
[2025-04-21 22:24:31] [TRACE]   [OmnipathR] Pandoc version: `2.7.3`.
[2025-04-21 22:24:31] [TRACE]   [OmnipathR] Reading JSON from `/Library/Frameworks/R.framework/Versions/4.5-x86_64/Resources/library/OmnipathR/db/db_def.json` (encoding: UTF-8).
[2025-04-21 22:24:31] [TRACE]   [OmnipathR] JSON validation successful: TRUE
[2025-04-21 22:24:31] [TRACE]   [OmnipathR] Reading JSON from `/Library/Frameworks/R.framework/Versions/4.5-x86_64/Resources/library/OmnipathR/internal/magic_bytes.json` (encoding: UTF-8).
[2025-04-21 22:24:31] [TRACE]   [OmnipathR] JSON validation successful: TRUE
[2025-04-21 22:24:31] [TRACE]   [OmnipathR] Reading JSON from `/Library/Frameworks/R.framework/Versions/4.5-x86_64/Resources/library/OmnipathR/internal/urls.json` (encoding: UTF-8).
[2025-04-21 22:24:31] [TRACE]   [OmnipathR] JSON validation successful: TRUE
[2025-04-21 22:24:31] [TRACE]   [OmnipathR] Reading JSON from `/Library/Frameworks/R.framework/Versions/4.5-x86_64/Resources/library/OmnipathR/internal/id_types.json` (encoding: UTF-8).
[2025-04-21 22:24:31] [TRACE]   [OmnipathR] JSON validation successful: TRUE
[2025-04-21 22:24:32] [TRACE]   [OmnipathR] Cache locked: FALSE
* checking Rd files ... OK
* checking Rd metadata ... OK
* checking Rd cross-references ... OK
* checking for missing documentation entries ... OK
* checking for code/documentation mismatches ... OK
* checking Rd \usage sections ... OK
* checking Rd contents ... OK
* checking for unstated dependencies in examples ... OK
* checking R/sysdata.rda ... OK
* checking files in ‘vignettes’ ... OK
* checking examples ... OK
Examples with CPU (user + system) or elapsed time > 5s
                                       user system elapsed
annotation_categories                56.198  0.331  58.275
curated_ligrec_stats                 38.399 16.318 131.238
filter_extra_attrs                   38.900 12.553  64.598
omnipath-interactions                29.074  2.989  69.351
extra_attr_values                    15.669  5.560  33.782
extra_attrs_to_cols                  17.290  3.083  26.972
nichenet_gr_network_omnipath         16.114  1.665  20.074
with_extra_attrs                     14.366  3.297  20.089
go_annot_download                    14.085  1.830  14.889
extra_attrs                          10.844  2.344  18.912
nichenet_signaling_network_omnipath  11.532  1.201  19.298
has_extra_attrs                       9.603  3.101  12.797
giant_component                      10.600  1.309  14.564
pivot_annotations                    10.454  1.032  28.802
filter_by_resource                   10.659  0.768  19.208
omnipath_for_cosmos                   8.891  0.823  23.920
curated_ligand_receptor_interactions  6.648  1.155  16.904
translate_ids_multi                   7.097  0.611  18.481
find_all_paths                        7.069  0.469   9.552
filter_intercell                      6.652  0.748  13.743
static_table                          6.508  0.600   7.792
print_interactions                    6.202  0.569  13.386
signed_ptms                           5.056  0.295   5.943
enzsub_graph                          2.848  0.232   6.648
hpo_download                          2.580  0.438   5.592
database_summary                      1.721  1.238   6.178
print_path_vs                         2.473  0.306   5.727
ensembl_id_mapping_table              1.943  0.572  15.221
all_uniprots                          1.704  0.263  28.054
kegg_conv                             1.343  0.191  15.260
metalinksdb_sqlite                    0.977  0.459  12.708
translate_ids                         1.062  0.159  19.416
uniprot_full_id_mapping_table         0.957  0.170  22.073
kegg_picture                          0.896  0.052   5.224
kegg_rm_prefix                        0.777  0.111   6.174
kegg_link                             0.712  0.092   6.094
* checking for unstated dependencies in ‘tests’ ... OK
* checking tests ...
  Running ‘testthat.R’
 OK
* checking for unstated dependencies in vignettes ... OK
* checking package vignettes ... OK
* checking running R code from vignettes ... SKIPPED
* checking re-building of vignette outputs ... SKIPPED
* checking PDF version of manual ... OK
* DONE

Status: 2 NOTEs
See
  ‘/Users/biocbuild/bbs-3.21-bioc/meat/OmnipathR.Rcheck/00check.log’
for details.


Installation output

OmnipathR.Rcheck/00install.out

##############################################################################
##############################################################################
###
### Running command:
###
###   /Library/Frameworks/R.framework/Resources/bin/R CMD INSTALL OmnipathR
###
##############################################################################
##############################################################################


* installing to library ‘/Library/Frameworks/R.framework/Versions/4.5-x86_64/Resources/library’
* installing *source* package ‘OmnipathR’ ...
** this is package ‘OmnipathR’ version ‘3.16.0’
** using staged installation
** R
** inst
** byte-compile and prepare package for lazy loading
** help
*** installing help indices
*** copying figures
** building package indices
** installing vignettes
** testing if installed package can be loaded from temporary location
[2025-04-21 15:09:29] [TRACE]   [OmnipathR] Reading JSON from `/Users/biocbuild/Library/Caches/OmnipathR/cache.json` (encoding: UTF-8).
[2025-04-21 15:09:29] [TRACE]   [OmnipathR] JSON validation successful: TRUE
[2025-04-21 15:09:29] [INFO]    [OmnipathR] Initialized cache: `/Users/biocbuild/Library/Caches/OmnipathR`.
[2025-04-21 15:09:29] [INFO]    [OmnipathR] Package `OmnipathR` packaged: NA
[2025-04-21 15:09:29] [INFO]    [OmnipathR] Package `OmnipathR` date/publication: 2025-04-21
[2025-04-21 15:09:29] [INFO]    [OmnipathR] Package `OmnipathR` built: R 4.5.0; ; 2025-04-21 19:09:16 UTC; unix
[2025-04-21 15:09:29] [INFO]    [OmnipathR] Package `OmnipathR` version: 3.16.0
[2025-04-21 15:09:29] [INFO]    [OmnipathR] Package `OmnipathR` repository: Bioconductor 3.21
[2025-04-21 15:09:30] [INFO]    [OmnipathR] Session info: [version=R version 4.5.0 RC (2025-04-04 r88126); os=macOS Monterey 12.7.6; system=x86_64, darwin20; ui=X11; language=(EN); collate=C; ctype=en_US.UTF-8; tz=America/New_York; date=2025-04-21; pandoc=2.7.3 @ /usr/local/bin/ (via rmarkdown); quarto=NA]
[2025-04-21 15:09:30] [INFO]    [OmnipathR] External libraries: [cairo=1.17.6; cairoFT=; pango=1.50.14; png=1.6.44; jpeg=9.5; tiff=LIBTIFF, Version 4.5.0; tcl=8.6.13; curl=8.7.1; zlib=1.2.11; bzlib=1.0.8, 13-Jul-2019; xz=5.6.3; deflate=1.23; PCRE=10.44 2024-06-07; ICU=70.1; TRE=TRE 0.8.0 R_fixes (BSD); iconv=Apple or GNU libiconv 1.11 /Library/Frameworks/R.framework/Versions/4.5-x86_64/Resources/lib/libR.dylib; readline=5.2; BLAS=/Library/Frameworks/R.framework/Versions/4.5-x86_64/Resources/lib/libRblas.0.dylib; lapack=/Library/Frameworks/R.framework/Versions/4.5-x86_64/Resources/lib/libRlapack.dylib; lapack_version=3.12.1]
[2025-04-21 15:09:30] [INFO]    [OmnipathR] Loaded packages: backports 1.5.0(2024-05-23); bit 4.6.0(2025-03-06); bit64 4.6.0-1(2025-01-16); blob 1.2.4(2023-03-17); cachem 1.1.0(2024-05-16); cellranger 1.1.0(2016-07-27); checkmate 2.3.2(2024-07-29); chromote 0.5.0(2025-03-21); cli 3.6.4(2025-02-13); crayon 1.5.3(2024-06-20); curl 6.2.2(2025-03-24); DBI 1.2.3(2024-06-02); digest 0.6.37(2024-08-19); dplyr 1.1.4(2023-11-17); evaluate 1.0.3(2025-01-10); fastmap 1.2.0(2024-05-15); fs 1.6.6(2025-04-12); generics 0.1.3(2022-07-05); glue 1.8.0(2024-09-30); hms 1.1.3(2023-03-21); htmltools 0.5.8.1(2024-04-04); httr 1.4.7(2023-08-15); httr2 1.1.2(2025-03-26); igraph 2.1.4(2025-01-23); jsonlite 2.0.0(2025-03-27); knitr 1.50(2025-03-16); later 1.4.2(2025-04-08); lifecycle 1.0.4(2023-11-07); logger 0.4.0(2024-10-22); lubridate 1.9.4(2024-12-08); magrittr 2.0.3(2022-03-30); memoise 2.0.1(2021-11-26); OmnipathR 3.16.0(2025-04-21); pillar 1.10.2(2025-04-05); pkgconfig 2.0.3(2019-09-22); prettyunits 1.2.0(2023-09-24); processx 3.8.6(2025-02-21); progress 1.2.3(2023-12-06); promises 1.3.2(2024-11-28); ps 1.9.1(2025-04-12); purrr 1.0.4(2025-02-05); R.methodsS3 1.8.2(2022-06-13); R.oo 1.27.0(2024-11-01); R.utils 2.13.0(2025-02-24); R6 2.6.1(2025-02-15); rappdirs 0.3.3(2021-01-31); Rcpp 1.0.14(2025-01-12); readr 2.1.5(2024-01-10); readxl 1.4.5(2025-03-07); rlang 1.1.6(2025-04-11); rmarkdown 2.29(2024-11-04); RSQLite 2.3.9(2024-12-03); rvest 1.0.4(2024-02-12); sessioninfo 1.2.3(2025-02-05); stringi 1.8.7(2025-03-27); stringr 1.5.1(2023-11-14); tibble 3.2.1(2023-03-20); tidyr 1.3.1(2024-01-24); tidyselect 1.2.1(2024-03-11); timechange 0.3.0(2024-01-18); tzdb 0.5.0(2025-03-15); vctrs 0.6.5(2023-12-01); websocket 1.4.4(2025-04-10); withr 3.0.2(2024-10-28); xfun 0.52(2025-04-02); XML 3.99-0.18(2025-01-01); xml2 1.3.8(2025-03-14); yaml 2.3.10(2024-07-26); zip 2.3.2(2025-02-01)
[2025-04-21 15:09:30] [INFO]    [OmnipathR] CURL: version: 8.11.1; headers: 8.11.1; ssl_version: OpenSSL/3.3.2 (SecureTransport); libz_version: 1.2.11; libssh_version: NA; libidn_version: NA; host: x86_64-apple-darwin22.6.0; protocols: dict, file, ftp, ftps, gopher, gophers, http, https, imap, imaps, ldap, ldaps, mqtt, pop3, pop3s, rtsp, smb, smbs, smtp, smtps, telnet, tftp, ws, wss; ipv6: TRUE; http2: TRUE; idn: FALSE; url_parser: TRUE
[2025-04-21 15:09:30] [TRACE]   [OmnipathR] Running on a build server, wiping cache.
[2025-04-21 15:09:30] [TRACE]   [OmnipathR] Cache is at `/Users/biocbuild/Library/Caches/OmnipathR`.
[2025-04-21 15:09:30] [TRACE]   [OmnipathR] Contains 1 files.
[2025-04-21 15:09:30] [TRACE]   [OmnipathR] Cache is locked: FALSE.
[2025-04-21 15:09:30] [TRACE]   [OmnipathR] Reading JSON from `/Users/biocbuild/Library/Caches/OmnipathR/cache.json` (encoding: UTF-8).
[2025-04-21 15:09:30] [TRACE]   [OmnipathR] JSON validation successful: TRUE
[2025-04-21 15:09:30] [SUCCESS] [OmnipathR] Removing all cache contents from `/Users/biocbuild/Library/Caches/OmnipathR`.
[2025-04-21 15:09:30] [TRACE]   [OmnipathR] Pandoc version: `2.7.3`.
[2025-04-21 15:09:30] [TRACE]   [OmnipathR] Reading JSON from `/Library/Frameworks/R.framework/Versions/4.5-x86_64/Resources/library/00LOCK-OmnipathR/00new/OmnipathR/db/db_def.json` (encoding: UTF-8).
[2025-04-21 15:09:30] [TRACE]   [OmnipathR] JSON validation successful: TRUE
[2025-04-21 15:09:30] [TRACE]   [OmnipathR] Reading JSON from `/Library/Frameworks/R.framework/Versions/4.5-x86_64/Resources/library/00LOCK-OmnipathR/00new/OmnipathR/internal/magic_bytes.json` (encoding: UTF-8).
[2025-04-21 15:09:30] [TRACE]   [OmnipathR] JSON validation successful: TRUE
[2025-04-21 15:09:30] [TRACE]   [OmnipathR] Reading JSON from `/Library/Frameworks/R.framework/Versions/4.5-x86_64/Resources/library/00LOCK-OmnipathR/00new/OmnipathR/internal/urls.json` (encoding: UTF-8).
[2025-04-21 15:09:30] [TRACE]   [OmnipathR] JSON validation successful: TRUE
[2025-04-21 15:09:30] [TRACE]   [OmnipathR] Reading JSON from `/Library/Frameworks/R.framework/Versions/4.5-x86_64/Resources/library/00LOCK-OmnipathR/00new/OmnipathR/internal/id_types.json` (encoding: UTF-8).
[2025-04-21 15:09:30] [TRACE]   [OmnipathR] JSON validation successful: TRUE
[2025-04-21 15:09:30] [TRACE]   [OmnipathR] Cache locked: FALSE
** testing if installed package can be loaded from final location
[2025-04-21 15:09:32] [TRACE]   [OmnipathR] Reading JSON from `/Users/biocbuild/Library/Caches/OmnipathR/cache.json` (encoding: UTF-8).
[2025-04-21 15:09:32] [TRACE]   [OmnipathR] JSON validation successful: TRUE
[2025-04-21 15:09:32] [INFO]    [OmnipathR] Initialized cache: `/Users/biocbuild/Library/Caches/OmnipathR`.
[2025-04-21 15:09:32] [INFO]    [OmnipathR] Package `OmnipathR` packaged: NA
[2025-04-21 15:09:32] [INFO]    [OmnipathR] Package `OmnipathR` date/publication: 2025-04-21
[2025-04-21 15:09:32] [INFO]    [OmnipathR] Package `OmnipathR` built: R 4.5.0; ; 2025-04-21 19:09:16 UTC; unix
[2025-04-21 15:09:32] [INFO]    [OmnipathR] Package `OmnipathR` version: 3.16.0
[2025-04-21 15:09:32] [INFO]    [OmnipathR] Package `OmnipathR` repository: Bioconductor 3.21
[2025-04-21 15:09:32] [INFO]    [OmnipathR] Session info: [version=R version 4.5.0 RC (2025-04-04 r88126); os=macOS Monterey 12.7.6; system=x86_64, darwin20; ui=X11; language=(EN); collate=C; ctype=en_US.UTF-8; tz=America/New_York; date=2025-04-21; pandoc=2.7.3 @ /usr/local/bin/ (via rmarkdown); quarto=NA]
[2025-04-21 15:09:33] [INFO]    [OmnipathR] External libraries: [cairo=1.17.6; cairoFT=; pango=1.50.14; png=1.6.44; jpeg=9.5; tiff=LIBTIFF, Version 4.5.0; tcl=8.6.13; curl=8.7.1; zlib=1.2.11; bzlib=1.0.8, 13-Jul-2019; xz=5.6.3; deflate=1.23; PCRE=10.44 2024-06-07; ICU=70.1; TRE=TRE 0.8.0 R_fixes (BSD); iconv=Apple or GNU libiconv 1.11 /Library/Frameworks/R.framework/Versions/4.5-x86_64/Resources/lib/libR.dylib; readline=5.2; BLAS=/Library/Frameworks/R.framework/Versions/4.5-x86_64/Resources/lib/libRblas.0.dylib; lapack=/Library/Frameworks/R.framework/Versions/4.5-x86_64/Resources/lib/libRlapack.dylib; lapack_version=3.12.1]
[2025-04-21 15:09:33] [INFO]    [OmnipathR] Loaded packages: backports 1.5.0(2024-05-23); bit 4.6.0(2025-03-06); bit64 4.6.0-1(2025-01-16); blob 1.2.4(2023-03-17); cachem 1.1.0(2024-05-16); cellranger 1.1.0(2016-07-27); checkmate 2.3.2(2024-07-29); chromote 0.5.0(2025-03-21); cli 3.6.4(2025-02-13); crayon 1.5.3(2024-06-20); curl 6.2.2(2025-03-24); DBI 1.2.3(2024-06-02); digest 0.6.37(2024-08-19); dplyr 1.1.4(2023-11-17); evaluate 1.0.3(2025-01-10); fastmap 1.2.0(2024-05-15); fs 1.6.6(2025-04-12); generics 0.1.3(2022-07-05); glue 1.8.0(2024-09-30); hms 1.1.3(2023-03-21); htmltools 0.5.8.1(2024-04-04); httr 1.4.7(2023-08-15); httr2 1.1.2(2025-03-26); igraph 2.1.4(2025-01-23); jsonlite 2.0.0(2025-03-27); knitr 1.50(2025-03-16); later 1.4.2(2025-04-08); lifecycle 1.0.4(2023-11-07); logger 0.4.0(2024-10-22); lubridate 1.9.4(2024-12-08); magrittr 2.0.3(2022-03-30); memoise 2.0.1(2021-11-26); OmnipathR 3.16.0(2025-04-21); pillar 1.10.2(2025-04-05); pkgconfig 2.0.3(2019-09-22); prettyunits 1.2.0(2023-09-24); processx 3.8.6(2025-02-21); progress 1.2.3(2023-12-06); promises 1.3.2(2024-11-28); ps 1.9.1(2025-04-12); purrr 1.0.4(2025-02-05); R.methodsS3 1.8.2(2022-06-13); R.oo 1.27.0(2024-11-01); R.utils 2.13.0(2025-02-24); R6 2.6.1(2025-02-15); rappdirs 0.3.3(2021-01-31); Rcpp 1.0.14(2025-01-12); readr 2.1.5(2024-01-10); readxl 1.4.5(2025-03-07); rlang 1.1.6(2025-04-11); rmarkdown 2.29(2024-11-04); RSQLite 2.3.9(2024-12-03); rvest 1.0.4(2024-02-12); sessioninfo 1.2.3(2025-02-05); stringi 1.8.7(2025-03-27); stringr 1.5.1(2023-11-14); tibble 3.2.1(2023-03-20); tidyr 1.3.1(2024-01-24); tidyselect 1.2.1(2024-03-11); timechange 0.3.0(2024-01-18); tzdb 0.5.0(2025-03-15); vctrs 0.6.5(2023-12-01); websocket 1.4.4(2025-04-10); withr 3.0.2(2024-10-28); xfun 0.52(2025-04-02); XML 3.99-0.18(2025-01-01); xml2 1.3.8(2025-03-14); yaml 2.3.10(2024-07-26); zip 2.3.2(2025-02-01)
[2025-04-21 15:09:33] [INFO]    [OmnipathR] CURL: version: 8.11.1; headers: 8.11.1; ssl_version: OpenSSL/3.3.2 (SecureTransport); libz_version: 1.2.11; libssh_version: NA; libidn_version: NA; host: x86_64-apple-darwin22.6.0; protocols: dict, file, ftp, ftps, gopher, gophers, http, https, imap, imaps, ldap, ldaps, mqtt, pop3, pop3s, rtsp, smb, smbs, smtp, smtps, telnet, tftp, ws, wss; ipv6: TRUE; http2: TRUE; idn: FALSE; url_parser: TRUE
[2025-04-21 15:09:33] [TRACE]   [OmnipathR] Running on a build server, wiping cache.
[2025-04-21 15:09:33] [TRACE]   [OmnipathR] Cache is at `/Users/biocbuild/Library/Caches/OmnipathR`.
[2025-04-21 15:09:33] [TRACE]   [OmnipathR] Contains 1 files.
[2025-04-21 15:09:33] [TRACE]   [OmnipathR] Cache is locked: FALSE.
[2025-04-21 15:09:33] [TRACE]   [OmnipathR] Reading JSON from `/Users/biocbuild/Library/Caches/OmnipathR/cache.json` (encoding: UTF-8).
[2025-04-21 15:09:33] [TRACE]   [OmnipathR] JSON validation successful: TRUE
[2025-04-21 15:09:33] [SUCCESS] [OmnipathR] Removing all cache contents from `/Users/biocbuild/Library/Caches/OmnipathR`.
[2025-04-21 15:09:33] [TRACE]   [OmnipathR] Pandoc version: `2.7.3`.
[2025-04-21 15:09:33] [TRACE]   [OmnipathR] Reading JSON from `/Library/Frameworks/R.framework/Versions/4.5-x86_64/Resources/library/OmnipathR/db/db_def.json` (encoding: UTF-8).
[2025-04-21 15:09:33] [TRACE]   [OmnipathR] JSON validation successful: TRUE
[2025-04-21 15:09:33] [TRACE]   [OmnipathR] Reading JSON from `/Library/Frameworks/R.framework/Versions/4.5-x86_64/Resources/library/OmnipathR/internal/magic_bytes.json` (encoding: UTF-8).
[2025-04-21 15:09:33] [TRACE]   [OmnipathR] JSON validation successful: TRUE
[2025-04-21 15:09:33] [TRACE]   [OmnipathR] Reading JSON from `/Library/Frameworks/R.framework/Versions/4.5-x86_64/Resources/library/OmnipathR/internal/urls.json` (encoding: UTF-8).
[2025-04-21 15:09:33] [TRACE]   [OmnipathR] JSON validation successful: TRUE
[2025-04-21 15:09:33] [TRACE]   [OmnipathR] Reading JSON from `/Library/Frameworks/R.framework/Versions/4.5-x86_64/Resources/library/OmnipathR/internal/id_types.json` (encoding: UTF-8).
[2025-04-21 15:09:33] [TRACE]   [OmnipathR] JSON validation successful: TRUE
[2025-04-21 15:09:33] [TRACE]   [OmnipathR] Cache locked: FALSE
** testing if installed package keeps a record of temporary installation path
* DONE (OmnipathR)

Tests output

OmnipathR.Rcheck/tests/testthat.Rout


R version 4.5.0 RC (2025-04-04 r88126) -- "How About a Twenty-Six"
Copyright (C) 2025 The R Foundation for Statistical Computing
Platform: x86_64-apple-darwin20

R is free software and comes with ABSOLUTELY NO WARRANTY.
You are welcome to redistribute it under certain conditions.
Type 'license()' or 'licence()' for distribution details.

R is a collaborative project with many contributors.
Type 'contributors()' for more information and
'citation()' on how to cite R or R packages in publications.

Type 'demo()' for some demos, 'help()' for on-line help, or
'help.start()' for an HTML browser interface to help.
Type 'q()' to quit R.

> #!/usr/bin/env Rscript
> 
> #
> #  This file is part of the `OmnipathR` R package
> #
> #  Copyright
> #  2018-2024
> #  Saez Lab, Uniklinik RWTH Aachen, Heidelberg University
> #
> #  File author(s): Alberto Valdeolivas
> #                  Dénes Türei (turei.denes@gmail.com)
> #                  Attila Gábor
> #
> #  Distributed under the MIT (Expat) License.
> #  See accompanying file `LICENSE` or find a copy at
> #      https://directory.fsf.org/wiki/License:Expat
> #
> #  Website: https://r.omnipathdb.org/
> #  Git repo: https://github.com/saezlab/OmnipathR
> #
> 
> 
> library(testthat)
> library(OmnipathR)
[2025-04-21 22:40:24] [TRACE]   [OmnipathR] Reading JSON from `/Users/biocbuild/Library/Caches/OmnipathR/cache.json` (encoding: UTF-8).
[2025-04-21 22:40:24] [TRACE]   [OmnipathR] JSON validation successful: TRUE
[2025-04-21 22:40:24] [INFO]    [OmnipathR] Initialized cache: `/Users/biocbuild/Library/Caches/OmnipathR`.
[2025-04-21 22:40:24] [INFO]    [OmnipathR] Package `OmnipathR` packaged: NA
[2025-04-21 22:40:24] [INFO]    [OmnipathR] Package `OmnipathR` date/publication: 2025-04-21
[2025-04-21 22:40:24] [INFO]    [OmnipathR] Package `OmnipathR` built: R 4.5.0; ; 2025-04-21 19:09:16 UTC; unix
[2025-04-21 22:40:24] [INFO]    [OmnipathR] Package `OmnipathR` version: 3.16.0
[2025-04-21 22:40:24] [INFO]    [OmnipathR] Package `OmnipathR` repository: Bioconductor 3.21
[2025-04-21 22:40:24] [INFO]    [OmnipathR] Session info: [version=R version 4.5.0 RC (2025-04-04 r88126); os=macOS Monterey 12.7.6; system=x86_64, darwin20; ui=X11; language=C; collate=C; ctype=en_US.UTF-8; tz=America/New_York; date=2025-04-21; pandoc=2.7.3 @ /usr/local/bin/ (via rmarkdown); quarto=NA]
[2025-04-21 22:40:25] [INFO]    [OmnipathR] External libraries: [cairo=1.17.6; cairoFT=; pango=1.50.14; png=1.6.44; jpeg=9.5; tiff=LIBTIFF, Version 4.5.0; tcl=8.6.13; curl=8.7.1; zlib=1.2.11; bzlib=1.0.8, 13-Jul-2019; xz=5.6.3; deflate=1.23; PCRE=10.44 2024-06-07; ICU=70.1; TRE=TRE 0.8.0 R_fixes (BSD); iconv=Apple or GNU libiconv 1.11 /Library/Frameworks/R.framework/Versions/4.5-x86_64/Resources/lib/libR.dylib; readline=5.2; BLAS=/Library/Frameworks/R.framework/Versions/4.5-x86_64/Resources/lib/libRblas.0.dylib; lapack=/Library/Frameworks/R.framework/Versions/4.5-x86_64/Resources/lib/libRlapack.dylib; lapack_version=3.12.1]
[2025-04-21 22:40:25] [INFO]    [OmnipathR] Loaded packages: backports 1.5.0(2024-05-23); bit 4.6.0(2025-03-06); bit64 4.6.0-1(2025-01-16); blob 1.2.4(2023-03-17); brio 1.1.5(2024-04-24); cachem 1.1.0(2024-05-16); cellranger 1.1.0(2016-07-27); checkmate 2.3.2(2024-07-29); chromote 0.5.0(2025-03-21); cli 3.6.4(2025-02-13); crayon 1.5.3(2024-06-20); curl 6.2.2(2025-03-24); DBI 1.2.3(2024-06-02); digest 0.6.37(2024-08-19); dplyr 1.1.4(2023-11-17); evaluate 1.0.3(2025-01-10); fastmap 1.2.0(2024-05-15); fs 1.6.6(2025-04-12); generics 0.1.3(2022-07-05); glue 1.8.0(2024-09-30); hms 1.1.3(2023-03-21); htmltools 0.5.8.1(2024-04-04); httr 1.4.7(2023-08-15); httr2 1.1.2(2025-03-26); igraph 2.1.4(2025-01-23); jsonlite 2.0.0(2025-03-27); knitr 1.50(2025-03-16); later 1.4.2(2025-04-08); lifecycle 1.0.4(2023-11-07); logger 0.4.0(2024-10-22); lubridate 1.9.4(2024-12-08); magrittr 2.0.3(2022-03-30); memoise 2.0.1(2021-11-26); OmnipathR 3.16.0(2025-04-21); pillar 1.10.2(2025-04-05); pkgconfig 2.0.3(2019-09-22); prettyunits 1.2.0(2023-09-24); processx 3.8.6(2025-02-21); progress 1.2.3(2023-12-06); promises 1.3.2(2024-11-28); ps 1.9.1(2025-04-12); purrr 1.0.4(2025-02-05); R.methodsS3 1.8.2(2022-06-13); R.oo 1.27.0(2024-11-01); R.utils 2.13.0(2025-02-24); R6 2.6.1(2025-02-15); rappdirs 0.3.3(2021-01-31); Rcpp 1.0.14(2025-01-12); readr 2.1.5(2024-01-10); readxl 1.4.5(2025-03-07); rlang 1.1.6(2025-04-11); rmarkdown 2.29(2024-11-04); RSQLite 2.3.9(2024-12-03); rvest 1.0.4(2024-02-12); sessioninfo 1.2.3(2025-02-05); stringi 1.8.7(2025-03-27); stringr 1.5.1(2023-11-14); testthat 3.2.3(2025-01-13); tibble 3.2.1(2023-03-20); tidyr 1.3.1(2024-01-24); tidyselect 1.2.1(2024-03-11); timechange 0.3.0(2024-01-18); tzdb 0.5.0(2025-03-15); vctrs 0.6.5(2023-12-01); websocket 1.4.4(2025-04-10); withr 3.0.2(2024-10-28); xfun 0.52(2025-04-02); XML 3.99-0.18(2025-01-01); xml2 1.3.8(2025-03-14); yaml 2.3.10(2024-07-26); zip 2.3.2(2025-02-01)
[2025-04-21 22:40:25] [INFO]    [OmnipathR] CURL: version: 8.11.1; headers: 8.11.1; ssl_version: OpenSSL/3.3.2 (SecureTransport); libz_version: 1.2.11; libssh_version: NA; libidn_version: NA; host: x86_64-apple-darwin22.6.0; protocols: dict, file, ftp, ftps, gopher, gophers, http, https, imap, imaps, ldap, ldaps, mqtt, pop3, pop3s, rtsp, smb, smbs, smtp, smtps, telnet, tftp, ws, wss; ipv6: TRUE; http2: TRUE; idn: FALSE; url_parser: TRUE
[2025-04-21 22:40:25] [TRACE]   [OmnipathR] Running on a build server, wiping cache.
[2025-04-21 22:40:25] [TRACE]   [OmnipathR] Cache is at `/Users/biocbuild/Library/Caches/OmnipathR`.
[2025-04-21 22:40:25] [TRACE]   [OmnipathR] Contains 21 files.
[2025-04-21 22:40:25] [TRACE]   [OmnipathR] Cache is locked: FALSE.
[2025-04-21 22:40:25] [TRACE]   [OmnipathR] Reading JSON from `/Users/biocbuild/Library/Caches/OmnipathR/cache.json` (encoding: UTF-8).
[2025-04-21 22:40:25] [TRACE]   [OmnipathR] JSON validation successful: TRUE
[2025-04-21 22:40:25] [SUCCESS] [OmnipathR] Removing all cache contents from `/Users/biocbuild/Library/Caches/OmnipathR`.
[2025-04-21 22:40:25] [TRACE]   [OmnipathR] Pandoc version: `2.7.3`.
[2025-04-21 22:40:25] [TRACE]   [OmnipathR] Reading JSON from `/Library/Frameworks/R.framework/Versions/4.5-x86_64/Resources/library/OmnipathR/db/db_def.json` (encoding: UTF-8).
[2025-04-21 22:40:25] [TRACE]   [OmnipathR] JSON validation successful: TRUE
[2025-04-21 22:40:25] [TRACE]   [OmnipathR] Reading JSON from `/Library/Frameworks/R.framework/Versions/4.5-x86_64/Resources/library/OmnipathR/internal/magic_bytes.json` (encoding: UTF-8).
[2025-04-21 22:40:25] [TRACE]   [OmnipathR] JSON validation successful: TRUE
[2025-04-21 22:40:25] [TRACE]   [OmnipathR] Reading JSON from `/Library/Frameworks/R.framework/Versions/4.5-x86_64/Resources/library/OmnipathR/internal/urls.json` (encoding: UTF-8).
[2025-04-21 22:40:25] [TRACE]   [OmnipathR] JSON validation successful: TRUE
[2025-04-21 22:40:25] [TRACE]   [OmnipathR] Reading JSON from `/Library/Frameworks/R.framework/Versions/4.5-x86_64/Resources/library/OmnipathR/internal/id_types.json` (encoding: UTF-8).
[2025-04-21 22:40:25] [TRACE]   [OmnipathR] JSON validation successful: TRUE
[2025-04-21 22:40:25] [TRACE]   [OmnipathR] Cache locked: FALSE
> 
> test_check('OmnipathR')
[ FAIL 0 | WARN 11 | SKIP 0 | PASS 38 ]

[ FAIL 0 | WARN 11 | SKIP 0 | PASS 38 ]
> 
> proc.time()
   user  system elapsed 
 15.863   2.313  55.145 

Example timings

OmnipathR.Rcheck/OmnipathR-Ex.timings

nameusersystemelapsed
OmnipathR0.0000.0000.001
all_uniprot_acs0.0220.0040.025
all_uniprots 1.704 0.26328.054
ancestors0.0100.0020.012
annotated_network1.1740.1354.375
annotation_categories56.198 0.33158.275
annotation_resources0.0600.0080.602
annotations0.5020.0551.297
biomart_query1.2660.2344.051
bioplex10.0110.0020.012
bioplex20.0110.0020.012
bioplex30.0110.0020.012
bioplex_all0.0090.0020.011
bioplex_hct116_10.0100.0020.011
bma_motif_es0.6030.0691.386
bma_motif_vs0.1930.0260.779
chalmers_gem0.0110.0020.012
chalmers_gem_id_mapping_table0.0110.0020.012
chalmers_gem_id_type0.0020.0000.002
chalmers_gem_metabolites0.0100.0010.012
chalmers_gem_network0.0110.0010.013
chalmers_gem_raw0.0120.0020.013
chalmers_gem_reactions0.0100.0020.012
common_name0.0350.0040.040
complex_genes0.6770.0642.478
complex_resources0.0610.0070.736
complexes0.1640.0170.915
consensuspathdb_download000
consensuspathdb_raw_table0.0100.0020.012
cosmos_pkn000
curated_ligand_receptor_interactions 6.648 1.15516.904
curated_ligrec_stats 38.399 16.318131.238
database_summary1.7211.2386.178
descendants0.0120.0040.017
ensembl_dataset0.0140.0040.019
ensembl_id_mapping_table 1.943 0.57215.221
ensembl_id_type0.0020.0010.003
ensembl_name0.0800.0090.135
ensembl_organisms0.1960.0320.323
ensembl_organisms_raw0.1500.0300.303
ensembl_orthology0.0000.0010.002
enzsub_graph2.8480.2326.648
enzsub_resources0.0760.0090.626
enzyme_substrate1.5030.0722.849
evex_download0.0170.0020.051
evidences0.0000.0000.001
extra_attr_values15.669 5.56033.782
extra_attrs10.844 2.34418.912
extra_attrs_to_cols17.290 3.08326.972
filter_by_resource10.659 0.76819.208
filter_extra_attrs38.90012.55364.598
filter_intercell 6.652 0.74813.743
filter_intercell_network0.0270.0040.060
find_all_paths7.0690.4699.552
from_evidences000
get_db0.0000.0000.001
get_ontology_db0.0120.0010.014
giant_component10.600 1.30914.564
go_annot_download14.085 1.83014.889
go_annot_slim000
go_ontology_download0.0130.0020.014
guide2pharma_download0.0110.0020.015
harmonizome_download0.0140.0020.016
has_extra_attrs 9.603 3.10112.797
hmdb_id_mapping_table0.0100.0010.011
hmdb_id_type0.0030.0000.002
hmdb_metabolite_fields0.0010.0010.001
hmdb_protein_fields0.0010.0010.001
hmdb_table0.0110.0020.013
homologene_download0.0100.0020.013
homologene_raw0.0230.0040.026
homologene_uniprot_orthology0.0120.0020.014
hpo_download2.5800.4385.592
htridb_download0.0110.0020.013
id_translation_resources0.0010.0000.001
id_types0.0540.0110.066
inbiomap_download0.0010.0010.000
inbiomap_raw0.0000.0010.000
interaction_datasets0.6780.0871.010
interaction_graph0.3850.0300.939
interaction_resources0.0880.0130.743
interaction_types0.0500.0070.057
intercell0.7280.1211.515
intercell_categories0.6070.0860.935
intercell_consensus_filter1.3850.1693.114
intercell_generic_categories0.0530.0080.061
intercell_network0.0110.0020.013
intercell_resources0.0600.0080.599
intercell_summary0.060.020.08
is_ontology_id000
is_swissprot0.0320.0040.036
is_trembl0.0340.0050.039
is_uniprot0.0120.0020.015
kegg_api_templates0.0010.0020.004
kegg_conv 1.343 0.19115.260
kegg_databases0.0000.0010.001
kegg_ddi0.6160.0792.039
kegg_find0.6180.0862.206
kegg_info0.0120.0020.014
kegg_link0.7120.0926.094
kegg_list0.6400.0791.738
kegg_open0.0110.0020.013
kegg_operations0.0000.0000.001
kegg_organism_codes0.0260.0660.091
kegg_organisms0.0280.0070.035
kegg_pathway_annotations000
kegg_pathway_download0.0110.0020.013
kegg_pathway_list0.0100.0010.012
kegg_pathways_download0.0010.0000.000
kegg_picture0.8960.0525.224
kegg_process0.0240.0030.027
kegg_query0.0100.0000.011
kegg_request0.0820.0100.093
kegg_rm_prefix0.7770.1116.174
latin_name0.0650.0060.072
load_db0.0960.0210.118
metalinksdb_sqlite 0.977 0.45912.708
metalinksdb_table0.2880.0620.380
metalinksdb_tables0.0220.0060.028
ncbi_taxid0.0730.0070.080
nichenet_build_model000
nichenet_expression_data0.0120.0020.014
nichenet_gr_network0.0310.0050.036
nichenet_gr_network_evex0.0110.0010.013
nichenet_gr_network_harmonizome0.0100.0020.013
nichenet_gr_network_htridb0.0100.0020.012
nichenet_gr_network_omnipath16.114 1.66520.074
nichenet_gr_network_pathwaycommons0.0110.0010.013
nichenet_gr_network_regnetwork0.0110.0020.013
nichenet_gr_network_remap0.0110.0020.014
nichenet_gr_network_trrust0.0100.0010.012
nichenet_ligand_activities000
nichenet_ligand_target_links0.0000.0010.000
nichenet_ligand_target_matrix000
nichenet_lr_network0.0330.0050.039
nichenet_lr_network_guide2pharma0.0110.0020.013
nichenet_lr_network_omnipath0.0340.0060.039
nichenet_lr_network_ramilowski0.0110.0020.013
nichenet_main0.0000.0010.001
nichenet_networks0.0810.0110.093
nichenet_optimization0.0000.0010.000
nichenet_remove_orphan_ligands0.0330.0050.037
nichenet_results_dir0.0000.0010.001
nichenet_signaling_network0.0340.0050.039
nichenet_signaling_network_cpdb0.0110.0020.012
nichenet_signaling_network_evex0.0110.0010.013
nichenet_signaling_network_harmonizome0.0090.0020.011
nichenet_signaling_network_inbiomap0.0000.0000.001
nichenet_signaling_network_omnipath11.532 1.20119.298
nichenet_signaling_network_pathwaycommons0.0120.0020.014
nichenet_signaling_network_vinayagam0.0110.0020.012
nichenet_test000
nichenet_workarounds0.0000.0010.000
obo_parser0.0990.0230.419
oma_code0.0360.0030.039
oma_organisms0.1140.0180.133
oma_pairwise0.0120.0020.025
oma_pairwise_genesymbols0.0110.0020.012
oma_pairwise_translated0.0120.0020.013
omnipath-interactions29.074 2.98969.351
omnipath_cache_autoclean0.0000.0000.001
omnipath_cache_clean0.0100.0030.014
omnipath_cache_clean_db0.1810.0250.208
omnipath_cache_download_ready0.5960.1570.858
omnipath_cache_filter_versions0.1120.0310.171
omnipath_cache_get0.0960.0220.120
omnipath_cache_key0.0010.0010.002
omnipath_cache_latest_or_new0.0720.0160.090
omnipath_cache_load0.5370.0503.283
omnipath_cache_move_in0.1640.0430.222
omnipath_cache_remove0.1070.0290.147
omnipath_cache_save0.1880.0340.311
omnipath_cache_search0.0010.0010.001
omnipath_cache_set_ext0.0830.0240.118
omnipath_cache_update_status0.0980.0210.121
omnipath_cache_wipe0.0000.0000.001
omnipath_config_path0.0010.0000.000
omnipath_for_cosmos 8.891 0.82323.920
omnipath_load_config0.0010.0000.000
omnipath_log0.0000.0010.001
omnipath_logfile0.0020.0000.002
omnipath_msg0.0050.0010.006
omnipath_query3.7620.2454.057
omnipath_reset_config000
omnipath_save_config0.0010.0000.000
omnipath_set_cachedir0.0310.0050.038
omnipath_set_console_loglevel0.0030.0000.003
omnipath_set_logfile_loglevel0.0050.0010.005
omnipath_set_loglevel0.0020.0000.002
omnipath_show_db0.0810.0200.102
omnipath_unlock_cache_db000
only_from000
ontology_ensure_id0.0000.0000.001
ontology_ensure_name000
ontology_name_id0.0010.0000.002
organism_for0.0510.0050.057
pathwaycommons_download0.0000.0000.002
pivot_annotations10.454 1.03228.802
preppi_download000
preppi_filter0.0010.0010.001
print_bma_motif_es0.4790.0951.408
print_bma_motif_vs0.1290.0190.789
print_interactions 6.202 0.56913.386
print_path_es0.7540.0722.485
print_path_vs2.4730.3065.727
pubmed_open4.1880.2494.495
query_info0.3690.0300.634
ramilowski_download0.0000.0010.001
ramp_id_mapping_table000
ramp_id_type0.0030.0000.004
ramp_sqlite0.0010.0000.001
ramp_table0.0010.0000.000
ramp_tables0.0010.0000.001
regnetwork_directions0.0000.0010.001
regnetwork_download0.0000.0000.001
relations_list_to_table0.1020.0220.197
relations_table_to_graph0.0000.0000.001
relations_table_to_list0.0830.0160.111
remap_dorothea_download0.0000.0000.001
remap_filtered0.0000.0000.001
remap_tf_target_download000
resource_info0.4070.0700.707
resources0.0510.0070.651
resources_colname0.8600.0913.569
resources_in3.8580.3314.337
show_network000
signed_ptms5.0560.2955.943
simplify_intercell_network0.0010.0000.001
static_table6.5080.6007.792
static_tables0.0650.0140.084
stitch_actions000
stitch_links0.0010.0000.000
stitch_network0.0010.0000.001
stitch_remove_prefixes0.0090.0010.011
swap_relations0.0930.0160.122
swissprots_only0.1070.0120.119
tfcensus_download0.5280.0680.749
translate_ids 1.062 0.15919.416
translate_ids_multi 7.097 0.61118.481
trembls_only0.0420.0050.048
trrust_download0.0010.0010.001
uniprot_full_id_mapping_table 0.957 0.17022.073
uniprot_genesymbol_cleanup000
uniprot_id_mapping_table0.0010.0010.001
uniprot_id_type0.0020.0010.002
uniprot_idmapping_id_types0.4500.0571.154
unique_intercell_network0.0010.0000.001
unnest_evidences0.0000.0000.001
uploadlists_id_type0.0030.0010.003
vinayagam_download0.0010.0000.001
walk_ontology_tree0.0010.0010.002
with_extra_attrs14.366 3.29720.089
with_references0.7960.1172.304
zenodo_download0.0010.0010.002