| Back to Multiple platform build/check report for BioC 3.22: simplified long |
|
This page was generated on 2025-11-14 11:58 -0500 (Fri, 14 Nov 2025).
| Hostname | OS | Arch (*) | R version | Installed pkgs |
|---|---|---|---|---|
| nebbiolo2 | Linux (Ubuntu 24.04.3 LTS) | x86_64 | 4.5.1 Patched (2025-08-23 r88802) -- "Great Square Root" | 4903 |
| taishan | Linux (openEuler 24.03 LTS) | aarch64 | 4.5.0 (2025-04-11) -- "How About a Twenty-Six" | 4668 |
| Click on any hostname to see more info about the system (e.g. compilers) (*) as reported by 'uname -p', except on Windows and Mac OS X | ||||
| Package 1505/2361 | Hostname | OS / Arch | INSTALL | BUILD | CHECK | BUILD BIN | ||||||||
| OmnipathR 3.18.1 (landing page) Denes Turei
| nebbiolo2 | Linux (Ubuntu 24.04.3 LTS) / x86_64 | OK | OK | TIMEOUT | |||||||||
| taishan | Linux (openEuler 24.03 LTS) / aarch64 | OK | OK | OK | ||||||||||
|
To the developers/maintainers of the OmnipathR package: - Allow up to 24 hours (and sometimes 48 hours) for your latest push to git@git.bioconductor.org:packages/OmnipathR.git to reflect on this report. See Troubleshooting Build Report for more information. - Use the following Renviron settings to reproduce errors and warnings. - If 'R CMD check' started to fail recently on the Linux builder(s) over a missing dependency, add the missing dependency to 'Suggests:' in your DESCRIPTION file. See Renviron.bioc for more information. |
| Package: OmnipathR |
| Version: 3.18.1 |
| Command: /home/biocbuild/bbs-3.22-bioc/R/bin/R CMD check --install=check:OmnipathR.install-out.txt --library=/home/biocbuild/bbs-3.22-bioc/R/site-library --timings OmnipathR_3.18.1.tar.gz |
| StartedAt: 2025-11-14 02:22:51 -0500 (Fri, 14 Nov 2025) |
| EndedAt: 2025-11-14 03:02:52 -0500 (Fri, 14 Nov 2025) |
| EllapsedTime: 2400.7 seconds |
| RetCode: None |
| Status: TIMEOUT |
| CheckDir: OmnipathR.Rcheck |
| Warnings: NA |
##############################################################################
##############################################################################
###
### Running command:
###
### /home/biocbuild/bbs-3.22-bioc/R/bin/R CMD check --install=check:OmnipathR.install-out.txt --library=/home/biocbuild/bbs-3.22-bioc/R/site-library --timings OmnipathR_3.18.1.tar.gz
###
##############################################################################
##############################################################################
* using log directory ‘/home/biocbuild/bbs-3.22-bioc/meat/OmnipathR.Rcheck’
* using R version 4.5.1 Patched (2025-08-23 r88802)
* using platform: x86_64-pc-linux-gnu
* R was compiled by
gcc (Ubuntu 13.3.0-6ubuntu2~24.04) 13.3.0
GNU Fortran (Ubuntu 13.3.0-6ubuntu2~24.04) 13.3.0
* running under: Ubuntu 24.04.3 LTS
* using session charset: UTF-8
* checking for file ‘OmnipathR/DESCRIPTION’ ... OK
* checking extension type ... Package
* this is package ‘OmnipathR’ version ‘3.18.1’
* package encoding: UTF-8
* checking package namespace information ... OK
* checking package dependencies ... INFO
Imports includes 35 non-default packages.
Importing from so many packages makes the package vulnerable to any of
them becoming unavailable. Move as many as possible to Suggests and
use conditionally.
* checking if this is a source package ... OK
* checking if there is a namespace ... OK
* checking for hidden files and directories ... OK
* checking for portable file names ... OK
* checking for sufficient/correct file permissions ... OK
* checking whether package ‘OmnipathR’ can be installed ... OK
* checking installed package size ... OK
* checking package directory ... OK
* checking DESCRIPTION meta-information ... OK
* checking top-level files ... OK
* checking for left-over files ... OK
* checking index information ... OK
* checking package subdirectories ... OK
* checking code files for non-ASCII characters ... OK
* checking R files for syntax errors ... OK
* checking whether the package can be loaded ... OK
* checking whether the package can be loaded with stated dependencies ... OK
* checking whether the package can be unloaded cleanly ... OK
* checking whether the namespace can be loaded with stated dependencies ... OK
* checking whether the namespace can be unloaded cleanly ... OK
* checking loading without being on the library search path ... OK
* checking whether startup messages can be suppressed ... NOTE
[2025-11-14 02:23:21] [TRACE] [OmnipathR] Reading JSON from `/home/biocbuild/.cache/OmnipathR/cache.json` (encoding: UTF-8).
[2025-11-14 02:23:21] [TRACE] [OmnipathR] JSON validation successful: TRUE
[2025-11-14 02:23:21] [INFO] [OmnipathR] Initialized cache: `/home/biocbuild/.cache/OmnipathR`.
[2025-11-14 02:23:21] [INFO] [OmnipathR] Package `OmnipathR` packaged: NA
[2025-11-14 02:23:21] [INFO] [OmnipathR] Package `OmnipathR` date/publication: 2025-11-13
[2025-11-14 02:23:21] [INFO] [OmnipathR] Package `OmnipathR` built: R 4.5.1; ; 2025-11-13 20:09:12 UTC; unix
[2025-11-14 02:23:21] [INFO] [OmnipathR] Package `OmnipathR` version: 3.18.1
[2025-11-14 02:23:21] [INFO] [OmnipathR] Package `OmnipathR` repository: Bioconductor 3.22
[2025-11-14 02:23:21] [INFO] [OmnipathR] Session info: [version=R version 4.5.1 Patched (2025-08-23 r88802); os=Ubuntu 24.04.3 LTS; system=x86_64, linux-gnu; ui=X11; language=(EN); collate=C; ctype=en_US.UTF-8; tz=America/New_York; date=2025-11-14; pandoc=2.7.3 @ /usr/bin/ (via rmarkdown); quarto=1.7.32 @ /usr/local/bin/quarto]
[2025-11-14 02:23:21] [INFO] [OmnipathR] External libraries: [cairo=1.18.0; cairoFT=; pango=1.52.1; png=1.6.43; jpeg=8.0; tiff=LIBTIFF, Version 4.5.1; tcl=8.6.14; curl=8.5.0; zlib=1.3; bzlib=1.0.8, 13-Jul-2019; xz=5.4.5; deflate=1.19; PCRE=10.42 2022-12-11; ICU=74.2; TRE=TRE 0.8.0 R_fixes (BSD); iconv=glibc 2.39; readline=8.2; BLAS=/home/biocbuild/bbs-3.22-bioc/R/lib/libRblas.so; lapack=/usr/lib/x86_64-linux-gnu/lapack/liblapack.so.3.12.0; lapack_version=3.12.0]
[2025-11-14 02:23:21] [INFO] [OmnipathR] Loaded packages: backports 1.5.0(2024-05-23); bit 4.6.0(2025-03-06); bit64 4.6.0-1(2025-01-16); blob 1.2.4(2023-03-17); cachem 1.1.0(2024-05-16); cellranger 1.1.0(2016-07-27); checkmate 2.3.3(2025-08-18); chromote 0.5.1(2025-04-24); cli 3.6.5(2025-04-23); crayon 1.5.3(2024-06-20); curl 7.0.0(2025-08-19); DBI 1.2.3(2024-06-02); digest 0.6.38(2025-11-12); dplyr 1.1.4(2023-11-17); evaluate 1.0.5(2025-08-27); fastmap 1.2.0(2024-05-15); fs 1.6.6(2025-04-12); generics 0.1.4(2025-05-09); glue 1.8.0(2024-09-30); hms 1.1.4(2025-10-17); htmltools 0.5.8.1(2024-04-04); httr 1.4.7(2023-08-15); httr2 1.2.1(2025-07-22); igraph 2.2.1(2025-10-27); jsonlite 2.0.0(2025-03-27); knitr 1.50(2025-03-16); later 1.4.4(2025-08-27); lifecycle 1.0.4(2023-11-07); logger 0.4.1(2025-09-11); lubridate 1.9.4(2024-12-08); magrittr 2.0.4(2025-09-12); memoise 2.0.1(2021-11-26); OmnipathR 3.18.1(2025-11-13); otel 0.2.0(2025-08-29); pillar 1.11.1(2025-09-17); pkgconfig 2.0.3(2019-09-22); prettyunits 1.2.0(2023-09-24); processx 3.8.6(2025-02-21); progress 1.2.3(2023-12-06); promises 1.5.0(2025-11-01); ps 1.9.1(2025-04-12); purrr 1.2.0(2025-11-04); R.methodsS3 1.8.2(2022-06-13); R.oo 1.27.1(2025-05-02); R.utils 2.13.0(2025-02-24); R6 2.6.1(2025-02-15); rappdirs 0.3.3(2021-01-31); Rcpp 1.1.0(2025-07-02); readr 2.1.5(2024-01-10); readxl 1.4.5(2025-03-07); rlang 1.1.6(2025-04-11); rmarkdown 2.30(2025-09-28); RSQLite 2.4.4(2025-11-10); rvest 1.0.5(2025-08-29); sessioninfo 1.2.3(2025-02-05); stringi 1.8.7(2025-03-27); stringr 1.6.0(2025-11-04); tibble 3.3.0(2025-06-08); tidyr 1.3.1(2024-01-24); tidyselect 1.2.1(2024-03-11); timechange 0.3.0(2024-01-18); tzdb 0.5.0(2025-03-15); vctrs 0.6.5(2023-12-01); websocket 1.4.4(2025-04-10); withr 3.0.2(2024-10-28); xfun 0.54(2025-10-30); XML 3.99-0.20(2025-11-08); xml2 1.4.1(2025-10-27); yaml 2.3.10(2024-07-26); zip 2.3.3(2025-05-13)
[2025-11-14 02:23:21] [INFO] [OmnipathR] CURL: version: 8.5.0; headers: 8.5.0; ssl_version: GnuTLS/3.8.3; libz_version: 1.3; libssh_version: libssh/0.10.6/openssl/zlib; libidn_version: 2.3.7; host: x86_64-pc-linux-gnu; protocols: dict, file, ftp, ftps, gopher, gophers, http, https, imap, imaps, ldap, ldaps, mqtt, pop3, pop3s, rtmp, rtmpe, rtmps, rtmpt, rtmpte, rtmpts, rtsp, scp, sftp, smb, smbs, smtp, smtps, telnet, tftp; ipv6: TRUE; http2: TRUE; idn: TRUE; url_parser: TRUE
[2025-11-14 02:23:21] [TRACE] [OmnipathR] Running on a build server, wiping cache.
[2025-11-14 02:23:21] [TRACE] [OmnipathR] Cache is at `/home/biocbuild/.cache/OmnipathR`.
[2025-11-14 02:23:21] [TRACE] [OmnipathR] Contains 1 files.
[2025-11-14 02:23:21] [TRACE] [OmnipathR] Cache is locked: FALSE.
[2025-11-14 02:23:21] [TRACE] [OmnipathR] Reading JSON from `/home/biocbuild/.cache/OmnipathR/cache.json` (encoding: UTF-8).
[2025-11-14 02:23:21] [TRACE] [OmnipathR] JSON validation successful: TRUE
[2025-11-14 02:23:21] [SUCCESS] [OmnipathR] Removing all cache contents from `/home/biocbuild/.cache/OmnipathR`.
[2025-11-14 02:23:21] [TRACE] [OmnipathR] Pandoc version: `2.7.3`.
[2025-11-14 02:23:21] [TRACE] [OmnipathR] Reading JSON from `/home/biocbuild/bbs-3.22-bioc/R/site-library/OmnipathR/db/db_def.json` (encoding: UTF-8).
[2025-11-14 02:23:21] [TRACE] [OmnipathR] JSON validation successful: TRUE
[2025-11-14 02:23:21] [TRACE] [OmnipathR] Reading JSON from `/home/biocbuild/bbs-3.22-bioc/R/site-library/OmnipathR/internal/magic_bytes.json` (encoding: UTF-8).
[2025-11-14 02:23:21] [TRACE] [OmnipathR] JSON validation successful: TRUE
[2025-11-14 02:23:21] [TRACE] [OmnipathR] Reading JSON from `/home/biocbuild/bbs-3.22-bioc/R/site-library/OmnipathR/internal/urls.json` (encoding: UTF-8).
[2025-11-14 02:23:21] [TRACE] [OmnipathR] JSON validation successful: TRUE
[2025-11-14 02:23:21] [TRACE] [OmnipathR] Reading JSON from `/home/biocbuild/bbs-3.22-bioc/R/site-library/OmnipathR/internal/id_types.json` (encoding: UTF-8).
[2025-11-14 02:23:21] [TRACE] [OmnipathR] JSON validation successful: TRUE
[2025-11-14 02:23:21] [TRACE] [OmnipathR] Cache locked: FALSE
It looks like this package (or a package it requires) has a startup
message which cannot be suppressed: see ?packageStartupMessage.
* checking dependencies in R code ... OK
* checking S3 generic/method consistency ... OK
* checking replacement functions ... OK
* checking foreign function calls ... OK
* checking R code for possible problems ... NOTE
[2025-11-14 02:23:38] [TRACE] [OmnipathR] Reading JSON from `/home/biocbuild/.cache/OmnipathR/cache.json` (encoding: UTF-8).
[2025-11-14 02:23:38] [TRACE] [OmnipathR] JSON validation successful: TRUE
[2025-11-14 02:23:38] [INFO] [OmnipathR] Initialized cache: `/home/biocbuild/.cache/OmnipathR`.
[2025-11-14 02:23:38] [INFO] [OmnipathR] Package `OmnipathR` packaged: NA
[2025-11-14 02:23:38] [INFO] [OmnipathR] Package `OmnipathR` date/publication: 2025-11-13
[2025-11-14 02:23:38] [INFO] [OmnipathR] Package `OmnipathR` built: R 4.5.1; ; 2025-11-13 20:09:12 UTC; unix
[2025-11-14 02:23:38] [INFO] [OmnipathR] Package `OmnipathR` version: 3.18.1
[2025-11-14 02:23:38] [INFO] [OmnipathR] Package `OmnipathR` repository: Bioconductor 3.22
[2025-11-14 02:23:38] [INFO] [OmnipathR] Session info: [version=R version 4.5.1 Patched (2025-08-23 r88802); os=Ubuntu 24.04.3 LTS; system=x86_64, linux-gnu; ui=X11; language=(EN); collate=C; ctype=en_US.UTF-8; tz=America/New_York; date=2025-11-14; pandoc=2.7.3 @ /usr/bin/ (via rmarkdown); quarto=1.7.32 @ /usr/local/bin/quarto]
[2025-11-14 02:23:38] [INFO] [OmnipathR] External libraries: [cairo=1.18.0; cairoFT=; pango=1.52.1; png=1.6.43; jpeg=8.0; tiff=LIBTIFF, Version 4.5.1; tcl=8.6.14; curl=8.5.0; zlib=1.3; bzlib=1.0.8, 13-Jul-2019; xz=5.4.5; deflate=1.19; PCRE=10.42 2022-12-11; ICU=74.2; TRE=TRE 0.8.0 R_fixes (BSD); iconv=glibc 2.39; readline=8.2; BLAS=/home/biocbuild/bbs-3.22-bioc/R/lib/libRblas.so; lapack=/usr/lib/x86_64-linux-gnu/lapack/liblapack.so.3.12.0; lapack_version=3.12.0]
[2025-11-14 02:23:38] [INFO] [OmnipathR] Loaded packages: backports 1.5.0(2024-05-23); bit 4.6.0(2025-03-06); bit64 4.6.0-1(2025-01-16); blob 1.2.4(2023-03-17); cachem 1.1.0(2024-05-16); cellranger 1.1.0(2016-07-27); checkmate 2.3.3(2025-08-18); chromote 0.5.1(2025-04-24); cli 3.6.5(2025-04-23); crayon 1.5.3(2024-06-20); curl 7.0.0(2025-08-19); DBI 1.2.3(2024-06-02); digest 0.6.38(2025-11-12); dplyr 1.1.4(2023-11-17); evaluate 1.0.5(2025-08-27); fastmap 1.2.0(2024-05-15); fs 1.6.6(2025-04-12); generics 0.1.4(2025-05-09); glue 1.8.0(2024-09-30); hms 1.1.4(2025-10-17); htmltools 0.5.8.1(2024-04-04); httr 1.4.7(2023-08-15); httr2 1.2.1(2025-07-22); igraph 2.2.1(2025-10-27); jsonlite 2.0.0(2025-03-27); knitr 1.50(2025-03-16); later 1.4.4(2025-08-27); lifecycle 1.0.4(2023-11-07); logger 0.4.1(2025-09-11); lubridate 1.9.4(2024-12-08); magrittr 2.0.4(2025-09-12); memoise 2.0.1(2021-11-26); OmnipathR 3.18.1(2025-11-13); otel 0.2.0(2025-08-29); pillar 1.11.1(2025-09-17); pkgconfig 2.0.3(2019-09-22); prettyunits 1.2.0(2023-09-24); processx 3.8.6(2025-02-21); progress 1.2.3(2023-12-06); promises 1.5.0(2025-11-01); ps 1.9.1(2025-04-12); purrr 1.2.0(2025-11-04); R.methodsS3 1.8.2(2022-06-13); R.oo 1.27.1(2025-05-02); R.utils 2.13.0(2025-02-24); R6 2.6.1(2025-02-15); rappdirs 0.3.3(2021-01-31); Rcpp 1.1.0(2025-07-02); readr 2.1.5(2024-01-10); readxl 1.4.5(2025-03-07); rlang 1.1.6(2025-04-11); rmarkdown 2.30(2025-09-28); RSQLite 2.4.4(2025-11-10); rvest 1.0.5(2025-08-29); sessioninfo 1.2.3(2025-02-05); stringi 1.8.7(2025-03-27); stringr 1.6.0(2025-11-04); tibble 3.3.0(2025-06-08); tidyr 1.3.1(2024-01-24); tidyselect 1.2.1(2024-03-11); timechange 0.3.0(2024-01-18); tzdb 0.5.0(2025-03-15); vctrs 0.6.5(2023-12-01); websocket 1.4.4(2025-04-10); withr 3.0.2(2024-10-28); xfun 0.54(2025-10-30); XML 3.99-0.20(2025-11-08); xml2 1.4.1(2025-10-27); yaml 2.3.10(2024-07-26); zip 2.3.3(2025-05-13)
[2025-11-14 02:23:38] [INFO] [OmnipathR] CURL: version: 8.5.0; headers: 8.5.0; ssl_version: GnuTLS/3.8.3; libz_version: 1.3; libssh_version: libssh/0.10.6/openssl/zlib; libidn_version: 2.3.7; host: x86_64-pc-linux-gnu; protocols: dict, file, ftp, ftps, gopher, gophers, http, https, imap, imaps, ldap, ldaps, mqtt, pop3, pop3s, rtmp, rtmpe, rtmps, rtmpt, rtmpte, rtmpts, rtsp, scp, sftp, smb, smbs, smtp, smtps, telnet, tftp; ipv6: TRUE; http2: TRUE; idn: TRUE; url_parser: TRUE
[2025-11-14 02:23:38] [TRACE] [OmnipathR] Running on a build server, wiping cache.
[2025-11-14 02:23:38] [TRACE] [OmnipathR] Cache is at `/home/biocbuild/.cache/OmnipathR`.
[2025-11-14 02:23:38] [TRACE] [OmnipathR] Contains 1 files.
[2025-11-14 02:23:38] [TRACE] [OmnipathR] Cache is locked: FALSE.
[2025-11-14 02:23:38] [TRACE] [OmnipathR] Reading JSON from `/home/biocbuild/.cache/OmnipathR/cache.json` (encoding: UTF-8).
[2025-11-14 02:23:38] [TRACE] [OmnipathR] JSON validation successful: TRUE
[2025-11-14 02:23:38] [SUCCESS] [OmnipathR] Removing all cache contents from `/home/biocbuild/.cache/OmnipathR`.
[2025-11-14 02:23:38] [TRACE] [OmnipathR] Pandoc version: `2.7.3`.
[2025-11-14 02:23:38] [TRACE] [OmnipathR] Reading JSON from `/home/biocbuild/bbs-3.22-bioc/R/site-library/OmnipathR/db/db_def.json` (encoding: UTF-8).
[2025-11-14 02:23:38] [TRACE] [OmnipathR] JSON validation successful: TRUE
[2025-11-14 02:23:38] [TRACE] [OmnipathR] Reading JSON from `/home/biocbuild/bbs-3.22-bioc/R/site-library/OmnipathR/internal/magic_bytes.json` (encoding: UTF-8).
[2025-11-14 02:23:38] [TRACE] [OmnipathR] JSON validation successful: TRUE
[2025-11-14 02:23:38] [TRACE] [OmnipathR] Reading JSON from `/home/biocbuild/bbs-3.22-bioc/R/site-library/OmnipathR/internal/urls.json` (encoding: UTF-8).
[2025-11-14 02:23:38] [TRACE] [OmnipathR] JSON validation successful: TRUE
[2025-11-14 02:23:38] [TRACE] [OmnipathR] Reading JSON from `/home/biocbuild/bbs-3.22-bioc/R/site-library/OmnipathR/internal/id_types.json` (encoding: UTF-8).
[2025-11-14 02:23:38] [TRACE] [OmnipathR] JSON validation successful: TRUE
[2025-11-14 02:23:38] [TRACE] [OmnipathR] Cache locked: FALSE
cosmos_ksn: no visible binding for global variable ‘enzyme_genesymbol’
Undefined global functions or variables:
enzyme_genesymbol
* checking Rd files ... OK
* checking Rd metadata ... OK
* checking Rd cross-references ... OK
* checking for missing documentation entries ... OK
* checking for code/documentation mismatches ... OK
* checking Rd \usage sections ... OK
* checking Rd contents ... OK
* checking for unstated dependencies in examples ... OK
* checking R/sysdata.rda ... OK
* checking files in ‘vignettes’ ... OK
* checking examples ... OK
Examples with CPU (user + system) or elapsed time > 5s
user system elapsed
annotation_categories 87.835 0.202 100.729
curated_ligrec_stats 70.864 4.562 185.544
omnipath-interactions 31.003 1.577 60.835
filter_extra_attrs 24.206 4.753 29.782
all_uniprots 26.087 2.122 294.596
uniprot_organisms 20.734 1.009 24.748
nichenet_gr_network_omnipath 14.450 0.470 17.325
extra_attrs_to_cols 13.557 1.291 14.864
with_extra_attrs 12.580 1.367 16.864
extra_attr_values 11.590 1.553 15.748
curated_ligand_receptor_interactions 12.001 1.005 27.033
go_annot_download 12.070 0.684 13.573
nichenet_signaling_network_omnipath 10.758 0.392 14.041
pivot_annotations 9.785 0.478 20.332
omnipath_for_cosmos 9.875 0.375 28.542
giant_component 9.418 0.411 12.922
has_extra_attrs 7.701 1.121 8.835
translate_ids_multi 8.342 0.274 24.495
filter_by_resource 7.716 0.240 10.713
extra_attrs 6.736 0.975 7.749
filter_intercell 6.821 0.359 11.734
print_interactions 5.975 0.207 10.949
static_table 5.724 0.332 12.308
ensembl_id_mapping_table 5.727 0.325 25.201
find_all_paths 5.359 0.124 5.478
signed_ptms 4.856 0.104 5.708
ensembl_organisms 2.727 0.487 225.079
database_summary 2.925 0.138 7.374
print_path_vs 2.523 0.113 5.871
ensembl_organisms_raw 1.939 0.419 253.848
biomart_query 1.962 0.294 5.216
annotated_network 1.679 0.296 5.167
kegg_conv 1.479 0.071 11.223
translate_ids 1.118 0.035 10.780
kinasephos 1.051 0.085 15.801
kegg_picture 1.099 0.014 5.015
uniprot_full_id_mapping_table 1.028 0.051 12.287
metalinksdb_sqlite 0.948 0.116 11.325
kegg_link 0.766 0.043 5.813
kegg_rm_prefix 0.739 0.027 5.639
* checking for unstated dependencies in ‘tests’ ... OK
* checking tests ...
Running ‘testthat.R’
OK
* checking for unstated dependencies in vignettes ... OK
* checking package vignettes ... OK
* checking re-building of vignette outputs ...
OmnipathR.Rcheck/00install.out
############################################################################## ############################################################################## ### ### Running command: ### ### /home/biocbuild/bbs-3.22-bioc/R/bin/R CMD INSTALL OmnipathR ### ############################################################################## ############################################################################## * installing to library ‘/home/biocbuild/bbs-3.22-bioc/R/site-library’ * installing *source* package ‘OmnipathR’ ... ** this is package ‘OmnipathR’ version ‘3.18.1’ ** using staged installation ** R ** inst ** byte-compile and prepare package for lazy loading ** help *** installing help indices *** copying figures ** building package indices ** installing vignettes ** testing if installed package can be loaded from temporary location [2025-11-13 15:09:26] [TRACE] [OmnipathR] Reading JSON from `/home/biocbuild/.cache/OmnipathR/cache.json` (encoding: UTF-8). [2025-11-13 15:09:26] [TRACE] [OmnipathR] JSON validation successful: TRUE [2025-11-13 15:09:26] [INFO] [OmnipathR] Initialized cache: `/home/biocbuild/.cache/OmnipathR`. [2025-11-13 15:09:26] [INFO] [OmnipathR] Package `OmnipathR` packaged: NA [2025-11-13 15:09:26] [INFO] [OmnipathR] Package `OmnipathR` date/publication: 2025-11-13 [2025-11-13 15:09:26] [INFO] [OmnipathR] Package `OmnipathR` built: R 4.5.1; ; 2025-11-13 20:09:12 UTC; unix [2025-11-13 15:09:26] [INFO] [OmnipathR] Package `OmnipathR` version: 3.18.1 [2025-11-13 15:09:26] [INFO] [OmnipathR] Package `OmnipathR` repository: Bioconductor 3.22 [2025-11-13 15:09:26] [INFO] [OmnipathR] Session info: [version=R version 4.5.1 Patched (2025-08-23 r88802); os=Ubuntu 24.04.3 LTS; system=x86_64, linux-gnu; ui=X11; language=(EN); collate=C; ctype=en_US.UTF-8; tz=America/New_York; date=2025-11-13; pandoc=2.7.3 @ /usr/bin/ (via rmarkdown); quarto=1.7.32 @ /usr/local/bin/quarto] [2025-11-13 15:09:26] [INFO] [OmnipathR] External libraries: [cairo=1.18.0; cairoFT=; pango=1.52.1; png=1.6.43; jpeg=8.0; tiff=LIBTIFF, Version 4.5.1; tcl=8.6.14; curl=8.5.0; zlib=1.3; bzlib=1.0.8, 13-Jul-2019; xz=5.4.5; deflate=1.19; PCRE=10.42 2022-12-11; ICU=74.2; TRE=TRE 0.8.0 R_fixes (BSD); iconv=glibc 2.39; readline=8.2; BLAS=/home/biocbuild/bbs-3.22-bioc/R/lib/libRblas.so; lapack=/usr/lib/x86_64-linux-gnu/lapack/liblapack.so.3.12.0; lapack_version=3.12.0] [2025-11-13 15:09:26] [INFO] [OmnipathR] Loaded packages: backports 1.5.0(2024-05-23); bit 4.6.0(2025-03-06); bit64 4.6.0-1(2025-01-16); blob 1.2.4(2023-03-17); cachem 1.1.0(2024-05-16); cellranger 1.1.0(2016-07-27); checkmate 2.3.3(2025-08-18); chromote 0.5.1(2025-04-24); cli 3.6.5(2025-04-23); crayon 1.5.3(2024-06-20); curl 7.0.0(2025-08-19); DBI 1.2.3(2024-06-02); digest 0.6.38(2025-11-12); dplyr 1.1.4(2023-11-17); evaluate 1.0.5(2025-08-27); fastmap 1.2.0(2024-05-15); fs 1.6.6(2025-04-12); generics 0.1.4(2025-05-09); glue 1.8.0(2024-09-30); hms 1.1.4(2025-10-17); htmltools 0.5.8.1(2024-04-04); httr 1.4.7(2023-08-15); httr2 1.2.1(2025-07-22); igraph 2.2.1(2025-10-27); jsonlite 2.0.0(2025-03-27); knitr 1.50(2025-03-16); later 1.4.4(2025-08-27); lifecycle 1.0.4(2023-11-07); logger 0.4.1(2025-09-11); lubridate 1.9.4(2024-12-08); magrittr 2.0.4(2025-09-12); memoise 2.0.1(2021-11-26); OmnipathR 3.18.1(2025-11-13); otel 0.2.0(2025-08-29); pillar 1.11.1(2025-09-17); pkgconfig 2.0.3(2019-09-22); prettyunits 1.2.0(2023-09-24); processx 3.8.6(2025-02-21); progress 1.2.3(2023-12-06); promises 1.5.0(2025-11-01); ps 1.9.1(2025-04-12); purrr 1.2.0(2025-11-04); R.methodsS3 1.8.2(2022-06-13); R.oo 1.27.1(2025-05-02); R.utils 2.13.0(2025-02-24); R6 2.6.1(2025-02-15); rappdirs 0.3.3(2021-01-31); Rcpp 1.1.0(2025-07-02); readr 2.1.5(2024-01-10); readxl 1.4.5(2025-03-07); rlang 1.1.6(2025-04-11); rmarkdown 2.30(2025-09-28); RSQLite 2.4.4(2025-11-10); rvest 1.0.5(2025-08-29); sessioninfo 1.2.3(2025-02-05); stringi 1.8.7(2025-03-27); stringr 1.6.0(2025-11-04); tibble 3.3.0(2025-06-08); tidyr 1.3.1(2024-01-24); tidyselect 1.2.1(2024-03-11); timechange 0.3.0(2024-01-18); tzdb 0.5.0(2025-03-15); vctrs 0.6.5(2023-12-01); websocket 1.4.4(2025-04-10); withr 3.0.2(2024-10-28); xfun 0.54(2025-10-30); XML 3.99-0.20(2025-11-08); xml2 1.4.1(2025-10-27); yaml 2.3.10(2024-07-26); zip 2.3.3(2025-05-13) [2025-11-13 15:09:26] [INFO] [OmnipathR] CURL: version: 8.5.0; headers: 8.5.0; ssl_version: GnuTLS/3.8.3; libz_version: 1.3; libssh_version: libssh/0.10.6/openssl/zlib; libidn_version: 2.3.7; host: x86_64-pc-linux-gnu; protocols: dict, file, ftp, ftps, gopher, gophers, http, https, imap, imaps, ldap, ldaps, mqtt, pop3, pop3s, rtmp, rtmpe, rtmps, rtmpt, rtmpte, rtmpts, rtsp, scp, sftp, smb, smbs, smtp, smtps, telnet, tftp; ipv6: TRUE; http2: TRUE; idn: TRUE; url_parser: TRUE [2025-11-13 15:09:26] [TRACE] [OmnipathR] Running on a build server, wiping cache. [2025-11-13 15:09:26] [TRACE] [OmnipathR] Cache is at `/home/biocbuild/.cache/OmnipathR`. [2025-11-13 15:09:26] [TRACE] [OmnipathR] Contains 7 files. [2025-11-13 15:09:26] [TRACE] [OmnipathR] Cache is locked: FALSE. [2025-11-13 15:09:26] [TRACE] [OmnipathR] Reading JSON from `/home/biocbuild/.cache/OmnipathR/cache.json` (encoding: UTF-8). [2025-11-13 15:09:26] [TRACE] [OmnipathR] JSON validation successful: TRUE [2025-11-13 15:09:26] [SUCCESS] [OmnipathR] Removing all cache contents from `/home/biocbuild/.cache/OmnipathR`. [2025-11-13 15:09:26] [TRACE] [OmnipathR] Pandoc version: `2.7.3`. [2025-11-13 15:09:26] [TRACE] [OmnipathR] Reading JSON from `/home/biocbuild/bbs-3.22-bioc/R/site-library/00LOCK-OmnipathR/00new/OmnipathR/db/db_def.json` (encoding: UTF-8). [2025-11-13 15:09:26] [TRACE] [OmnipathR] JSON validation successful: TRUE [2025-11-13 15:09:27] [TRACE] [OmnipathR] Reading JSON from `/home/biocbuild/bbs-3.22-bioc/R/site-library/00LOCK-OmnipathR/00new/OmnipathR/internal/magic_bytes.json` (encoding: UTF-8). [2025-11-13 15:09:27] [TRACE] [OmnipathR] JSON validation successful: TRUE [2025-11-13 15:09:27] [TRACE] [OmnipathR] Reading JSON from `/home/biocbuild/bbs-3.22-bioc/R/site-library/00LOCK-OmnipathR/00new/OmnipathR/internal/urls.json` (encoding: UTF-8). [2025-11-13 15:09:27] [TRACE] [OmnipathR] JSON validation successful: TRUE [2025-11-13 15:09:27] [TRACE] [OmnipathR] Reading JSON from `/home/biocbuild/bbs-3.22-bioc/R/site-library/00LOCK-OmnipathR/00new/OmnipathR/internal/id_types.json` (encoding: UTF-8). [2025-11-13 15:09:27] [TRACE] [OmnipathR] JSON validation successful: TRUE [2025-11-13 15:09:27] [TRACE] [OmnipathR] Cache locked: FALSE ** testing if installed package can be loaded from final location [2025-11-13 15:09:29] [TRACE] [OmnipathR] Reading JSON from `/home/biocbuild/.cache/OmnipathR/cache.json` (encoding: UTF-8). [2025-11-13 15:09:29] [TRACE] [OmnipathR] JSON validation successful: TRUE [2025-11-13 15:09:29] [INFO] [OmnipathR] Initialized cache: `/home/biocbuild/.cache/OmnipathR`. [2025-11-13 15:09:29] [INFO] [OmnipathR] Package `OmnipathR` packaged: NA [2025-11-13 15:09:29] [INFO] [OmnipathR] Package `OmnipathR` date/publication: 2025-11-13 [2025-11-13 15:09:29] [INFO] [OmnipathR] Package `OmnipathR` built: R 4.5.1; ; 2025-11-13 20:09:12 UTC; unix [2025-11-13 15:09:29] [INFO] [OmnipathR] Package `OmnipathR` version: 3.18.1 [2025-11-13 15:09:29] [INFO] [OmnipathR] Package `OmnipathR` repository: Bioconductor 3.22 [2025-11-13 15:09:29] [INFO] [OmnipathR] Session info: [version=R version 4.5.1 Patched (2025-08-23 r88802); os=Ubuntu 24.04.3 LTS; system=x86_64, linux-gnu; ui=X11; language=(EN); collate=C; ctype=en_US.UTF-8; tz=America/New_York; date=2025-11-13; pandoc=2.7.3 @ /usr/bin/ (via rmarkdown); quarto=1.7.32 @ /usr/local/bin/quarto] [2025-11-13 15:09:29] [INFO] [OmnipathR] External libraries: [cairo=1.18.0; cairoFT=; pango=1.52.1; png=1.6.43; jpeg=8.0; tiff=LIBTIFF, Version 4.5.1; tcl=8.6.14; curl=8.5.0; zlib=1.3; bzlib=1.0.8, 13-Jul-2019; xz=5.4.5; deflate=1.19; PCRE=10.42 2022-12-11; ICU=74.2; TRE=TRE 0.8.0 R_fixes (BSD); iconv=glibc 2.39; readline=8.2; BLAS=/home/biocbuild/bbs-3.22-bioc/R/lib/libRblas.so; lapack=/usr/lib/x86_64-linux-gnu/lapack/liblapack.so.3.12.0; lapack_version=3.12.0] [2025-11-13 15:09:29] [INFO] [OmnipathR] Loaded packages: backports 1.5.0(2024-05-23); bit 4.6.0(2025-03-06); bit64 4.6.0-1(2025-01-16); blob 1.2.4(2023-03-17); cachem 1.1.0(2024-05-16); cellranger 1.1.0(2016-07-27); checkmate 2.3.3(2025-08-18); chromote 0.5.1(2025-04-24); cli 3.6.5(2025-04-23); crayon 1.5.3(2024-06-20); curl 7.0.0(2025-08-19); DBI 1.2.3(2024-06-02); digest 0.6.38(2025-11-12); dplyr 1.1.4(2023-11-17); evaluate 1.0.5(2025-08-27); fastmap 1.2.0(2024-05-15); fs 1.6.6(2025-04-12); generics 0.1.4(2025-05-09); glue 1.8.0(2024-09-30); hms 1.1.4(2025-10-17); htmltools 0.5.8.1(2024-04-04); httr 1.4.7(2023-08-15); httr2 1.2.1(2025-07-22); igraph 2.2.1(2025-10-27); jsonlite 2.0.0(2025-03-27); knitr 1.50(2025-03-16); later 1.4.4(2025-08-27); lifecycle 1.0.4(2023-11-07); logger 0.4.1(2025-09-11); lubridate 1.9.4(2024-12-08); magrittr 2.0.4(2025-09-12); memoise 2.0.1(2021-11-26); OmnipathR 3.18.1(2025-11-13); otel 0.2.0(2025-08-29); pillar 1.11.1(2025-09-17); pkgconfig 2.0.3(2019-09-22); prettyunits 1.2.0(2023-09-24); processx 3.8.6(2025-02-21); progress 1.2.3(2023-12-06); promises 1.5.0(2025-11-01); ps 1.9.1(2025-04-12); purrr 1.2.0(2025-11-04); R.methodsS3 1.8.2(2022-06-13); R.oo 1.27.1(2025-05-02); R.utils 2.13.0(2025-02-24); R6 2.6.1(2025-02-15); rappdirs 0.3.3(2021-01-31); Rcpp 1.1.0(2025-07-02); readr 2.1.5(2024-01-10); readxl 1.4.5(2025-03-07); rlang 1.1.6(2025-04-11); rmarkdown 2.30(2025-09-28); RSQLite 2.4.4(2025-11-10); rvest 1.0.5(2025-08-29); sessioninfo 1.2.3(2025-02-05); stringi 1.8.7(2025-03-27); stringr 1.6.0(2025-11-04); tibble 3.3.0(2025-06-08); tidyr 1.3.1(2024-01-24); tidyselect 1.2.1(2024-03-11); timechange 0.3.0(2024-01-18); tzdb 0.5.0(2025-03-15); vctrs 0.6.5(2023-12-01); websocket 1.4.4(2025-04-10); withr 3.0.2(2024-10-28); xfun 0.54(2025-10-30); XML 3.99-0.20(2025-11-08); xml2 1.4.1(2025-10-27); yaml 2.3.10(2024-07-26); zip 2.3.3(2025-05-13) [2025-11-13 15:09:29] [INFO] [OmnipathR] CURL: version: 8.5.0; headers: 8.5.0; ssl_version: GnuTLS/3.8.3; libz_version: 1.3; libssh_version: libssh/0.10.6/openssl/zlib; libidn_version: 2.3.7; host: x86_64-pc-linux-gnu; protocols: dict, file, ftp, ftps, gopher, gophers, http, https, imap, imaps, ldap, ldaps, mqtt, pop3, pop3s, rtmp, rtmpe, rtmps, rtmpt, rtmpte, rtmpts, rtsp, scp, sftp, smb, smbs, smtp, smtps, telnet, tftp; ipv6: TRUE; http2: TRUE; idn: TRUE; url_parser: TRUE [2025-11-13 15:09:29] [TRACE] [OmnipathR] Running on a build server, wiping cache. [2025-11-13 15:09:29] [TRACE] [OmnipathR] Cache is at `/home/biocbuild/.cache/OmnipathR`. [2025-11-13 15:09:29] [TRACE] [OmnipathR] Contains 1 files. [2025-11-13 15:09:29] [TRACE] [OmnipathR] Cache is locked: FALSE. [2025-11-13 15:09:29] [TRACE] [OmnipathR] Reading JSON from `/home/biocbuild/.cache/OmnipathR/cache.json` (encoding: UTF-8). [2025-11-13 15:09:29] [TRACE] [OmnipathR] JSON validation successful: TRUE [2025-11-13 15:09:29] [SUCCESS] [OmnipathR] Removing all cache contents from `/home/biocbuild/.cache/OmnipathR`. [2025-11-13 15:09:29] [TRACE] [OmnipathR] Pandoc version: `2.7.3`. [2025-11-13 15:09:29] [TRACE] [OmnipathR] Reading JSON from `/home/biocbuild/bbs-3.22-bioc/R/site-library/OmnipathR/db/db_def.json` (encoding: UTF-8). [2025-11-13 15:09:29] [TRACE] [OmnipathR] JSON validation successful: TRUE [2025-11-13 15:09:29] [TRACE] [OmnipathR] Reading JSON from `/home/biocbuild/bbs-3.22-bioc/R/site-library/OmnipathR/internal/magic_bytes.json` (encoding: UTF-8). [2025-11-13 15:09:29] [TRACE] [OmnipathR] JSON validation successful: TRUE [2025-11-13 15:09:29] [TRACE] [OmnipathR] Reading JSON from `/home/biocbuild/bbs-3.22-bioc/R/site-library/OmnipathR/internal/urls.json` (encoding: UTF-8). [2025-11-13 15:09:29] [TRACE] [OmnipathR] JSON validation successful: TRUE [2025-11-13 15:09:29] [TRACE] [OmnipathR] Reading JSON from `/home/biocbuild/bbs-3.22-bioc/R/site-library/OmnipathR/internal/id_types.json` (encoding: UTF-8). [2025-11-13 15:09:29] [TRACE] [OmnipathR] JSON validation successful: TRUE [2025-11-13 15:09:29] [TRACE] [OmnipathR] Cache locked: FALSE ** testing if installed package keeps a record of temporary installation path * DONE (OmnipathR)
OmnipathR.Rcheck/tests/testthat.Rout
R version 4.5.1 Patched (2025-08-23 r88802) -- "Great Square Root"
Copyright (C) 2025 The R Foundation for Statistical Computing
Platform: x86_64-pc-linux-gnu
R is free software and comes with ABSOLUTELY NO WARRANTY.
You are welcome to redistribute it under certain conditions.
Type 'license()' or 'licence()' for distribution details.
R is a collaborative project with many contributors.
Type 'contributors()' for more information and
'citation()' on how to cite R or R packages in publications.
Type 'demo()' for some demos, 'help()' for on-line help, or
'help.start()' for an HTML browser interface to help.
Type 'q()' to quit R.
> #!/usr/bin/env Rscript
>
> #
> # This file is part of the `OmnipathR` R package
> #
> # Copyright
> # 2018-2024
> # Saez Lab, Uniklinik RWTH Aachen, Heidelberg University
> #
> # File author(s): Alberto Valdeolivas
> # Dénes Türei (turei.denes@gmail.com)
> # Attila Gábor
> #
> # Distributed under the MIT (Expat) License.
> # See accompanying file `LICENSE` or find a copy at
> # https://directory.fsf.org/wiki/License:Expat
> #
> # Website: https://r.omnipathdb.org/
> # Git repo: https://github.com/saezlab/OmnipathR
> #
>
>
> library(testthat)
> library(OmnipathR)
[2025-11-14 02:52:03] [TRACE] [OmnipathR] Reading JSON from `/home/biocbuild/.cache/OmnipathR/cache.json` (encoding: UTF-8).
[2025-11-14 02:52:03] [TRACE] [OmnipathR] JSON validation successful: TRUE
[2025-11-14 02:52:03] [INFO] [OmnipathR] Initialized cache: `/home/biocbuild/.cache/OmnipathR`.
[2025-11-14 02:52:03] [INFO] [OmnipathR] Package `OmnipathR` packaged: NA
[2025-11-14 02:52:03] [INFO] [OmnipathR] Package `OmnipathR` date/publication: 2025-11-13
[2025-11-14 02:52:03] [INFO] [OmnipathR] Package `OmnipathR` built: R 4.5.1; ; 2025-11-13 20:09:12 UTC; unix
[2025-11-14 02:52:03] [INFO] [OmnipathR] Package `OmnipathR` version: 3.18.1
[2025-11-14 02:52:03] [INFO] [OmnipathR] Package `OmnipathR` repository: Bioconductor 3.22
[2025-11-14 02:52:04] [INFO] [OmnipathR] Session info: [version=R version 4.5.1 Patched (2025-08-23 r88802); os=Ubuntu 24.04.3 LTS; system=x86_64, linux-gnu; ui=X11; language=C; collate=C; ctype=en_US.UTF-8; tz=America/New_York; date=2025-11-14; pandoc=2.7.3 @ /usr/bin/ (via rmarkdown); quarto=1.7.32 @ /usr/local/bin/quarto]
[2025-11-14 02:52:04] [INFO] [OmnipathR] External libraries: [cairo=1.18.0; cairoFT=; pango=1.52.1; png=1.6.43; jpeg=8.0; tiff=LIBTIFF, Version 4.5.1; tcl=8.6.14; curl=8.5.0; zlib=1.3; bzlib=1.0.8, 13-Jul-2019; xz=5.4.5; deflate=1.19; PCRE=10.42 2022-12-11; ICU=74.2; TRE=TRE 0.8.0 R_fixes (BSD); iconv=glibc 2.39; readline=8.2; BLAS=/home/biocbuild/bbs-3.22-bioc/R/lib/libRblas.so; lapack=/usr/lib/x86_64-linux-gnu/lapack/liblapack.so.3.12.0; lapack_version=3.12.0]
[2025-11-14 02:52:04] [INFO] [OmnipathR] Loaded packages: backports 1.5.0(2024-05-23); bit 4.6.0(2025-03-06); bit64 4.6.0-1(2025-01-16); blob 1.2.4(2023-03-17); brio 1.1.5(2024-04-24); cachem 1.1.0(2024-05-16); cellranger 1.1.0(2016-07-27); checkmate 2.3.3(2025-08-18); cli 3.6.5(2025-04-23); crayon 1.5.3(2024-06-20); curl 7.0.0(2025-08-19); DBI 1.2.3(2024-06-02); digest 0.6.38(2025-11-12); dplyr 1.1.4(2023-11-17); evaluate 1.0.5(2025-08-27); fastmap 1.2.0(2024-05-15); fs 1.6.6(2025-04-12); generics 0.1.4(2025-05-09); glue 1.8.0(2024-09-30); hms 1.1.4(2025-10-17); htmltools 0.5.8.1(2024-04-04); httr 1.4.7(2023-08-15); httr2 1.2.1(2025-07-22); igraph 2.2.1(2025-10-27); jsonlite 2.0.0(2025-03-27); knitr 1.50(2025-03-16); later 1.4.4(2025-08-27); lifecycle 1.0.4(2023-11-07); logger 0.4.1(2025-09-11); lubridate 1.9.4(2024-12-08); magrittr 2.0.4(2025-09-12); memoise 2.0.1(2021-11-26); OmnipathR 3.18.1(2025-11-13); pillar 1.11.1(2025-09-17); pkgconfig 2.0.3(2019-09-22); prettyunits 1.2.0(2023-09-24); progress 1.2.3(2023-12-06); purrr 1.2.0(2025-11-04); R.methodsS3 1.8.2(2022-06-13); R.oo 1.27.1(2025-05-02); R.utils 2.13.0(2025-02-24); R6 2.6.1(2025-02-15); rappdirs 0.3.3(2021-01-31); Rcpp 1.1.0(2025-07-02); readr 2.1.5(2024-01-10); readxl 1.4.5(2025-03-07); rlang 1.1.6(2025-04-11); rmarkdown 2.30(2025-09-28); RSQLite 2.4.4(2025-11-10); rvest 1.0.5(2025-08-29); sessioninfo 1.2.3(2025-02-05); stringi 1.8.7(2025-03-27); stringr 1.6.0(2025-11-04); testthat 3.3.0(2025-11-13); tibble 3.3.0(2025-06-08); tidyr 1.3.1(2024-01-24); tidyselect 1.2.1(2024-03-11); timechange 0.3.0(2024-01-18); tzdb 0.5.0(2025-03-15); vctrs 0.6.5(2023-12-01); withr 3.0.2(2024-10-28); xfun 0.54(2025-10-30); XML 3.99-0.20(2025-11-08); xml2 1.4.1(2025-10-27); yaml 2.3.10(2024-07-26); zip 2.3.3(2025-05-13)
[2025-11-14 02:52:04] [INFO] [OmnipathR] CURL: version: 8.5.0; headers: 8.5.0; ssl_version: GnuTLS/3.8.3; libz_version: 1.3; libssh_version: libssh/0.10.6/openssl/zlib; libidn_version: 2.3.7; host: x86_64-pc-linux-gnu; protocols: dict, file, ftp, ftps, gopher, gophers, http, https, imap, imaps, ldap, ldaps, mqtt, pop3, pop3s, rtmp, rtmpe, rtmps, rtmpt, rtmpte, rtmpts, rtsp, scp, sftp, smb, smbs, smtp, smtps, telnet, tftp; ipv6: TRUE; http2: TRUE; idn: TRUE; url_parser: TRUE
[2025-11-14 02:52:04] [TRACE] [OmnipathR] Running on a build server, wiping cache.
[2025-11-14 02:52:04] [TRACE] [OmnipathR] Cache is at `/home/biocbuild/.cache/OmnipathR`.
[2025-11-14 02:52:04] [TRACE] [OmnipathR] Contains 22 files.
[2025-11-14 02:52:04] [TRACE] [OmnipathR] Cache is locked: FALSE.
[2025-11-14 02:52:04] [TRACE] [OmnipathR] Reading JSON from `/home/biocbuild/.cache/OmnipathR/cache.json` (encoding: UTF-8).
[2025-11-14 02:52:04] [TRACE] [OmnipathR] JSON validation successful: TRUE
[2025-11-14 02:52:04] [SUCCESS] [OmnipathR] Removing all cache contents from `/home/biocbuild/.cache/OmnipathR`.
[2025-11-14 02:52:04] [TRACE] [OmnipathR] Pandoc version: `2.7.3`.
[2025-11-14 02:52:04] [TRACE] [OmnipathR] Reading JSON from `/home/biocbuild/bbs-3.22-bioc/R/site-library/OmnipathR/db/db_def.json` (encoding: UTF-8).
[2025-11-14 02:52:04] [TRACE] [OmnipathR] JSON validation successful: TRUE
[2025-11-14 02:52:04] [TRACE] [OmnipathR] Reading JSON from `/home/biocbuild/bbs-3.22-bioc/R/site-library/OmnipathR/internal/magic_bytes.json` (encoding: UTF-8).
[2025-11-14 02:52:04] [TRACE] [OmnipathR] JSON validation successful: TRUE
[2025-11-14 02:52:04] [TRACE] [OmnipathR] Reading JSON from `/home/biocbuild/bbs-3.22-bioc/R/site-library/OmnipathR/internal/urls.json` (encoding: UTF-8).
[2025-11-14 02:52:04] [TRACE] [OmnipathR] JSON validation successful: TRUE
[2025-11-14 02:52:04] [TRACE] [OmnipathR] Reading JSON from `/home/biocbuild/bbs-3.22-bioc/R/site-library/OmnipathR/internal/id_types.json` (encoding: UTF-8).
[2025-11-14 02:52:04] [TRACE] [OmnipathR] JSON validation successful: TRUE
[2025-11-14 02:52:04] [TRACE] [OmnipathR] Cache locked: FALSE
>
> test_check('OmnipathR')
[ FAIL 0 | WARN 12 | SKIP 0 | PASS 38 ]
[ FAIL 0 | WARN 12 | SKIP 0 | PASS 38 ]
>
> proc.time()
user system elapsed
46.458 3.010 306.425
OmnipathR.Rcheck/OmnipathR-Ex.timings
| name | user | system | elapsed | |
| OmnipathR | 0 | 0 | 0 | |
| all_uniprot_acs | 0.016 | 0.001 | 0.016 | |
| all_uniprots | 26.087 | 2.122 | 294.596 | |
| ancestors | 0.011 | 0.001 | 0.013 | |
| annotated_network | 1.679 | 0.296 | 5.167 | |
| annotation_categories | 87.835 | 0.202 | 100.729 | |
| annotation_resources | 0.127 | 0.055 | 0.875 | |
| annotations | 0.939 | 0.110 | 2.639 | |
| biomart_query | 1.962 | 0.294 | 5.216 | |
| bioplex1 | 0.016 | 0.000 | 0.016 | |
| bioplex2 | 0.016 | 0.001 | 0.017 | |
| bioplex3 | 0.014 | 0.001 | 0.016 | |
| bioplex_all | 0.015 | 0.001 | 0.016 | |
| bioplex_hct116_1 | 0.020 | 0.001 | 0.040 | |
| bma_motif_es | 1.285 | 0.120 | 3.109 | |
| bma_motif_vs | 0.451 | 0.062 | 1.374 | |
| chalmers_gem | 0.018 | 0.003 | 0.022 | |
| chalmers_gem_id_mapping_table | 0.018 | 0.002 | 0.020 | |
| chalmers_gem_id_type | 0.003 | 0.003 | 0.006 | |
| chalmers_gem_metabolites | 0.020 | 0.002 | 0.022 | |
| chalmers_gem_network | 0.019 | 0.002 | 0.021 | |
| chalmers_gem_raw | 0.017 | 0.003 | 0.020 | |
| chalmers_gem_reactions | 0.018 | 0.000 | 0.019 | |
| common_name | 0.244 | 0.010 | 0.253 | |
| complex_genes | 1.431 | 0.198 | 3.836 | |
| complex_resources | 0.187 | 0.024 | 1.080 | |
| complexes | 0.453 | 0.019 | 1.625 | |
| consensuspathdb_download | 0 | 0 | 0 | |
| consensuspathdb_raw_table | 0.016 | 0.001 | 0.017 | |
| cosmos_pkn | 0.000 | 0.000 | 0.001 | |
| curated_ligand_receptor_interactions | 12.001 | 1.005 | 27.033 | |
| curated_ligrec_stats | 70.864 | 4.562 | 185.544 | |
| database_summary | 2.925 | 0.138 | 7.374 | |
| descendants | 0.021 | 0.005 | 0.053 | |
| ensembl_dataset | 0.096 | 0.015 | 0.163 | |
| ensembl_id_mapping_table | 5.727 | 0.325 | 25.201 | |
| ensembl_id_type | 0.008 | 0.001 | 0.010 | |
| ensembl_name | 1.072 | 0.082 | 1.155 | |
| ensembl_organisms | 2.727 | 0.487 | 225.079 | |
| ensembl_organisms_raw | 1.939 | 0.419 | 253.848 | |
| ensembl_orthology | 0.000 | 0.000 | 0.001 | |
| enzsub_graph | 2.209 | 0.189 | 4.945 | |
| enzsub_resources | 0.209 | 0.015 | 1.190 | |
| enzyme_substrate | 1.169 | 0.039 | 1.907 | |
| evex_download | 0.009 | 0.000 | 0.009 | |
| evidences | 0 | 0 | 0 | |
| extra_attr_values | 11.590 | 1.553 | 15.748 | |
| extra_attrs | 6.736 | 0.975 | 7.749 | |
| extra_attrs_to_cols | 13.557 | 1.291 | 14.864 | |
| filter_by_resource | 7.716 | 0.240 | 10.713 | |
| filter_extra_attrs | 24.206 | 4.753 | 29.782 | |
| filter_intercell | 6.821 | 0.359 | 11.734 | |
| filter_intercell_network | 0.017 | 0.002 | 0.019 | |
| find_all_paths | 5.359 | 0.124 | 5.478 | |
| from_evidences | 0 | 0 | 0 | |
| get_db | 0.000 | 0.000 | 0.001 | |
| get_ontology_db | 0.008 | 0.001 | 0.009 | |
| giant_component | 9.418 | 0.411 | 12.922 | |
| go_annot_download | 12.070 | 0.684 | 13.573 | |
| go_annot_slim | 0 | 0 | 0 | |
| go_ontology_download | 0.008 | 0.000 | 0.009 | |
| guide2pharma_download | 0.007 | 0.001 | 0.009 | |
| harmonizome_download | 0.008 | 0.000 | 0.008 | |
| has_extra_attrs | 7.701 | 1.121 | 8.835 | |
| hmdb_id_mapping_table | 0.01 | 0.00 | 0.01 | |
| hmdb_id_type | 0.003 | 0.000 | 0.002 | |
| hmdb_metabolite_fields | 0.001 | 0.000 | 0.000 | |
| hmdb_protein_fields | 0 | 0 | 0 | |
| hmdb_table | 0.007 | 0.002 | 0.009 | |
| homologene_download | 0.009 | 0.001 | 0.009 | |
| homologene_raw | 0.061 | 0.000 | 0.062 | |
| homologene_uniprot_orthology | 0.008 | 0.001 | 0.009 | |
| hpo_download | 2.717 | 0.130 | 3.163 | |
| htridb_download | 0.009 | 0.000 | 0.010 | |
| id_translation_resources | 0 | 0 | 0 | |
| id_types | 0.047 | 0.000 | 0.048 | |
| inbiomap_download | 0 | 0 | 0 | |
| inbiomap_raw | 0 | 0 | 0 | |
| interaction_datasets | 0.860 | 0.019 | 1.296 | |
| interaction_graph | 0.524 | 0.012 | 1.552 | |
| interaction_resources | 0.157 | 0.010 | 1.149 | |
| interaction_types | 0.111 | 0.003 | 0.114 | |
| intercell | 0.986 | 0.075 | 1.973 | |
| intercell_categories | 0.775 | 0.023 | 1.043 | |
| intercell_consensus_filter | 1.509 | 0.097 | 3.676 | |
| intercell_generic_categories | 0.081 | 0.004 | 0.084 | |
| intercell_network | 0.009 | 0.001 | 0.010 | |
| intercell_resources | 0.142 | 0.010 | 0.847 | |
| intercell_summary | 0.084 | 0.001 | 0.085 | |
| is_ontology_id | 0.000 | 0.000 | 0.001 | |
| is_swissprot | 0.092 | 0.003 | 0.095 | |
| is_trembl | 0.060 | 0.002 | 0.061 | |
| is_uniprot | 0.010 | 0.000 | 0.009 | |
| kegg_api_templates | 0.000 | 0.001 | 0.001 | |
| kegg_conv | 1.479 | 0.071 | 11.223 | |
| kegg_databases | 0.000 | 0.000 | 0.001 | |
| kegg_ddi | 0.656 | 0.024 | 1.978 | |
| kegg_find | 0.667 | 0.030 | 2.167 | |
| kegg_info | 0.011 | 0.000 | 0.018 | |
| kegg_link | 0.766 | 0.043 | 5.813 | |
| kegg_list | 0.733 | 0.036 | 1.713 | |
| kegg_open | 0.009 | 0.000 | 0.009 | |
| kegg_operations | 0 | 0 | 0 | |
| kegg_organism_codes | 0.012 | 0.007 | 0.019 | |
| kegg_organisms | 0.020 | 0.002 | 0.022 | |
| kegg_pathway_annotations | 0 | 0 | 0 | |
| kegg_pathway_download | 0.009 | 0.000 | 0.009 | |
| kegg_pathway_list | 0.008 | 0.000 | 0.009 | |
| kegg_pathways_download | 0 | 0 | 0 | |
| kegg_picture | 1.099 | 0.014 | 5.015 | |
| kegg_process | 0.016 | 0.001 | 0.017 | |
| kegg_query | 0.008 | 0.000 | 0.008 | |
| kegg_request | 0.065 | 0.000 | 0.065 | |
| kegg_rm_prefix | 0.739 | 0.027 | 5.639 | |
| kinasephos | 1.051 | 0.085 | 15.801 | |
| latin_name | 0.258 | 0.005 | 0.263 | |
| load_db | 0.075 | 0.009 | 0.083 | |
| metalinksdb_sqlite | 0.948 | 0.116 | 11.325 | |
| metalinksdb_table | 0.199 | 0.019 | 0.218 | |
| metalinksdb_tables | 0.018 | 0.001 | 0.017 | |
| ncbi_taxid | 0.260 | 0.003 | 0.264 | |
| nichenet_build_model | 0 | 0 | 0 | |
| nichenet_expression_data | 0.008 | 0.002 | 0.009 | |
| nichenet_gr_network | 0.024 | 0.001 | 0.024 | |
| nichenet_gr_network_evex | 0.007 | 0.001 | 0.008 | |
| nichenet_gr_network_harmonizome | 0.007 | 0.000 | 0.009 | |
| nichenet_gr_network_htridb | 0.006 | 0.002 | 0.008 | |
| nichenet_gr_network_omnipath | 14.450 | 0.470 | 17.325 | |
| nichenet_gr_network_pathwaycommons | 0.008 | 0.001 | 0.010 | |
| nichenet_gr_network_regnetwork | 0.007 | 0.001 | 0.008 | |
| nichenet_gr_network_remap | 0.008 | 0.000 | 0.008 | |
| nichenet_gr_network_trrust | 0.054 | 0.000 | 0.054 | |
| nichenet_ligand_activities | 0.000 | 0.000 | 0.001 | |
| nichenet_ligand_target_links | 0 | 0 | 0 | |
| nichenet_ligand_target_matrix | 0 | 0 | 0 | |
| nichenet_lr_network | 0.023 | 0.002 | 0.025 | |
| nichenet_lr_network_guide2pharma | 0.006 | 0.002 | 0.008 | |
| nichenet_lr_network_omnipath | 0.024 | 0.000 | 0.024 | |
| nichenet_lr_network_ramilowski | 0.008 | 0.000 | 0.008 | |
| nichenet_main | 0 | 0 | 0 | |
| nichenet_networks | 0.041 | 0.001 | 0.043 | |
| nichenet_optimization | 0 | 0 | 0 | |
| nichenet_remove_orphan_ligands | 0.021 | 0.002 | 0.023 | |
| nichenet_results_dir | 0 | 0 | 0 | |
| nichenet_signaling_network | 0.023 | 0.001 | 0.024 | |
| nichenet_signaling_network_cpdb | 0.007 | 0.001 | 0.008 | |
| nichenet_signaling_network_evex | 0.008 | 0.000 | 0.008 | |
| nichenet_signaling_network_harmonizome | 0.006 | 0.001 | 0.008 | |
| nichenet_signaling_network_inbiomap | 0 | 0 | 0 | |
| nichenet_signaling_network_omnipath | 10.758 | 0.392 | 14.041 | |
| nichenet_signaling_network_pathwaycommons | 0.008 | 0.000 | 0.010 | |
| nichenet_signaling_network_vinayagam | 0.008 | 0.000 | 0.008 | |
| nichenet_test | 0 | 0 | 0 | |
| nichenet_workarounds | 0 | 0 | 0 | |
| obo_parser | 0.092 | 0.012 | 0.157 | |
| oma_code | 0.142 | 0.005 | 0.148 | |
| oma_organisms | 0.145 | 0.004 | 0.149 | |
| oma_pairwise | 0.011 | 0.000 | 0.011 | |
| oma_pairwise_genesymbols | 0.009 | 0.000 | 0.010 | |
| oma_pairwise_translated | 0.009 | 0.000 | 0.010 | |
| omnipath-interactions | 31.003 | 1.577 | 60.835 | |
| omnipath_cache_autoclean | 0 | 0 | 0 | |
| omnipath_cache_clean | 0.007 | 0.001 | 0.009 | |
| omnipath_cache_clean_db | 0.088 | 0.009 | 0.098 | |
| omnipath_cache_download_ready | 0.583 | 0.064 | 0.748 | |
| omnipath_cache_filter_versions | 0.080 | 0.007 | 0.102 | |
| omnipath_cache_get | 0.070 | 0.003 | 0.072 | |
| omnipath_cache_key | 0.000 | 0.000 | 0.001 | |
| omnipath_cache_latest_or_new | 0.051 | 0.000 | 0.051 | |
| omnipath_cache_load | 0.948 | 0.036 | 3.572 | |
| omnipath_cache_move_in | 0.183 | 0.012 | 0.208 | |
| omnipath_cache_remove | 0.079 | 0.006 | 0.099 | |
| omnipath_cache_save | 0.222 | 0.027 | 0.399 | |
| omnipath_cache_search | 0.000 | 0.000 | 0.001 | |
| omnipath_cache_set_ext | 0.061 | 0.008 | 0.091 | |
| omnipath_cache_update_status | 0.063 | 0.010 | 0.072 | |
| omnipath_cache_wipe | 0 | 0 | 0 | |
| omnipath_config_path | 0.000 | 0.000 | 0.001 | |
| omnipath_for_cosmos | 9.875 | 0.375 | 28.542 | |
| omnipath_load_config | 0 | 0 | 0 | |
| omnipath_log | 0 | 0 | 0 | |
| omnipath_logfile | 0.002 | 0.000 | 0.002 | |
| omnipath_msg | 0.005 | 0.000 | 0.005 | |
| omnipath_query | 3.515 | 0.089 | 3.603 | |
| omnipath_reset_config | 0 | 0 | 0 | |
| omnipath_save_config | 0 | 0 | 0 | |
| omnipath_set_cachedir | 0.020 | 0.003 | 0.023 | |
| omnipath_set_console_loglevel | 0.003 | 0.000 | 0.003 | |
| omnipath_set_logfile_loglevel | 0.003 | 0.000 | 0.004 | |
| omnipath_set_loglevel | 0.000 | 0.001 | 0.002 | |
| omnipath_show_db | 0.058 | 0.005 | 0.064 | |
| omnipath_unlock_cache_db | 0 | 0 | 0 | |
| only_from | 0.001 | 0.000 | 0.000 | |
| ontology_ensure_id | 0.000 | 0.000 | 0.001 | |
| ontology_ensure_name | 0.000 | 0.000 | 0.001 | |
| ontology_name_id | 0.000 | 0.000 | 0.001 | |
| organism_for | 0.179 | 0.002 | 0.182 | |
| pathwaycommons_download | 0 | 0 | 0 | |
| pivot_annotations | 9.785 | 0.478 | 20.332 | |
| preppi_download | 0.001 | 0.000 | 0.001 | |
| preppi_filter | 0.001 | 0.000 | 0.002 | |
| print_bma_motif_es | 0.699 | 0.057 | 1.693 | |
| print_bma_motif_vs | 0.215 | 0.012 | 1.006 | |
| print_interactions | 5.975 | 0.207 | 10.949 | |
| print_path_es | 0.901 | 0.076 | 2.850 | |
| print_path_vs | 2.523 | 0.113 | 5.871 | |
| pubmed_open | 3.709 | 0.060 | 3.765 | |
| query_info | 0.421 | 0.012 | 0.700 | |
| ramilowski_download | 0.000 | 0.000 | 0.001 | |
| ramp_id_mapping_table | 0.000 | 0.000 | 0.001 | |
| ramp_id_type | 0.002 | 0.000 | 0.002 | |
| ramp_sqlite | 0.000 | 0.000 | 0.001 | |
| ramp_table | 0.000 | 0.000 | 0.001 | |
| ramp_tables | 0 | 0 | 0 | |
| recon3d | 0.002 | 0.000 | 0.001 | |
| recon3d_raw | 0.000 | 0.000 | 0.001 | |
| recon3d_raw_vmh | 0.000 | 0.000 | 0.001 | |
| regnetwork_directions | 0.000 | 0.000 | 0.001 | |
| regnetwork_download | 0 | 0 | 0 | |
| relations_list_to_table | 0.133 | 0.007 | 0.291 | |
| relations_table_to_graph | 0 | 0 | 0 | |
| relations_table_to_list | 0.092 | 0.002 | 0.120 | |
| remap_dorothea_download | 0 | 0 | 0 | |
| remap_filtered | 0 | 0 | 0 | |
| remap_tf_target_download | 0 | 0 | 0 | |
| resource_info | 0.530 | 0.020 | 0.949 | |
| resources | 0.147 | 0.007 | 1.101 | |
| resources_colname | 1.218 | 0.039 | 3.925 | |
| resources_in | 3.395 | 0.069 | 3.467 | |
| show_network | 0 | 0 | 0 | |
| signed_ptms | 4.856 | 0.104 | 5.708 | |
| simplify_intercell_network | 0.000 | 0.000 | 0.001 | |
| static_table | 5.724 | 0.332 | 12.308 | |
| static_tables | 0.044 | 0.004 | 0.057 | |
| stitch_actions | 0 | 0 | 0 | |
| stitch_links | 0.000 | 0.000 | 0.001 | |
| stitch_network | 0.001 | 0.000 | 0.001 | |
| stitch_remove_prefixes | 0.007 | 0.000 | 0.007 | |
| swap_relations | 0.075 | 0.004 | 0.121 | |
| swissprots_only | 0.130 | 0.002 | 0.132 | |
| tfcensus_download | 0.601 | 0.025 | 0.786 | |
| translate_ids | 1.118 | 0.035 | 10.780 | |
| translate_ids_multi | 8.342 | 0.274 | 24.495 | |
| trembls_only | 0.132 | 0.002 | 0.134 | |
| trrust_download | 0.001 | 0.000 | 0.001 | |
| uniprot_full_id_mapping_table | 1.028 | 0.051 | 12.287 | |
| uniprot_genesymbol_cleanup | 0 | 0 | 0 | |
| uniprot_id_mapping_table | 0.001 | 0.000 | 0.000 | |
| uniprot_id_type | 0.002 | 0.000 | 0.002 | |
| uniprot_idmapping_id_types | 0.561 | 0.019 | 1.272 | |
| uniprot_organisms | 20.734 | 1.009 | 24.748 | |
| unique_intercell_network | 0.001 | 0.000 | 0.001 | |
| unnest_evidences | 0 | 0 | 0 | |
| uploadlists_id_type | 0.002 | 0.000 | 0.001 | |
| vinayagam_download | 0.001 | 0.000 | 0.000 | |
| walk_ontology_tree | 0.001 | 0.000 | 0.001 | |
| with_extra_attrs | 12.580 | 1.367 | 16.864 | |
| with_references | 1.005 | 0.087 | 2.802 | |
| zenodo_download | 0.001 | 0.000 | 0.001 | |