Back to Multiple platform build/check report for BioC 3.22:   simplified   long
ABCDEFGHIJKL[M]NOPQRSTUVWXYZ

This page was generated on 2025-11-05 12:39 -0500 (Wed, 05 Nov 2025).

HostnameOSArch (*)R versionInstalled pkgs
nebbiolo2Linux (Ubuntu 24.04.3 LTS)x86_644.5.1 Patched (2025-08-23 r88802) -- "Great Square Root" 4902
kjohnson3macOS 13.7.7 Venturaarm644.5.1 Patched (2025-09-10 r88807) -- "Great Square Root" 4638
Click on any hostname to see more info about the system (e.g. compilers)      (*) as reported by 'uname -p', except on Windows and Mac OS X

All results for package MsCoreUtils


To the developers/maintainers of the MsCoreUtils package:
- Allow up to 24 hours (and sometimes 48 hours) for your latest push to git@git.bioconductor.org:packages/MsCoreUtils.git to reflect on this report. See Troubleshooting Build Report for more information.
- Use the following Renviron settings to reproduce errors and warnings.
- If 'R CMD check' started to fail recently on the Linux builder(s) over a missing dependency, add the missing dependency to 'Suggests:' in your DESCRIPTION file. See Renviron.bioc for more information.

raw results

Package 1380/2361HostnameOS / ArchINSTALLBUILDCHECKBUILD BIN
MsCoreUtils 1.22.0  (landing page)
RforMassSpectrometry Package Maintainer
Snapshot Date: 2025-11-04 13:45 -0500 (Tue, 04 Nov 2025)
git_url: https://git.bioconductor.org/packages/MsCoreUtils
git_branch: RELEASE_3_22
git_last_commit: b89771c
git_last_commit_date: 2025-10-29 10:58:28 -0500 (Wed, 29 Oct 2025)
nebbiolo2Linux (Ubuntu 24.04.3 LTS) / x86_64  OK    OK    ERROR  
kjohnson3macOS 13.7.7 Ventura / arm64  OK    OK    ERROR    OK  



Results for Bioconductor software packages that depend directly on package MsCoreUtils

QUICK STATSOS / ArchINSTALLBUILDCHECKBUILD BIN
nebbiolo2Linux (Ubuntu 24.04.3 LTS) / x86_64
0022
0022
00121
kjohnson3macOS 13.7.7 Ventura / arm64
0121
0121
01020
0021
Package 1/22HostnameOS / ArchINSTALLBUILDCHECKBUILD BIN
Chromatograms 1.0.0  (landing page)
Philippine Louail
git_last_commit: 74743d6
git_last_commit_date: 2025-10-29 11:37:38 -0500
nebbiolo2Linux (Ubuntu 24.04.3 LTS) / x86_64  OK    OK    OK  UNNEEDED, same version is already published
kjohnson3macOS 13.7.7 Ventura / arm64  OK    OK    OK    OK  UNNEEDED, same version is already published
Package 2/22HostnameOS / ArchINSTALLBUILDCHECKBUILD BIN
CompoundDb 1.14.0  (landing page)
Johannes Rainer
git_last_commit: 287093d
git_last_commit_date: 2025-10-29 11:14:42 -0500
nebbiolo2Linux (Ubuntu 24.04.3 LTS) / x86_64  OK    OK    OK  UNNEEDED, same version is already published
kjohnson3macOS 13.7.7 Ventura / arm64  OK    OK    OK    OK  UNNEEDED, same version is already published
Package 3/22HostnameOS / ArchINSTALLBUILDCHECKBUILD BIN
hdxmsqc 1.6.0  (landing page)
Oliver M. Crook
git_last_commit: 5bbfc95
git_last_commit_date: 2025-10-29 11:29:31 -0500
nebbiolo2Linux (Ubuntu 24.04.3 LTS) / x86_64  OK    OK    OK  UNNEEDED, same version is already published
kjohnson3macOS 13.7.7 Ventura / arm64  OK    OK    OK    OK  UNNEEDED, same version is already published
Package 4/22HostnameOS / ArchINSTALLBUILDCHECKBUILD BIN
MetaboAnnotation 1.14.0  (landing page)
Johannes Rainer
git_last_commit: 790d88f
git_last_commit_date: 2025-10-29 11:14:44 -0500
nebbiolo2Linux (Ubuntu 24.04.3 LTS) / x86_64  OK    OK    OK  UNNEEDED, same version is already published
kjohnson3macOS 13.7.7 Ventura / arm64  OK    OK    OK    OK  UNNEEDED, same version is already published
Package 5/22HostnameOS / ArchINSTALLBUILDCHECKBUILD BIN
MetaboCoreUtils 1.18.0  (landing page)
Johannes Rainer
git_last_commit: c4fa33d
git_last_commit_date: 2025-10-29 11:06:05 -0500
nebbiolo2Linux (Ubuntu 24.04.3 LTS) / x86_64  OK    OK    OK  UNNEEDED, same version is already published
kjohnson3macOS 13.7.7 Ventura / arm64  OK    OK    OK    OK  UNNEEDED, same version is already published
Package 6/22HostnameOS / ArchINSTALLBUILDCHECKBUILD BIN
MetCirc 1.40.0  (landing page)
Thomas Naake
git_last_commit: 59436a4
git_last_commit_date: 2025-10-29 10:32:46 -0500
nebbiolo2Linux (Ubuntu 24.04.3 LTS) / x86_64  OK    OK    OK  UNNEEDED, same version is already published
kjohnson3macOS 13.7.7 Ventura / arm64  OK    OK    OK    OK  UNNEEDED, same version is already published
Package 7/22HostnameOS / ArchINSTALLBUILDCHECKBUILD BIN
MsBackendMassbank 1.18.0  (landing page)
RforMassSpectrometry Package Maintainer
git_last_commit: 1be9f71
git_last_commit_date: 2025-10-29 11:06:30 -0500
nebbiolo2Linux (Ubuntu 24.04.3 LTS) / x86_64  OK    OK    OK  UNNEEDED, same version is already published
kjohnson3macOS 13.7.7 Ventura / arm64  OK    OK    OK    OK  UNNEEDED, same version is already published
Package 8/22HostnameOS / ArchINSTALLBUILDCHECKBUILD BIN
MsBackendMgf 1.18.0  (landing page)
RforMassSpectrometry Package Maintainer
git_last_commit: 6656145
git_last_commit_date: 2025-10-29 11:06:57 -0500
nebbiolo2Linux (Ubuntu 24.04.3 LTS) / x86_64  OK    OK    OK  UNNEEDED, same version is already published
kjohnson3macOS 13.7.7 Ventura / arm64  OK    OK    OK    OK  UNNEEDED, same version is already published
Package 9/22HostnameOS / ArchINSTALLBUILDCHECKBUILD BIN
MsBackendMsp 1.14.0  (landing page)
Johannes Rainer
git_last_commit: 58e9f8b
git_last_commit_date: 2025-10-29 11:15:06 -0500
nebbiolo2Linux (Ubuntu 24.04.3 LTS) / x86_64  OK    OK    OK  UNNEEDED, same version is already published
kjohnson3macOS 13.7.7 Ventura / arm64  OK    OK    OK    OK  UNNEEDED, same version is already published
Package 10/22HostnameOS / ArchINSTALLBUILDCHECKBUILD BIN
MsBackendRawFileReader 1.16.0  (landing page)
Christian Panse
git_last_commit: 53064fe
git_last_commit_date: 2025-10-29 11:12:57 -0500
nebbiolo2Linux (Ubuntu 24.04.3 LTS) / x86_64  OK    OK    OK  UNNEEDED, same version is already published
kjohnson3macOS 13.7.7 Ventura / arm64  OK    OK    OK    OK  UNNEEDED, same version is already published
Package 11/22HostnameOS / ArchINSTALLBUILDCHECKBUILD BIN
MsBackendSql 1.10.1  (landing page)
Johannes Rainer
git_last_commit: 9e4eb7a
git_last_commit_date: 2025-11-03 05:50:01 -0500
nebbiolo2Linux (Ubuntu 24.04.3 LTS) / x86_64  OK    OK    OK  UNNEEDED, same version is already published
kjohnson3macOS 13.7.7 Ventura / arm64  OK    OK    OK    OK  UNNEEDED, same version is already published
Package 12/22HostnameOS / ArchINSTALLBUILDCHECKBUILD BIN
MsFeatures 1.18.0  (landing page)
Johannes Rainer
git_last_commit: ac1808c
git_last_commit_date: 2025-10-29 11:06:00 -0500
nebbiolo2Linux (Ubuntu 24.04.3 LTS) / x86_64  OK    OK    OK  UNNEEDED, same version is already published
kjohnson3macOS 13.7.7 Ventura / arm64  OK    OK    OK    OK  UNNEEDED, same version is already published
Package 13/22HostnameOS / ArchINSTALLBUILDCHECKBUILD BIN
MSnbase 2.36.0  (landing page)
Laurent Gatto
git_last_commit: 5d00871
git_last_commit_date: 2025-10-29 10:06:57 -0500
nebbiolo2Linux (Ubuntu 24.04.3 LTS) / x86_64  OK    OK    OK  UNNEEDED, same version is already published
kjohnson3macOS 13.7.7 Ventura / arm64  OK    OK    OK    OK  UNNEEDED, same version is already published
Package 14/22HostnameOS / ArchINSTALLBUILDCHECKBUILD BIN
PSMatch 1.14.0  (landing page)
Laurent Gatto
git_last_commit: eedaf3a
git_last_commit_date: 2025-10-29 11:15:29 -0500
nebbiolo2Linux (Ubuntu 24.04.3 LTS) / x86_64  OK    OK    OK  UNNEEDED, same version is already published
kjohnson3macOS 13.7.7 Ventura / arm64  OK    OK    OK    OK  UNNEEDED, same version is already published
Package 15/22HostnameOS / ArchINSTALLBUILDCHECKBUILD BIN
QFeatures 1.20.0  (landing page)
Laurent Gatto
git_last_commit: bde5b54
git_last_commit_date: 2025-10-29 11:01:30 -0500
nebbiolo2Linux (Ubuntu 24.04.3 LTS) / x86_64  OK    OK    OK  UNNEEDED, same version is already published
kjohnson3macOS 13.7.7 Ventura / arm64  OK    OK    OK    OK  UNNEEDED, same version is already published
Package 16/22HostnameOS / ArchINSTALLBUILDCHECKBUILD BIN
qmtools 1.14.0  (landing page)
Jaehyun Joo
git_last_commit: b38de25
git_last_commit_date: 2025-10-29 11:16:09 -0500
nebbiolo2Linux (Ubuntu 24.04.3 LTS) / x86_64  OK    OK    OK  UNNEEDED, same version is already published
kjohnson3macOS 13.7.7 Ventura / arm64  OK    OK    OK    OK  UNNEEDED, same version is already published
Package 17/22HostnameOS / ArchINSTALLBUILDCHECKBUILD BIN
scp 1.20.0  (landing page)
Christophe Vanderaa
git_last_commit: 9c3cf13
git_last_commit_date: 2025-10-29 11:03:14 -0500
nebbiolo2Linux (Ubuntu 24.04.3 LTS) / x86_64  OK    OK    WARNINGS  UNNEEDED, same version is already published
kjohnson3macOS 13.7.7 Ventura / arm64  OK    OK    ERROR    OK  
Package 18/22HostnameOS / ArchINSTALLBUILDCHECKBUILD BIN
SmartPhos 1.0.0  (landing page)
Shubham Agrawal
git_last_commit: a7a52e6
git_last_commit_date: 2025-10-29 11:38:54 -0500
nebbiolo2Linux (Ubuntu 24.04.3 LTS) / x86_64  OK    OK    OK  UNNEEDED, same version is already published
kjohnson3macOS 13.7.7 Ventura / arm64  OK    OK    OK    OK  UNNEEDED, same version is already published
Package 19/22HostnameOS / ArchINSTALLBUILDCHECKBUILD BIN
Spectra 1.20.0  (landing page)
RforMassSpectrometry Package Maintainer
git_last_commit: 60c9646
git_last_commit_date: 2025-10-29 11:01:49 -0500
nebbiolo2Linux (Ubuntu 24.04.3 LTS) / x86_64  OK    OK    OK  UNNEEDED, same version is already published
kjohnson3macOS 13.7.7 Ventura / arm64  OK    OK    OK    OK  UNNEEDED, same version is already published
Package 20/22HostnameOS / ArchINSTALLBUILDCHECKBUILD BIN
SpectraQL 1.4.0  (landing page)
Johannes Rainer
git_last_commit: 9390ac1
git_last_commit_date: 2025-10-29 11:31:53 -0500
nebbiolo2Linux (Ubuntu 24.04.3 LTS) / x86_64  OK    OK    OK  UNNEEDED, same version is already published
kjohnson3macOS 13.7.7 Ventura / arm64  OK    OK    OK    OK  UNNEEDED, same version is already published
Package 21/22HostnameOS / ArchINSTALLBUILDCHECKBUILD BIN
SpectriPy 1.0.0  (landing page)
Johannes Rainer
git_last_commit: 017658a
git_last_commit_date: 2025-10-29 11:36:52 -0500
nebbiolo2Linux (Ubuntu 24.04.3 LTS) / x86_64  OK    OK    OK  UNNEEDED, same version is already published
kjohnson3macOS 13.7.7 Ventura / arm64  ERROR    ERROR  skippedskipped
Package 22/22HostnameOS / ArchINSTALLBUILDCHECKBUILD BIN
xcms 4.8.0  (landing page)
Steffen Neumann
git_last_commit: 8c7e9cf
git_last_commit_date: 2025-10-29 09:56:19 -0500
nebbiolo2Linux (Ubuntu 24.04.3 LTS) / x86_64  OK    OK    OK  UNNEEDED, same version is already published
kjohnson3macOS 13.7.7 Ventura / arm64  OK    OK    OK    OK  UNNEEDED, same version is already published