| Back to Multiple platform build/check report for BioC 3.21: simplified long |
|
This page was generated on 2025-10-16 11:38 -0400 (Thu, 16 Oct 2025).
| Hostname | OS | Arch (*) | R version | Installed pkgs |
|---|---|---|---|---|
| nebbiolo1 | Linux (Ubuntu 24.04.3 LTS) | x86_64 | 4.5.1 (2025-06-13) -- "Great Square Root" | 4833 |
| merida1 | macOS 12.7.6 Monterey | x86_64 | 4.5.1 RC (2025-06-05 r88288) -- "Great Square Root" | 4614 |
| kjohnson1 | macOS 13.7.5 Ventura | arm64 | 4.5.1 Patched (2025-06-14 r88325) -- "Great Square Root" | 4555 |
| kunpeng2 | Linux (openEuler 24.03 LTS) | aarch64 | R Under development (unstable) (2025-02-19 r87757) -- "Unsuffered Consequences" | 4586 |
| Click on any hostname to see more info about the system (e.g. compilers) (*) as reported by 'uname -p', except on Windows and Mac OS X | ||||
| Package 1242/2341 | Hostname | OS / Arch | INSTALL | BUILD | CHECK | BUILD BIN | ||||||||
| MetCirc 1.38.0 (landing page) Thomas Naake
| nebbiolo1 | Linux (Ubuntu 24.04.3 LTS) / x86_64 | OK | OK | OK | |||||||||
| merida1 | macOS 12.7.6 Monterey / x86_64 | OK | OK | OK | OK | |||||||||
| kjohnson1 | macOS 13.7.5 Ventura / arm64 | OK | OK | OK | OK | |||||||||
| kunpeng2 | Linux (openEuler 24.03 LTS) / aarch64 | OK | OK | OK | ||||||||||
|
To the developers/maintainers of the MetCirc package: - Allow up to 24 hours (and sometimes 48 hours) for your latest push to git@git.bioconductor.org:packages/MetCirc.git to reflect on this report. See Troubleshooting Build Report for more information. - Use the following Renviron settings to reproduce errors and warnings. - If 'R CMD check' started to fail recently on the Linux builder(s) over a missing dependency, add the missing dependency to 'Suggests:' in your DESCRIPTION file. See Renviron.bioc for more information. |
| Package: MetCirc |
| Version: 1.38.0 |
| Command: /home/biocbuild/bbs-3.21-bioc/R/bin/R CMD check --install=check:MetCirc.install-out.txt --library=/home/biocbuild/bbs-3.21-bioc/R/site-library --timings MetCirc_1.38.0.tar.gz |
| StartedAt: 2025-10-16 00:51:18 -0400 (Thu, 16 Oct 2025) |
| EndedAt: 2025-10-16 00:54:35 -0400 (Thu, 16 Oct 2025) |
| EllapsedTime: 197.2 seconds |
| RetCode: 0 |
| Status: OK |
| CheckDir: MetCirc.Rcheck |
| Warnings: 0 |
##############################################################################
##############################################################################
###
### Running command:
###
### /home/biocbuild/bbs-3.21-bioc/R/bin/R CMD check --install=check:MetCirc.install-out.txt --library=/home/biocbuild/bbs-3.21-bioc/R/site-library --timings MetCirc_1.38.0.tar.gz
###
##############################################################################
##############################################################################
* using log directory ‘/home/biocbuild/bbs-3.21-bioc/meat/MetCirc.Rcheck’
* using R version 4.5.1 (2025-06-13)
* using platform: x86_64-pc-linux-gnu
* R was compiled by
gcc (Ubuntu 13.3.0-6ubuntu2~24.04) 13.3.0
GNU Fortran (Ubuntu 13.3.0-6ubuntu2~24.04) 13.3.0
* running under: Ubuntu 24.04.3 LTS
* using session charset: UTF-8
* checking for file ‘MetCirc/DESCRIPTION’ ... OK
* checking extension type ... Package
* this is package ‘MetCirc’ version ‘1.38.0’
* checking package namespace information ... OK
* checking package dependencies ... OK
* checking if this is a source package ... OK
* checking if there is a namespace ... OK
* checking for hidden files and directories ... OK
* checking for portable file names ... OK
* checking for sufficient/correct file permissions ... OK
* checking whether package ‘MetCirc’ can be installed ... OK
* checking installed package size ... OK
* checking package directory ... OK
* checking ‘build’ directory ... OK
* checking DESCRIPTION meta-information ... OK
* checking top-level files ... OK
* checking for left-over files ... OK
* checking index information ... OK
* checking package subdirectories ... OK
* checking code files for non-ASCII characters ... OK
* checking R files for syntax errors ... OK
* checking whether the package can be loaded ... OK
* checking whether the package can be loaded with stated dependencies ... OK
* checking whether the package can be unloaded cleanly ... OK
* checking whether the namespace can be loaded with stated dependencies ... OK
* checking whether the namespace can be unloaded cleanly ... OK
* checking loading without being on the library search path ... OK
* checking dependencies in R code ... NOTE
Unexported objects imported by ':::' calls:
‘MsCoreUtils:::.weightxy’ ‘circlize:::get.sector.data’
See the note in ?`:::` about the use of this operator.
There are ::: calls to the package's namespace in its code. A package
almost never needs to use ::: for its own objects:
‘recordPlotFill_degreeFeatures’ ‘recordPlotHighlight’ ‘replayPlotAdd’
‘replayPlotOrder’ ‘select’ ‘spectraCondition’ ‘typeMatch_link0’
* checking S3 generic/method consistency ... OK
* checking replacement functions ... OK
* checking foreign function calls ... OK
* checking R code for possible problems ... OK
* checking Rd files ... NOTE
checkRd: (-1) convertExampleDF.Rd:21: Escaped LaTeX specials: \_
checkRd: (-1) convertExampleDF.Rd:22: Escaped LaTeX specials: \_
* checking Rd metadata ... OK
* checking Rd cross-references ... OK
* checking for missing documentation entries ... OK
* checking for code/documentation mismatches ... OK
* checking Rd \usage sections ... OK
* checking Rd contents ... OK
* checking for unstated dependencies in examples ... OK
* checking contents of ‘data’ directory ... OK
* checking data for non-ASCII characters ... OK
* checking data for ASCII and uncompressed saves ... OK
* checking files in ‘vignettes’ ... OK
* checking examples ... OK
* checking for unstated dependencies in ‘tests’ ... OK
* checking tests ...
Running ‘testthat.R’
OK
* checking for unstated dependencies in vignettes ... OK
* checking package vignettes ... OK
* checking re-building of vignette outputs ... OK
* checking PDF version of manual ... OK
* DONE
Status: 2 NOTEs
See
‘/home/biocbuild/bbs-3.21-bioc/meat/MetCirc.Rcheck/00check.log’
for details.
MetCirc.Rcheck/00install.out
############################################################################## ############################################################################## ### ### Running command: ### ### /home/biocbuild/bbs-3.21-bioc/R/bin/R CMD INSTALL MetCirc ### ############################################################################## ############################################################################## * installing to library ‘/home/biocbuild/bbs-3.21-bioc/R/site-library’ * installing *source* package ‘MetCirc’ ... ** this is package ‘MetCirc’ version ‘1.38.0’ ** using staged installation ** R ** data ** inst ** byte-compile and prepare package for lazy loading ** help *** installing help indices ** building package indices ** installing vignettes ** testing if installed package can be loaded from temporary location ** testing if installed package can be loaded from final location ** testing if installed package keeps a record of temporary installation path * DONE (MetCirc)
MetCirc.Rcheck/tests/testthat.Rout
R version 4.5.1 (2025-06-13) -- "Great Square Root"
Copyright (C) 2025 The R Foundation for Statistical Computing
Platform: x86_64-pc-linux-gnu
R is free software and comes with ABSOLUTELY NO WARRANTY.
You are welcome to redistribute it under certain conditions.
Type 'license()' or 'licence()' for distribution details.
R is a collaborative project with many contributors.
Type 'contributors()' for more information and
'citation()' on how to cite R or R packages in publications.
Type 'demo()' for some demos, 'help()' for on-line help, or
'help.start()' for an HTML browser interface to help.
Type 'q()' to quit R.
> library("testthat")
> library("MetCirc")
Loading required package: amap
Loading required package: circlize
========================================
circlize version 0.4.16
CRAN page: https://cran.r-project.org/package=circlize
Github page: https://github.com/jokergoo/circlize
Documentation: https://jokergoo.github.io/circlize_book/book/
If you use it in published research, please cite:
Gu, Z. circlize implements and enhances circular visualization
in R. Bioinformatics 2014.
This message can be suppressed by:
suppressPackageStartupMessages(library(circlize))
========================================
Loading required package: scales
Loading required package: shiny
Loading required package: Spectra
Loading required package: S4Vectors
Loading required package: stats4
Loading required package: BiocGenerics
Loading required package: generics
Attaching package: 'generics'
The following objects are masked from 'package:base':
as.difftime, as.factor, as.ordered, intersect, is.element, setdiff,
setequal, union
Attaching package: 'BiocGenerics'
The following objects are masked from 'package:stats':
IQR, mad, sd, var, xtabs
The following objects are masked from 'package:base':
Filter, Find, Map, Position, Reduce, anyDuplicated, aperm, append,
as.data.frame, basename, cbind, colnames, dirname, do.call,
duplicated, eval, evalq, get, grep, grepl, is.unsorted, lapply,
mapply, match, mget, order, paste, pmax, pmax.int, pmin, pmin.int,
rank, rbind, rownames, sapply, saveRDS, table, tapply, unique,
unsplit, which.max, which.min
Attaching package: 'S4Vectors'
The following object is masked from 'package:utils':
findMatches
The following objects are masked from 'package:base':
I, expand.grid, unname
Loading required package: BiocParallel
Attaching package: 'MetCirc'
The following object is masked from 'package:Spectra':
plotSpectra
> library("MsCoreUtils")
Attaching package: 'MsCoreUtils'
The following objects are masked from 'package:Spectra':
bin, entropy, smooth
The following object is masked from 'package:stats':
smooth
>
> test_check("MetCirc")
[ FAIL 0 | WARN 2 | SKIP 0 | PASS 181 ]
[ FAIL 0 | WARN 2 | SKIP 0 | PASS 181 ]
>
> proc.time()
user system elapsed
88.928 0.822 89.740
MetCirc.Rcheck/MetCirc-Ex.timings
| name | user | system | elapsed | |
| cart2Polar | 0.001 | 0.000 | 0.000 | |
| circosLegend | 0.397 | 0.003 | 0.401 | |
| convertMsp2Spectra | 0.696 | 0.000 | 0.696 | |
| createLink0df | 1.414 | 0.042 | 1.456 | |
| createLinkDf | 2.857 | 0.107 | 2.965 | |
| cutLinkDf | 1.788 | 0.074 | 1.862 | |
| getLinkDfIndices | 0 | 0 | 0 | |
| highlight | 0.581 | 0.004 | 0.585 | |
| minFragCart2Polar | 0.269 | 0.001 | 0.271 | |
| neutralloss | 0.222 | 0.002 | 0.224 | |
| orderSimilarityMatrix | 0.264 | 0.003 | 0.267 | |
| plotCircos | 0.487 | 0.000 | 0.486 | |
| plotSpectra | 0.487 | 0.021 | 0.509 | |
| printInformationSelect | 0.289 | 0.017 | 0.305 | |
| recordPlotFill_degreeFeatures | 0.118 | 0.002 | 0.120 | |
| recordPlotHighlight | 0.101 | 0.001 | 0.103 | |
| replayPlotAdd | 0.819 | 0.004 | 0.823 | |
| replayPlotOrder | 0.145 | 0.000 | 0.145 | |
| select | 0.001 | 0.001 | 0.000 | |
| shinyCircos | 0.229 | 0.001 | 0.232 | |
| spectraCondition | 0.021 | 0.000 | 0.022 | |
| thresholdLinkDf | 1.415 | 0.114 | 1.530 | |
| typeMatch_link0 | 0.265 | 0.009 | 0.273 | |