Back to Multiple platform build/check report for BioC 3.21:   simplified   long
ABCDEFGHIJKL[M]NOPQRSTUVWXYZ

This page was generated on 2025-07-24 11:42 -0400 (Thu, 24 Jul 2025).

HostnameOSArch (*)R versionInstalled pkgs
nebbiolo1Linux (Ubuntu 24.04.2 LTS)x86_644.5.1 (2025-06-13) -- "Great Square Root" 4821
palomino7Windows Server 2022 Datacenterx644.5.1 (2025-06-13 ucrt) -- "Great Square Root" 4563
merida1macOS 12.7.5 Montereyx86_644.5.1 RC (2025-06-05 r88288) -- "Great Square Root" 4601
kjohnson1macOS 13.6.6 Venturaarm644.5.1 Patched (2025-06-14 r88325) -- "Great Square Root" 4542
kunpeng2Linux (openEuler 24.03 LTS)aarch64R Under development (unstable) (2025-02-19 r87757) -- "Unsuffered Consequences" 4578
Click on any hostname to see more info about the system (e.g. compilers)      (*) as reported by 'uname -p', except on Windows and Mac OS X

Package 1361/2341HostnameOS / ArchINSTALLBUILDCHECKBUILD BIN
MsBackendRawFileReader 1.14.0  (landing page)
Christian Panse
Snapshot Date: 2025-07-21 13:40 -0400 (Mon, 21 Jul 2025)
git_url: https://git.bioconductor.org/packages/MsBackendRawFileReader
git_branch: RELEASE_3_21
git_last_commit: a5e44a0
git_last_commit_date: 2025-04-15 12:40:32 -0400 (Tue, 15 Apr 2025)
nebbiolo1Linux (Ubuntu 24.04.2 LTS) / x86_64  OK    OK    OK  UNNEEDED, same version is already published
palomino7Windows Server 2022 Datacenter / x64  OK    OK    OK    OK  UNNEEDED, same version is already published
merida1macOS 12.7.5 Monterey / x86_64  OK    OK    OK    OK  UNNEEDED, same version is already published
kjohnson1macOS 13.6.6 Ventura / arm64  OK    ERROR  skippedskipped
kunpeng2Linux (openEuler 24.03 LTS) / aarch64  OK    ERROR  skipped


CHECK results for MsBackendRawFileReader on nebbiolo1

To the developers/maintainers of the MsBackendRawFileReader package:
- Allow up to 24 hours (and sometimes 48 hours) for your latest push to git@git.bioconductor.org:packages/MsBackendRawFileReader.git to reflect on this report. See Troubleshooting Build Report for more information.
- Use the following Renviron settings to reproduce errors and warnings.
- If 'R CMD check' started to fail recently on the Linux builder(s) over a missing dependency, add the missing dependency to 'Suggests:' in your DESCRIPTION file. See Renviron.bioc for more information.

raw results


Summary

Package: MsBackendRawFileReader
Version: 1.14.0
Command: /home/biocbuild/bbs-3.21-bioc/R/bin/R CMD check --install=check:MsBackendRawFileReader.install-out.txt --library=/home/biocbuild/bbs-3.21-bioc/R/site-library --timings MsBackendRawFileReader_1.14.0.tar.gz
StartedAt: 2025-07-24 00:40:00 -0400 (Thu, 24 Jul 2025)
EndedAt: 2025-07-24 00:44:41 -0400 (Thu, 24 Jul 2025)
EllapsedTime: 281.4 seconds
RetCode: 0
Status:   OK  
CheckDir: MsBackendRawFileReader.Rcheck
Warnings: 0

Command output

##############################################################################
##############################################################################
###
### Running command:
###
###   /home/biocbuild/bbs-3.21-bioc/R/bin/R CMD check --install=check:MsBackendRawFileReader.install-out.txt --library=/home/biocbuild/bbs-3.21-bioc/R/site-library --timings MsBackendRawFileReader_1.14.0.tar.gz
###
##############################################################################
##############################################################################


* using log directory ‘/home/biocbuild/bbs-3.21-bioc/meat/MsBackendRawFileReader.Rcheck’
* using R version 4.5.1 (2025-06-13)
* using platform: x86_64-pc-linux-gnu
* R was compiled by
    gcc (Ubuntu 13.3.0-6ubuntu2~24.04) 13.3.0
    GNU Fortran (Ubuntu 13.3.0-6ubuntu2~24.04) 13.3.0
* running under: Ubuntu 24.04.2 LTS
* using session charset: UTF-8
* checking for file ‘MsBackendRawFileReader/DESCRIPTION’ ... OK
* checking extension type ... Package
* this is package ‘MsBackendRawFileReader’ version ‘1.14.0’
* package encoding: UTF-8
* checking package namespace information ... OK
* checking package dependencies ... OK
* checking if this is a source package ... OK
* checking if there is a namespace ... OK
* checking for hidden files and directories ... OK
* checking for portable file names ... OK
* checking for sufficient/correct file permissions ... OK
* checking whether package ‘MsBackendRawFileReader’ can be installed ... OK
* checking installed package size ... OK
* checking package directory ... OK
* checking ‘build’ directory ... OK
* checking DESCRIPTION meta-information ... OK
* checking top-level files ... OK
* checking for left-over files ... OK
* checking index information ... OK
* checking package subdirectories ... OK
* checking code files for non-ASCII characters ... OK
* checking R files for syntax errors ... OK
* checking whether the package can be loaded ... OK
* checking whether the package can be loaded with stated dependencies ... OK
* checking whether the package can be unloaded cleanly ... OK
* checking whether the namespace can be loaded with stated dependencies ... OK
* checking whether the namespace can be unloaded cleanly ... OK
* checking loading without being on the library search path ... OK
* checking whether startup messages can be suppressed ... OK
* checking dependencies in R code ... OK
* checking S3 generic/method consistency ... OK
* checking replacement functions ... OK
* checking foreign function calls ... OK
* checking R code for possible problems ... OK
* checking Rd files ... OK
* checking Rd metadata ... OK
* checking Rd cross-references ... OK
* checking for missing documentation entries ... OK
* checking for code/documentation mismatches ... OK
* checking Rd \usage sections ... OK
* checking Rd contents ... OK
* checking for unstated dependencies in examples ... OK
* checking files in ‘vignettes’ ... OK
* checking examples ... OK
Examples with CPU (user + system) or elapsed time > 5s
                         user system elapsed
ioBenchmark            31.625  6.204  11.393
MsBackendRawFileReader  6.492  2.074   9.085
* checking for unstated dependencies in ‘tests’ ... OK
* checking tests ...
  Running ‘testthat.R’
 OK
* checking for unstated dependencies in vignettes ... OK
* checking package vignettes ... OK
* checking re-building of vignette outputs ... OK
* checking PDF version of manual ... OK
* DONE

Status: OK


Installation output

MsBackendRawFileReader.Rcheck/00install.out

##############################################################################
##############################################################################
###
### Running command:
###
###   /home/biocbuild/bbs-3.21-bioc/R/bin/R CMD INSTALL MsBackendRawFileReader
###
##############################################################################
##############################################################################


* installing to library ‘/home/biocbuild/bbs-3.21-bioc/R/site-library’
* installing *source* package ‘MsBackendRawFileReader’ ...
** this is package ‘MsBackendRawFileReader’ version ‘1.14.0’
** using staged installation
** R
** inst
** byte-compile and prepare package for lazy loading
** help
*** installing help indices
** building package indices
** installing vignettes
** testing if installed package can be loaded from temporary location
** testing if installed package can be loaded from final location
** testing if installed package keeps a record of temporary installation path
* DONE (MsBackendRawFileReader)

Tests output

MsBackendRawFileReader.Rcheck/tests/testthat.Rout


R version 4.5.1 (2025-06-13) -- "Great Square Root"
Copyright (C) 2025 The R Foundation for Statistical Computing
Platform: x86_64-pc-linux-gnu

R is free software and comes with ABSOLUTELY NO WARRANTY.
You are welcome to redistribute it under certain conditions.
Type 'license()' or 'licence()' for distribution details.

R is a collaborative project with many contributors.
Type 'contributors()' for more information and
'citation()' on how to cite R or R packages in publications.

Type 'demo()' for some demos, 'help()' for on-line help, or
'help.start()' for an HTML browser interface to help.
Type 'q()' to quit R.

> library("testthat")
> library("MsBackendRawFileReader")
Loading required package: Spectra
Loading required package: S4Vectors
Loading required package: stats4
Loading required package: BiocGenerics
Loading required package: generics

Attaching package: 'generics'

The following objects are masked from 'package:base':

    as.difftime, as.factor, as.ordered, intersect, is.element, setdiff,
    setequal, union


Attaching package: 'BiocGenerics'

The following objects are masked from 'package:stats':

    IQR, mad, sd, var, xtabs

The following objects are masked from 'package:base':

    Filter, Find, Map, Position, Reduce, anyDuplicated, aperm, append,
    as.data.frame, basename, cbind, colnames, dirname, do.call,
    duplicated, eval, evalq, get, grep, grepl, is.unsorted, lapply,
    mapply, match, mget, order, paste, pmax, pmax.int, pmin, pmin.int,
    rank, rbind, rownames, sapply, saveRDS, table, tapply, unique,
    unsplit, which.max, which.min


Attaching package: 'S4Vectors'

The following object is masked from 'package:utils':

    findMatches

The following objects are masked from 'package:base':

    I, expand.grid, unname

Loading required package: BiocParallel
> library("Spectra")
> 
> 
> sample_raw_file <- file.path(system.file(package = "rawrr"),
+                                 'extdata', 'sample.raw')
> 
> sample_mzXML_file <- file.path(path.package(package = 'MsBackendRawFileReader'),
+                                 'extdata', 'sample.mzXML')
> 
> 
> sample_raw <-  backendInitialize(MsBackendRawFileReader::MsBackendRawFileReader(), files = sample_raw_file)
> 
> 
> #sample_mzr <-  backendInitialize(MsBackendMzR(), files = sample_mzXML_file)
> 
> 
> mgf_file <- file.path(system.file(package = "MsBackendRawFileReader"),
+                              'extdata', '3159619b11ed_4590_9594.mgf')
> 
> 
> rv <- lapply(1:2, function(x){
+   file.copy(from = sample_raw_file, to = tempfile(fileext='.raw'))})
> 
> 
> register(SnowParam(workers = 1, type = "SOCK") , default = TRUE); 
> sample_raw_2 <- backendInitialize(MsBackendRawFileReader(),
+     files = file.path(tempdir(),
+          list.files(path = tempdir(), pattern = 'raw$')))
> 
> 
> test_check("MsBackendRawFileReader")
[ FAIL 0 | WARN 1 | SKIP 2 | PASS 21 ]

══ Skipped tests (2) ═══════════════════════════════════════════════════════════
• isFALSE(file.exists(sample_mzXML_file)) is TRUE (1):
  'test_MsBackendMzR_MsBackendRawFileReader.R:1:1'
• isFALSE(require(MsBackendRawMgf)) is TRUE (1): 'test_top_n_mgf.R:1:1'

[ FAIL 0 | WARN 1 | SKIP 2 | PASS 21 ]
> 
> 
> be <- Spectra::backendInitialize(MsBackendRawFileReader::MsBackendRawFileReader(),
+                                  files = c(sample_raw_file))
> 
> ## Run the MsBackend spectra variable test suite
> 
> test_suite <- system.file("test_backends", "test_MsBackend",
+                           package = "Spectra")
> 
> #res <- test_file(paste0(test_suite, "/test_spectra_variables.R"),
> #                 reporter = check_reporter(), stop_on_failure = TRUE)
> 
> 
> ## Run the whole suite.
> res <- test_dir(test_suite, stop_on_failure = TRUE)
✔ | F W  S  OK | Context

⠏ |          0 | peaks_variables                                                
⠙ |          2 | peaks_variables                                                
⠸ |          4 | peaks_variables                                                
✔ |          4 | peaks_variables [3.7s]

⠏ |          0 | spectra_subsetting                                             
⠋ |          1 | spectra_subsetting                                             
⠴ |         16 | spectra_subsetting                                             
⠧ |         28 | spectra_subsetting                                             
⠦ |         37 | spectra_subsetting                                             
⠙ |         52 | spectra_subsetting                                             
⠦ |         67 | spectra_subsetting                                             
⠙ |         82 | spectra_subsetting                                             
⠦ |         97 | spectra_subsetting                                             
⠏ |        110 | spectra_subsetting                                             
⠸ |        124 | spectra_subsetting                                             
⠇ |        139 | spectra_subsetting                                             
⠙ |        152 | spectra_subsetting                                             
⠴ |        166 | spectra_subsetting                                             
⠧ |        178 | spectra_subsetting                                             
⠹ |        193 | spectra_subsetting                                             
⠧ |        208 | spectra_subsetting                                             
⠇ |        219 | spectra_subsetting                                             
⠙ |        232 | spectra_subsetting                                             
⠦ |        247 | spectra_subsetting                                             
⠏ |        260 | spectra_subsetting                                             
⠸ |        274 | spectra_subsetting                                             
⠦ |        287 | spectra_subsetting                                             
⠋ |        301 | spectra_subsetting                                             
⠴ |        316 | spectra_subsetting                                             
⠧ |        328 | spectra_subsetting                                             
⠹ |        343 | spectra_subsetting                                             
⠧ |        358 | spectra_subsetting                                             
⠏ |        370 | spectra_subsetting                                             
⠙ |        382 | spectra_subsetting                                             
⠼ |        395 | spectra_subsetting                                             
⠇ |        409 | spectra_subsetting                                             
⠸ |        424 | spectra_subsetting                                             
⠦ |        437 | spectra_subsetting                                             
⠋ |        451 | spectra_subsetting                                             
⠴ |        466 | spectra_subsetting                                             
⠇ |        479 | spectra_subsetting                                             
⠹ |        493 | spectra_subsetting                                             
⠴ |        506 | spectra_subsetting                                             
⠧ |        518 | spectra_subsetting                                             
⠙ |        532 | spectra_subsetting                                             
⠦ |        547 | spectra_subsetting                                             
⠙ |        562 | spectra_subsetting                                             
⠦ |        577 | spectra_subsetting                                             
⠇ |        589 | spectra_subsetting                                             
⠸ |        604 | spectra_subsetting                                             
⠇ |        619 | spectra_subsetting                                             
⠼ |        635 | spectra_subsetting                                             
⠇ |        649 | spectra_subsetting                                             
⠸ |        664 | spectra_subsetting                                             
⠇ |        679 | spectra_subsetting                                             
⠸ |        694 | spectra_subsetting                                             
⠇ |        709 | spectra_subsetting                                             
⠸ |        724 | spectra_subsetting                                             
⠇ |        739 | spectra_subsetting                                             
⠸ |        754 | spectra_subsetting                                             
⠧ |        768 | spectra_subsetting                                             
⠙ |        782 | spectra_subsetting                                             
⠴ |        796 | spectra_subsetting                                             
⠧ |        808 | spectra_subsetting                                             
⠹ |        823 | spectra_subsetting                                             
⠧ |        838 | spectra_subsetting                                             
⠹ |        853 | spectra_subsetting                                             
⠧ |        868 | spectra_subsetting                                             
⠹ |        883 | spectra_subsetting                                             
⠧ |        898 | spectra_subsetting                                             
⠹ |        913 | spectra_subsetting                                             
⠧ |        928 | spectra_subsetting                                             
⠹ |        943 | spectra_subsetting                                             
⠴ |        956 | spectra_subsetting                                             
⠏ |        970 | spectra_subsetting                                             
⠼ |        985 | spectra_subsetting                                             
⠏ |        1000 | spectra_subsetting                                            
⠼ |        1015 | spectra_subsetting                                            
⠦ |        1027 | spectra_subsetting                                            
⠙ |        1042 | spectra_subsetting                                            
⠦ |        1057 | spectra_subsetting                                            
⠙ |        1072 | spectra_subsetting                                            
⠦ |        1087 | spectra_subsetting                                            
⠦ |        1097 | spectra_subsetting                                            
⠋ |        1111 | spectra_subsetting                                            
⠴ |        1126 | spectra_subsetting                                            
⠋ |        1141 | spectra_subsetting                                            
⠴ |        1156 | spectra_subsetting                                            
⠇ |        1169 | spectra_subsetting                                            
⠹ |        1183 | spectra_subsetting                                            
⠧ |        1198 | spectra_subsetting                                            
⠋ |        1211 | spectra_subsetting                                            
⠼ |        1225 | spectra_subsetting                                            
⠏ |        1240 | spectra_subsetting                                            
⠼ |        1255 | spectra_subsetting                                            
⠏ |        1270 | spectra_subsetting                                            
⠼ |        1285 | spectra_subsetting                                            
⠏ |        1300 | spectra_subsetting                                            
⠹ |        1313 | spectra_subsetting                                            
⠦ |        1327 | spectra_subsetting                                            
⠙ |        1342 | spectra_subsetting                                            
⠴ |        1356 | spectra_subsetting                                            
⠇ |        1369 | spectra_subsetting                                            
⠸ |        1384 | spectra_subsetting                                            
⠇ |        1399 | spectra_subsetting                                            
⠸ |        1414 | spectra_subsetting                                            
⠦ |        1427 | spectra_subsetting                                            
⠋ |        1441 | spectra_subsetting                                            
⠴ |        1456 | spectra_subsetting                                            
⠋ |        1471 | spectra_subsetting                                            
⠴ |        1486 | spectra_subsetting                                            
⠋ |        1501 | spectra_subsetting                                            
⠴ |        1516 | spectra_subsetting                                            
⠋ |        1531 | spectra_subsetting                                            
⠴ |        1546 | spectra_subsetting                                            
⠋ |        1561 | spectra_subsetting                                            
⠴ |        1576 | spectra_subsetting                                            
⠋ |        1591 | spectra_subsetting                                            
⠴ |        1606 | spectra_subsetting                                            
⠋ |        1621 | spectra_subsetting                                            
⠴ |        1636 | spectra_subsetting                                            
⠋ |        1651 | spectra_subsetting                                            
⠴ |        1666 | spectra_subsetting                                            
⠋ |        1681 | spectra_subsetting                                            
⠹ |        1693 | spectra_subsetting                                            
⠦ |        1707 | spectra_subsetting                                            
⠏ |        1720 | spectra_subsetting                                            
⠦ |        1727 | spectra_subsetting                                            
⠇ |        1729 | spectra_subsetting                                            
⠙ |        1732 | spectra_subsetting                                            
⠸ |        1734 | spectra_subsetting                                            
⠦ |        1737 | spectra_subsetting                                            
⠏ |        1740 | spectra_subsetting                                            
⠙ |        1742 | spectra_subsetting                                            
⠼ |        1745 | spectra_subsetting                                            
⠦ |        1747 | spectra_subsetting                                            
⠏ |        1750 | spectra_subsetting                                            
⠹ |        1753 | spectra_subsetting                                            
⠼ |        1755 | spectra_subsetting                                            
⠧ |        1758 | spectra_subsetting                                            
⠏ |        1760 | spectra_subsetting                                            
⠹ |        1763 | spectra_subsetting                                            
⠼ |        1765 | spectra_subsetting                                            
⠧ |        1768 | spectra_subsetting                                            
⠋ |        1771 | spectra_subsetting                                            
⠹ |        1773 | spectra_subsetting                                            
⠴ |        1776 | spectra_subsetting                                            
⠧ |        1778 | spectra_subsetting                                            
⠋ |        1781 | spectra_subsetting                                            
⠸ |        1784 | spectra_subsetting                                            
⠴ |        1786 | spectra_subsetting                                            
⠇ |        1789 | spectra_subsetting                                            
⠋ |        1791 | spectra_subsetting                                            
⠸ |        1794 | spectra_subsetting                                            
⠦ |        1797 | spectra_subsetting                                            
⠇ |        1799 | spectra_subsetting                                            
⠙ |        1802 | spectra_subsetting                                            
⠸ |        1804 | spectra_subsetting                                            
⠦ |        1807 | spectra_subsetting                                            
⠏ |        1810 | spectra_subsetting                                            
⠙ |        1812 | spectra_subsetting                                            
⠼ |        1815 | spectra_subsetting                                            
⠦ |        1817 | spectra_subsetting                                            
⠏ |        1820 | spectra_subsetting                                            
⠙ |        1822 | spectra_subsetting                                            
⠼ |        1825 | spectra_subsetting                                            
⠧ |        1828 | spectra_subsetting                                            
⠏ |        1830 | spectra_subsetting                                            
⠹ |        1833 | spectra_subsetting                                            
⠼ |        1835 | spectra_subsetting                                            
⠦ |        1837 | spectra_subsetting                                            
⠇ |        1839 | spectra_subsetting                                            
⠙ |        1842 | spectra_subsetting                                            
⠸ |        1844 | spectra_subsetting                                            
⠦ |        1847 | spectra_subsetting                                            
⠏ |        1850 | spectra_subsetting                                            
⠙ |        1852 | spectra_subsetting                                            
⠼ |        1855 | spectra_subsetting                                            
⠦ |        1857 | spectra_subsetting                                            
⠇ |        1859 | spectra_subsetting                                            
⠋ |        1861 | spectra_subsetting                                            
⠸ |        1864 | spectra_subsetting                                            
⠴ |        1866 | spectra_subsetting                                            
⠇ |        1869 | spectra_subsetting                                            
⠙ |        1872 | spectra_subsetting                                            
⠸ |        1874 | spectra_subsetting                                            
⠦ |        1877 | spectra_subsetting                                            
⠇ |        1879 | spectra_subsetting                                            
⠙ |        1882 | spectra_subsetting                                            
⠼ |        1885 | spectra_subsetting                                            
⠦ |        1887 | spectra_subsetting                                            
⠏ |        1890 | spectra_subsetting                                            
⠋ |        1891 | spectra_subsetting                                            
⠸ |        1894 | spectra_subsetting                                            
⠦ |        1897 | spectra_subsetting                                            
⠏ |        1900 | spectra_subsetting                                            
⠹ |        1903 | spectra_subsetting                                            
⠼ |        1905 | spectra_subsetting                                            
⠧ |        1908 | spectra_subsetting                                            
⠋ |        1911 | spectra_subsetting                                            
⠸ |        1914 | spectra_subsetting                                            
⠦ |        1917 | spectra_subsetting                                            
⠏ |        1920 | spectra_subsetting                                            
⠹ |        1923 | spectra_subsetting                                            
⠴ |        1926 | spectra_subsetting                                            
⠇ |        1929 | spectra_subsetting                                            
⠙ |        1932 | spectra_subsetting                                            
⠼ |        1935 | spectra_subsetting                                            
⠦ |        1937 | spectra_subsetting                                            
⠏ |        1940 | spectra_subsetting                                            
⠹ |        1943 | spectra_subsetting                                            
⠴ |        1946 | spectra_subsetting                                            
⠇ |        1949 | spectra_subsetting                                            
⠙ |        1952 | spectra_subsetting                                            
⠼ |        1955 | spectra_subsetting                                            
⠧ |        1958 | spectra_subsetting                                            
⠋ |        1961 | spectra_subsetting                                            
⠸ |        1964 | spectra_subsetting                                            
⠦ |        1967 | spectra_subsetting                                            
⠏ |        1970 | spectra_subsetting                                            
⠹ |        1973 | spectra_subsetting                                            
⠴ |        1976 | spectra_subsetting                                            
⠇ |        1979 | spectra_subsetting                                            
⠙ |        1982 | spectra_subsetting                                            
⠸ |        1984 | spectra_subsetting                                            
⠴ |        1986 | spectra_subsetting                                            
⠇ |        1989 | spectra_subsetting                                            
⠙ |        1992 | spectra_subsetting                                            
⠼ |        1995 | spectra_subsetting                                            
⠧ |        1998 | spectra_subsetting                                            
⠋ |        2001 | spectra_subsetting                                            
⠸ |        2004 | spectra_subsetting                                            
⠦ |        2007 | spectra_subsetting                                            
⠏ |        2010 | spectra_subsetting                                            
⠹ |        2013 | spectra_subsetting                                            
⠴ |        2016 | spectra_subsetting                                            
⠧ |        2018 | spectra_subsetting                                            
⠋ |        2021 | spectra_subsetting                                            
⠹ |        2023 | spectra_subsetting                                            
⠴ |        2026 | spectra_subsetting                                            
⠇ |        2029 | spectra_subsetting                                            
⠙ |        2032 | spectra_subsetting                                            
⠼ |        2035 | spectra_subsetting                                            
⠧ |        2038 | spectra_subsetting                                            
⠏ |        2040 | spectra_subsetting                                            
⠹ |        2043 | spectra_subsetting                                            
⠼ |        2045 | spectra_subsetting                                            
⠧ |        2048 | spectra_subsetting                                            
⠋ |        2051 | spectra_subsetting                                            
⠸ |        2054 | spectra_subsetting                                            
⠦ |        2057 | spectra_subsetting                                            
⠇ |        2059 | spectra_subsetting                                            
⠙ |        2062 | spectra_subsetting                                            
⠸ |        2064 | spectra_subsetting                                            
⠦ |        2067 | spectra_subsetting                                            
⠏ |        2070 | spectra_subsetting                                            
⠙ |        2072 | spectra_subsetting                                            
⠼ |        2075 | spectra_subsetting                                            
⠦ |        2077 | spectra_subsetting                                            
⠏ |        2080 | spectra_subsetting                                            
⠙ |        2082 | spectra_subsetting                                            
⠼ |        2085 | spectra_subsetting                                            
⠧ |        2088 | spectra_subsetting                                            
⠋ |        2091 | spectra_subsetting                                            
⠸ |        2094 | spectra_subsetting                                            
⠦ |        2097 | spectra_subsetting                                            
⠇ |        2099 | spectra_subsetting                                            
⠙ |        2102 | spectra_subsetting                                            
⠼ |        2105 | spectra_subsetting                                            
⠧ |        2108 | spectra_subsetting                                            
⠋ |        2111 | spectra_subsetting                                            
⠹ |        2113 | spectra_subsetting                                            
⠴ |        2116 | spectra_subsetting                                            
⠇ |        2119 | spectra_subsetting                                            
⠙ |        2122 | spectra_subsetting                                            
⠼ |        2125 | spectra_subsetting                                            
⠧ |        2128 | spectra_subsetting                                            
⠋ |        2131 | spectra_subsetting                                            
⠸ |        2134 | spectra_subsetting                                            
⠦ |        2137 | spectra_subsetting                                            
⠏ |        2140 | spectra_subsetting                                            
⠹ |        2143 | spectra_subsetting                                            
⠼ |        2145 | spectra_subsetting                                            
⠧ |        2148 | spectra_subsetting                                            
⠋ |        2151 | spectra_subsetting                                            
⠸ |        2154 | spectra_subsetting                                            
⠦ |        2157 | spectra_subsetting                                            
⠏ |        2160 | spectra_subsetting                                            
⠹ |        2163 | spectra_subsetting                                            
⠴ |        2166 | spectra_subsetting                                            
⠧ |        2168 | spectra_subsetting                                            
⠋ |        2171 | spectra_subsetting                                            
⠸ |        2174 | spectra_subsetting                                            
⠴ |        2176 | spectra_subsetting                                            
⠇ |        2179 | spectra_subsetting                                            
⠋ |        2181 | spectra_subsetting                                            
⠸ |        2184 | spectra_subsetting                                            
⠴ |        2186 | spectra_subsetting                                            
⠇ |        2189 | spectra_subsetting                                            
⠙ |        2192 | spectra_subsetting                                            
⠼ |        2195 | spectra_subsetting                                            
⠧ |        2198 | spectra_subsetting                                            
⠋ |        2201 | spectra_subsetting                                            
⠹ |        2203 | spectra_subsetting                                            
⠴ |        2206 | spectra_subsetting                                            
⠧ |        2208 | spectra_subsetting                                            
⠋ |        2211 | spectra_subsetting                                            
⠹ |        2213 | spectra_subsetting                                            
⠴ |        2216 | spectra_subsetting                                            
⠇ |        2219 | spectra_subsetting                                            
⠙ |        2222 | spectra_subsetting                                            
⠼ |        2225 | spectra_subsetting                                            
⠧ |        2228 | spectra_subsetting                                            
⠋ |        2231 | spectra_subsetting                                            
⠸ |        2234 | spectra_subsetting                                            
⠦ |        2237 | spectra_subsetting                                            
⠇ |        2239 | spectra_subsetting                                            
⠙ |        2242 | spectra_subsetting                                            
⠼ |        2245 | spectra_subsetting                                            
⠦ |        2247 | spectra_subsetting                                            
⠇ |        2249 | spectra_subsetting                                            
⠙ |        2252 | spectra_subsetting                                            
⠼ |        2255 | spectra_subsetting                                            
⠧ |        2258 | spectra_subsetting                                            
⠋ |        2261 | spectra_subsetting                                            
⠸ |        2264 | spectra_subsetting                                            
⠦ |        2267 | spectra_subsetting                                            
⠏ |        2270 | spectra_subsetting                                            
⠹ |        2273 | spectra_subsetting                                            
⠼ |        2275 | spectra_subsetting                                            
⠧ |        2278 | spectra_subsetting                                            
⠏ |        2280 | spectra_subsetting                                            
⠹ |        2283 | spectra_subsetting                                            
⠼ |        2285 | spectra_subsetting                                            
⠧ |        2288 | spectra_subsetting                                            
⠋ |        2291 | spectra_subsetting                                            
⠹ |        2293 | spectra_subsetting                                            
⠴ |        2296 | spectra_subsetting                                            
⠇ |        2299 | spectra_subsetting                                            
⠹ |        2303 | spectra_subsetting                                            
⠙ |        2312 | spectra_subsetting                                            
⠇ |        2319 | spectra_subsetting                                            
⠇ |        2329 | spectra_subsetting                                            
⠸ |        2334 | spectra_subsetting                                            
✔ |        2342 | spectra_subsetting [42.7s]

⠏ |          0 | spectra_variables                                              
⠙ |         12 | spectra_variables                                              
⠸ |         14 | spectra_variables                                              
⠴ |         16 | spectra_variables                                              
⠦ |         27 | spectra_variables                                              
⠇ |         29 | spectra_variables                                              
⠋ |         31 | spectra_variables                                              
⠹ |         43 | spectra_variables                                              
⠹ |      1  62 | spectra_variables                                              
✔ |      1  62 | spectra_variables [13.9s]

══ Results ═════════════════════════════════════════════════════════════════════
Duration: 60.4 s

── Skipped tests (1) ───────────────────────────────────────────────────────────
• empty test (1): 'test_spectra_variables.R:262:1'

[ FAIL 0 | WARN 0 | SKIP 1 | PASS 2408 ]
> 
> proc.time()
   user  system elapsed 
 82.228   7.991  92.553 

Example timings

MsBackendRawFileReader.Rcheck/MsBackendRawFileReader-Ex.timings

nameusersystemelapsed
MsBackendRawFileReader-class3.0110.7553.995
MsBackendRawFileReader6.4922.0749.085
hidden_aliases2.0410.6922.864
ioBenchmark31.625 6.20411.393