Back to Multiple platform build/check report for BioC 3.22:   simplified   long
ABCDEFGHIJKL[M]NOPQRSTUVWXYZ

This page was generated on 2025-11-01 12:04 -0400 (Sat, 01 Nov 2025).

HostnameOSArch (*)R versionInstalled pkgs
nebbiolo2Linux (Ubuntu 24.04.3 LTS)x86_644.5.1 Patched (2025-08-23 r88802) -- "Great Square Root" 4901
lconwaymacOS 12.7.6 Montereyx86_644.5.1 Patched (2025-09-10 r88807) -- "Great Square Root" 4691
kjohnson3macOS 13.7.7 Venturaarm644.5.1 Patched (2025-09-10 r88807) -- "Great Square Root" 4637
Click on any hostname to see more info about the system (e.g. compilers)      (*) as reported by 'uname -p', except on Windows and Mac OS X

Package 1378/2361HostnameOS / ArchINSTALLBUILDCHECKBUILD BIN
MsBackendRawFileReader 1.16.0  (landing page)
Christian Panse
Snapshot Date: 2025-10-31 13:45 -0400 (Fri, 31 Oct 2025)
git_url: https://git.bioconductor.org/packages/MsBackendRawFileReader
git_branch: RELEASE_3_22
git_last_commit: 53064fe
git_last_commit_date: 2025-10-29 11:12:57 -0400 (Wed, 29 Oct 2025)
nebbiolo2Linux (Ubuntu 24.04.3 LTS) / x86_64  OK    OK    OK  UNNEEDED, same version is already published
lconwaymacOS 12.7.6 Monterey / x86_64  OK    OK    OK    OK  UNNEEDED, same version is already published
kjohnson3macOS 13.7.7 Ventura / arm64  OK    OK    OK    OK  UNNEEDED, same version is already published


CHECK results for MsBackendRawFileReader on lconway

To the developers/maintainers of the MsBackendRawFileReader package:
- Allow up to 24 hours (and sometimes 48 hours) for your latest push to git@git.bioconductor.org:packages/MsBackendRawFileReader.git to reflect on this report. See Troubleshooting Build Report for more information.
- Use the following Renviron settings to reproduce errors and warnings.
- If 'R CMD check' started to fail recently on the Linux builder(s) over a missing dependency, add the missing dependency to 'Suggests:' in your DESCRIPTION file. See Renviron.bioc for more information.

raw results


Summary

Package: MsBackendRawFileReader
Version: 1.16.0
Command: /Library/Frameworks/R.framework/Resources/bin/R CMD check --install=check:MsBackendRawFileReader.install-out.txt --library=/Library/Frameworks/R.framework/Resources/library --no-vignettes --timings MsBackendRawFileReader_1.16.0.tar.gz
StartedAt: 2025-10-31 22:41:36 -0400 (Fri, 31 Oct 2025)
EndedAt: 2025-10-31 22:45:20 -0400 (Fri, 31 Oct 2025)
EllapsedTime: 223.6 seconds
RetCode: 0
Status:   OK  
CheckDir: MsBackendRawFileReader.Rcheck
Warnings: 0

Command output

##############################################################################
##############################################################################
###
### Running command:
###
###   /Library/Frameworks/R.framework/Resources/bin/R CMD check --install=check:MsBackendRawFileReader.install-out.txt --library=/Library/Frameworks/R.framework/Resources/library --no-vignettes --timings MsBackendRawFileReader_1.16.0.tar.gz
###
##############################################################################
##############################################################################


* using log directory ‘/Users/biocbuild/bbs-3.22-bioc/meat/MsBackendRawFileReader.Rcheck’
* using R version 4.5.1 Patched (2025-09-10 r88807)
* using platform: x86_64-apple-darwin20
* R was compiled by
    Apple clang version 14.0.0 (clang-1400.0.29.202)
    GNU Fortran (GCC) 14.2.0
* running under: macOS Monterey 12.7.6
* using session charset: UTF-8
* using option ‘--no-vignettes’
* checking for file ‘MsBackendRawFileReader/DESCRIPTION’ ... OK
* checking extension type ... Package
* this is package ‘MsBackendRawFileReader’ version ‘1.16.0’
* package encoding: UTF-8
* checking package namespace information ... OK
* checking package dependencies ... OK
* checking if this is a source package ... OK
* checking if there is a namespace ... OK
* checking for hidden files and directories ... OK
* checking for portable file names ... OK
* checking for sufficient/correct file permissions ... OK
* checking whether package ‘MsBackendRawFileReader’ can be installed ... OK
* checking installed package size ... OK
* checking package directory ... OK
* checking ‘build’ directory ... OK
* checking DESCRIPTION meta-information ... OK
* checking top-level files ... OK
* checking for left-over files ... OK
* checking index information ... OK
* checking package subdirectories ... OK
* checking code files for non-ASCII characters ... OK
* checking R files for syntax errors ... OK
* checking whether the package can be loaded ... OK
* checking whether the package can be loaded with stated dependencies ... OK
* checking whether the package can be unloaded cleanly ... OK
* checking whether the namespace can be loaded with stated dependencies ... OK
* checking whether the namespace can be unloaded cleanly ... OK
* checking whether startup messages can be suppressed ... OK
* checking dependencies in R code ... OK
* checking S3 generic/method consistency ... OK
* checking replacement functions ... OK
* checking foreign function calls ... OK
* checking R code for possible problems ... OK
* checking Rd files ... OK
* checking Rd metadata ... OK
* checking Rd cross-references ... OK
* checking for missing documentation entries ... OK
* checking for code/documentation mismatches ... OK
* checking Rd \usage sections ... OK
* checking Rd contents ... OK
* checking for unstated dependencies in examples ... OK
* checking files in ‘vignettes’ ... OK
* checking examples ... OK
Examples with CPU (user + system) or elapsed time > 5s
                               user system elapsed
ioBenchmark                  28.598 11.688  13.326
MsBackendRawFileReader        8.078  3.011  11.490
MsBackendRawFileReader-class  3.586  1.095   5.135
* checking for unstated dependencies in ‘tests’ ... OK
* checking tests ...
  Running ‘testthat.R’
 OK
* checking for unstated dependencies in vignettes ... OK
* checking package vignettes ... OK
* checking running R code from vignettes ... SKIPPED
* checking re-building of vignette outputs ... SKIPPED
* checking PDF version of manual ... OK
* DONE

Status: OK


Installation output

MsBackendRawFileReader.Rcheck/00install.out

##############################################################################
##############################################################################
###
### Running command:
###
###   /Library/Frameworks/R.framework/Resources/bin/R CMD INSTALL MsBackendRawFileReader
###
##############################################################################
##############################################################################


* installing to library ‘/Library/Frameworks/R.framework/Versions/4.5-x86_64/Resources/library’
* installing *source* package ‘MsBackendRawFileReader’ ...
** this is package ‘MsBackendRawFileReader’ version ‘1.16.0’
** using staged installation
** R
** inst
** byte-compile and prepare package for lazy loading
** help
*** installing help indices
** building package indices
** installing vignettes
** testing if installed package can be loaded from temporary location
** testing if installed package can be loaded from final location
** testing if installed package keeps a record of temporary installation path
* DONE (MsBackendRawFileReader)

Tests output

MsBackendRawFileReader.Rcheck/tests/testthat.Rout


R version 4.5.1 Patched (2025-09-10 r88807) -- "Great Square Root"
Copyright (C) 2025 The R Foundation for Statistical Computing
Platform: x86_64-apple-darwin20

R is free software and comes with ABSOLUTELY NO WARRANTY.
You are welcome to redistribute it under certain conditions.
Type 'license()' or 'licence()' for distribution details.

R is a collaborative project with many contributors.
Type 'contributors()' for more information and
'citation()' on how to cite R or R packages in publications.

Type 'demo()' for some demos, 'help()' for on-line help, or
'help.start()' for an HTML browser interface to help.
Type 'q()' to quit R.

> library("testthat")
> library("MsBackendRawFileReader")
Loading required package: Spectra
Loading required package: S4Vectors
Loading required package: stats4
Loading required package: BiocGenerics
Loading required package: generics

Attaching package: 'generics'

The following objects are masked from 'package:base':

    as.difftime, as.factor, as.ordered, intersect, is.element, setdiff,
    setequal, union


Attaching package: 'BiocGenerics'

The following objects are masked from 'package:stats':

    IQR, mad, sd, var, xtabs

The following objects are masked from 'package:base':

    Filter, Find, Map, Position, Reduce, anyDuplicated, aperm, append,
    as.data.frame, basename, cbind, colnames, dirname, do.call,
    duplicated, eval, evalq, get, grep, grepl, is.unsorted, lapply,
    mapply, match, mget, order, paste, pmax, pmax.int, pmin, pmin.int,
    rank, rbind, rownames, sapply, saveRDS, table, tapply, unique,
    unsplit, which.max, which.min


Attaching package: 'S4Vectors'

The following object is masked from 'package:utils':

    findMatches

The following objects are masked from 'package:base':

    I, expand.grid, unname

Loading required package: BiocParallel
> library("Spectra")
> 
> 
> sample_raw_file <- file.path(system.file(package = "rawrr"),
+                                 'extdata', 'sample.raw')
> 
> sample_mzXML_file <- file.path(path.package(package = 'MsBackendRawFileReader'),
+                                 'extdata', 'sample.mzXML')
> 
> 
> sample_raw <-  backendInitialize(MsBackendRawFileReader::MsBackendRawFileReader(), files = sample_raw_file)
> 
> 
> #sample_mzr <-  backendInitialize(MsBackendMzR(), files = sample_mzXML_file)
> 
> 
> mgf_file <- file.path(system.file(package = "MsBackendRawFileReader"),
+                              'extdata', '3159619b11ed_4590_9594.mgf')
> 
> 
> rv <- lapply(1:2, function(x){
+   file.copy(from = sample_raw_file, to = tempfile(fileext='.raw'))})
> 
> 
> register(SnowParam(workers = 1, type = "SOCK") , default = TRUE); 
> sample_raw_2 <- backendInitialize(MsBackendRawFileReader(),
+     files = file.path(tempdir(),
+          list.files(path = tempdir(), pattern = 'raw$')))
> 
> 
> test_check("MsBackendRawFileReader")
[ FAIL 0 | WARN 1 | SKIP 2 | PASS 21 ]

══ Skipped tests (2) ═══════════════════════════════════════════════════════════
• isFALSE(file.exists(sample_mzXML_file)) is TRUE (1):
  'test_MsBackendMzR_MsBackendRawFileReader.R:1:1'
• isFALSE(require(MsBackendRawMgf)) is TRUE (1): 'test_top_n_mgf.R:1:1'

[ FAIL 0 | WARN 1 | SKIP 2 | PASS 21 ]
> 
> 
> be <- Spectra::backendInitialize(MsBackendRawFileReader::MsBackendRawFileReader(),
+                                  files = c(sample_raw_file))
> 
> ## Run the MsBackend spectra variable test suite
> 
> test_suite <- system.file("test_backends", "test_MsBackend",
+                           package = "Spectra")
> 
> #res <- test_file(paste0(test_suite, "/test_spectra_variables.R"),
> #                 reporter = check_reporter(), stop_on_failure = TRUE)
> 
> 
> ## Run the whole suite.
> res <- test_dir(test_suite, stop_on_failure = TRUE)
✔ | F W  S  OK | Context

⠏ |          0 | peaks_variables                                                
⠙ |          2 | peaks_variables                                                
⠸ |          4 | peaks_variables                                                
✔ |          4 | peaks_variables [4.8s]

⠏ |          0 | spectra_subsetting                                             
⠋ |          1 | spectra_subsetting                                             
⠹ |         13 | spectra_subsetting                                             
⠼ |         25 | spectra_subsetting                                             
⠦ |         37 | spectra_subsetting                                             
⠇ |         49 | spectra_subsetting                                             
⠇ |         59 | spectra_subsetting                                             
⠏ |         70 | spectra_subsetting                                             
⠙ |         82 | spectra_subsetting                                             
⠸ |         94 | spectra_subsetting                                             
⠼ |        105 | spectra_subsetting                                             
⠴ |        116 | spectra_subsetting                                             
⠧ |        128 | spectra_subsetting                                             
⠇ |        139 | spectra_subsetting                                             
⠋ |        151 | spectra_subsetting                                             
⠹ |        163 | spectra_subsetting                                             
⠸ |        174 | spectra_subsetting                                             
⠸ |        184 | spectra_subsetting                                             
⠴ |        196 | spectra_subsetting                                             
⠧ |        208 | spectra_subsetting                                             
⠏ |        220 | spectra_subsetting                                             
⠙ |        232 | spectra_subsetting                                             
⠸ |        244 | spectra_subsetting                                             
⠸ |        254 | spectra_subsetting                                             
⠴ |        266 | spectra_subsetting                                             
⠦ |        277 | spectra_subsetting                                             
⠇ |        289 | spectra_subsetting                                             
⠋ |        301 | spectra_subsetting                                             
⠹ |        313 | spectra_subsetting                                             
⠼ |        325 | spectra_subsetting                                             
⠦ |        337 | spectra_subsetting                                             
⠇ |        349 | spectra_subsetting                                             
⠧ |        358 | spectra_subsetting                                             
⠏ |        370 | spectra_subsetting                                             
⠙ |        382 | spectra_subsetting                                             
⠸ |        394 | spectra_subsetting                                             
⠴ |        406 | spectra_subsetting                                             
⠇ |        419 | spectra_subsetting                                             
⠏ |        430 | spectra_subsetting                                             
⠙ |        442 | spectra_subsetting                                             
⠸ |        454 | spectra_subsetting                                             
⠴ |        466 | spectra_subsetting                                             
⠧ |        478 | spectra_subsetting                                             
⠏ |        490 | spectra_subsetting                                             
⠙ |        502 | spectra_subsetting                                             
⠙ |        512 | spectra_subsetting                                             
⠹ |        523 | spectra_subsetting                                             
⠼ |        535 | spectra_subsetting                                             
⠼ |        545 | spectra_subsetting                                             
⠴ |        556 | spectra_subsetting                                             
⠧ |        568 | spectra_subsetting                                             
⠇ |        579 | spectra_subsetting                                             
⠏ |        590 | spectra_subsetting                                             
⠋ |        601 | spectra_subsetting                                             
⠹ |        613 | spectra_subsetting                                             
⠹ |        623 | spectra_subsetting                                             
⠙ |        632 | spectra_subsetting                                             
⠹ |        643 | spectra_subsetting                                             
⠼ |        655 | spectra_subsetting                                             
⠦ |        667 | spectra_subsetting                                             
⠇ |        679 | spectra_subsetting                                             
⠏ |        690 | spectra_subsetting                                             
⠏ |        700 | spectra_subsetting                                             
⠙ |        712 | spectra_subsetting                                             
⠹ |        723 | spectra_subsetting                                             
⠹ |        733 | spectra_subsetting                                             
⠼ |        745 | spectra_subsetting                                             
⠦ |        757 | spectra_subsetting                                             
⠦ |        767 | spectra_subsetting                                             
⠇ |        779 | spectra_subsetting                                             
⠋ |        791 | spectra_subsetting                                             
⠙ |        802 | spectra_subsetting                                             
⠸ |        814 | spectra_subsetting                                             
⠴ |        826 | spectra_subsetting                                             
⠧ |        838 | spectra_subsetting                                             
⠋ |        851 | spectra_subsetting                                             
⠙ |        862 | spectra_subsetting                                             
⠹ |        873 | spectra_subsetting                                             
⠸ |        884 | spectra_subsetting                                             
⠼ |        895 | spectra_subsetting                                             
⠦ |        907 | spectra_subsetting                                             
⠇ |        919 | spectra_subsetting                                             
⠋ |        931 | spectra_subsetting                                             
⠋ |        941 | spectra_subsetting                                             
⠙ |        952 | spectra_subsetting                                             
⠸ |        964 | spectra_subsetting                                             
⠴ |        976 | spectra_subsetting                                             
⠼ |        985 | spectra_subsetting                                             
⠦ |        997 | spectra_subsetting                                             
⠇ |        1009 | spectra_subsetting                                            
⠋ |        1021 | spectra_subsetting                                            
⠹ |        1033 | spectra_subsetting                                            
⠴ |        1046 | spectra_subsetting                                            
⠦ |        1057 | spectra_subsetting                                            
⠏ |        1070 | spectra_subsetting                                            
⠋ |        1081 | spectra_subsetting                                            
⠹ |        1093 | spectra_subsetting                                            
⠦ |        1107 | spectra_subsetting                                            
⠦ |        1117 | spectra_subsetting                                            
⠦ |        1127 | spectra_subsetting                                            
⠧ |        1138 | spectra_subsetting                                            
⠏ |        1150 | spectra_subsetting                                            
⠙ |        1162 | spectra_subsetting                                            
⠸ |        1174 | spectra_subsetting                                            
⠴ |        1186 | spectra_subsetting                                            
⠧ |        1198 | spectra_subsetting                                            
⠧ |        1208 | spectra_subsetting                                            
⠋ |        1221 | spectra_subsetting                                            
⠙ |        1232 | spectra_subsetting                                            
⠹ |        1243 | spectra_subsetting                                            
⠼ |        1255 | spectra_subsetting                                            
⠦ |        1267 | spectra_subsetting                                            
⠇ |        1279 | spectra_subsetting                                            
⠙ |        1292 | spectra_subsetting                                            
⠹ |        1303 | spectra_subsetting                                            
⠼ |        1315 | spectra_subsetting                                            
⠧ |        1328 | spectra_subsetting                                            
⠇ |        1339 | spectra_subsetting                                            
⠇ |        1349 | spectra_subsetting                                            
⠋ |        1361 | spectra_subsetting                                            
⠹ |        1373 | spectra_subsetting                                            
⠸ |        1384 | spectra_subsetting                                            
⠦ |        1397 | spectra_subsetting                                            
⠧ |        1408 | spectra_subsetting                                            
⠏ |        1420 | spectra_subsetting                                            
⠙ |        1432 | spectra_subsetting                                            
⠸ |        1444 | spectra_subsetting                                            
⠴ |        1456 | spectra_subsetting                                            
⠴ |        1466 | spectra_subsetting                                            
⠦ |        1477 | spectra_subsetting                                            
⠦ |        1487 | spectra_subsetting                                            
⠼ |        1495 | spectra_subsetting                                            
⠧ |        1508 | spectra_subsetting                                            
⠏ |        1520 | spectra_subsetting                                            
⠋ |        1531 | spectra_subsetting                                            
⠹ |        1543 | spectra_subsetting                                            
⠼ |        1555 | spectra_subsetting                                            
⠴ |        1566 | spectra_subsetting                                            
⠴ |        1576 | spectra_subsetting                                            
⠧ |        1588 | spectra_subsetting                                            
⠏ |        1600 | spectra_subsetting                                            
⠙ |        1612 | spectra_subsetting                                            
⠸ |        1624 | spectra_subsetting                                            
⠴ |        1636 | spectra_subsetting                                            
⠇ |        1649 | spectra_subsetting                                            
⠙ |        1662 | spectra_subsetting                                            
⠙ |        1672 | spectra_subsetting                                            
⠸ |        1684 | spectra_subsetting                                            
⠴ |        1696 | spectra_subsetting                                            
⠧ |        1708 | spectra_subsetting                                            
⠏ |        1720 | spectra_subsetting                                            
⠦ |        1727 | spectra_subsetting                                            
⠇ |        1729 | spectra_subsetting                                            
⠋ |        1731 | spectra_subsetting                                            
⠹ |        1733 | spectra_subsetting                                            
⠴ |        1736 | spectra_subsetting                                            
⠇ |        1739 | spectra_subsetting                                            
⠋ |        1741 | spectra_subsetting                                            
⠸ |        1744 | spectra_subsetting                                            
⠴ |        1746 | spectra_subsetting                                            
⠧ |        1748 | spectra_subsetting                                            
⠏ |        1750 | spectra_subsetting                                            
⠙ |        1752 | spectra_subsetting                                            
⠼ |        1755 | spectra_subsetting                                            
⠧ |        1758 | spectra_subsetting                                            
⠏ |        1760 | spectra_subsetting                                            
⠹ |        1763 | spectra_subsetting                                            
⠼ |        1765 | spectra_subsetting                                            
⠧ |        1768 | spectra_subsetting                                            
⠏ |        1770 | spectra_subsetting                                            
⠹ |        1773 | spectra_subsetting                                            
⠼ |        1775 | spectra_subsetting                                            
⠦ |        1777 | spectra_subsetting                                            
⠇ |        1779 | spectra_subsetting                                            
⠙ |        1782 | spectra_subsetting                                            
⠸ |        1784 | spectra_subsetting                                            
⠴ |        1786 | spectra_subsetting                                            
⠧ |        1788 | spectra_subsetting                                            
⠏ |        1790 | spectra_subsetting                                            
⠙ |        1792 | spectra_subsetting                                            
⠸ |        1794 | spectra_subsetting                                            
⠴ |        1796 | spectra_subsetting                                            
⠇ |        1799 | spectra_subsetting                                            
⠙ |        1802 | spectra_subsetting                                            
⠸ |        1804 | spectra_subsetting                                            
⠦ |        1807 | spectra_subsetting                                            
⠇ |        1809 | spectra_subsetting                                            
⠙ |        1812 | spectra_subsetting                                            
⠸ |        1814 | spectra_subsetting                                            
⠴ |        1816 | spectra_subsetting                                            
⠧ |        1818 | spectra_subsetting                                            
⠏ |        1820 | spectra_subsetting                                            
⠙ |        1822 | spectra_subsetting                                            
⠸ |        1824 | spectra_subsetting                                            
⠴ |        1826 | spectra_subsetting                                            
⠇ |        1829 | spectra_subsetting                                            
⠋ |        1831 | spectra_subsetting                                            
⠸ |        1834 | spectra_subsetting                                            
⠦ |        1837 | spectra_subsetting                                            
⠇ |        1839 | spectra_subsetting                                            
⠋ |        1841 | spectra_subsetting                                            
⠹ |        1843 | spectra_subsetting                                            
⠴ |        1846 | spectra_subsetting                                            
⠧ |        1848 | spectra_subsetting                                            
⠋ |        1851 | spectra_subsetting                                            
⠹ |        1853 | spectra_subsetting                                            
⠴ |        1856 | spectra_subsetting                                            
⠧ |        1858 | spectra_subsetting                                            
⠋ |        1861 | spectra_subsetting                                            
⠸ |        1864 | spectra_subsetting                                            
⠦ |        1867 | spectra_subsetting                                            
⠏ |        1870 | spectra_subsetting                                            
⠹ |        1873 | spectra_subsetting                                            
⠼ |        1875 | spectra_subsetting                                            
⠧ |        1878 | spectra_subsetting                                            
⠋ |        1881 | spectra_subsetting                                            
⠸ |        1884 | spectra_subsetting                                            
⠦ |        1887 | spectra_subsetting                                            
⠏ |        1890 | spectra_subsetting                                            
⠙ |        1892 | spectra_subsetting                                            
⠼ |        1895 | spectra_subsetting                                            
⠴ |        1896 | spectra_subsetting                                            
⠇ |        1899 | spectra_subsetting                                            
⠋ |        1901 | spectra_subsetting                                            
⠹ |        1903 | spectra_subsetting                                            
⠼ |        1905 | spectra_subsetting                                            
⠦ |        1907 | spectra_subsetting                                            
⠇ |        1909 | spectra_subsetting                                            
⠙ |        1912 | spectra_subsetting                                            
⠼ |        1915 | spectra_subsetting                                            
⠧ |        1918 | spectra_subsetting                                            
⠏ |        1920 | spectra_subsetting                                            
⠙ |        1922 | spectra_subsetting                                            
⠸ |        1924 | spectra_subsetting                                            
⠴ |        1926 | spectra_subsetting                                            
⠧ |        1928 | spectra_subsetting                                            
⠋ |        1931 | spectra_subsetting                                            
⠸ |        1934 | spectra_subsetting                                            
⠴ |        1936 | spectra_subsetting                                            
⠧ |        1938 | spectra_subsetting                                            
⠋ |        1941 | spectra_subsetting                                            
⠸ |        1944 | spectra_subsetting                                            
⠦ |        1947 | spectra_subsetting                                            
⠏ |        1950 | spectra_subsetting                                            
⠹ |        1953 | spectra_subsetting                                            
⠼ |        1955 | spectra_subsetting                                            
⠦ |        1957 | spectra_subsetting                                            
⠇ |        1959 | spectra_subsetting                                            
⠋ |        1961 | spectra_subsetting                                            
⠸ |        1964 | spectra_subsetting                                            
⠦ |        1967 | spectra_subsetting                                            
⠇ |        1969 | spectra_subsetting                                            
⠙ |        1972 | spectra_subsetting                                            
⠼ |        1975 | spectra_subsetting                                            
⠦ |        1977 | spectra_subsetting                                            
⠇ |        1979 | spectra_subsetting                                            
⠙ |        1982 | spectra_subsetting                                            
⠼ |        1985 | spectra_subsetting                                            
⠧ |        1988 | spectra_subsetting                                            
⠋ |        1991 | spectra_subsetting                                            
⠹ |        1993 | spectra_subsetting                                            
⠼ |        1995 | spectra_subsetting                                            
⠦ |        1997 | spectra_subsetting                                            
⠇ |        1999 | spectra_subsetting                                            
⠋ |        2001 | spectra_subsetting                                            
⠸ |        2004 | spectra_subsetting                                            
⠦ |        2007 | spectra_subsetting                                            
⠏ |        2010 | spectra_subsetting                                            
⠙ |        2012 | spectra_subsetting                                            
⠸ |        2014 | spectra_subsetting                                            
⠴ |        2016 | spectra_subsetting                                            
⠧ |        2018 | spectra_subsetting                                            
⠏ |        2020 | spectra_subsetting                                            
⠙ |        2022 | spectra_subsetting                                            
⠸ |        2024 | spectra_subsetting                                            
⠴ |        2026 | spectra_subsetting                                            
⠧ |        2028 | spectra_subsetting                                            
⠋ |        2031 | spectra_subsetting                                            
⠸ |        2034 | spectra_subsetting                                            
⠦ |        2037 | spectra_subsetting                                            
⠇ |        2039 | spectra_subsetting                                            
⠙ |        2042 | spectra_subsetting                                            
⠼ |        2045 | spectra_subsetting                                            
⠧ |        2048 | spectra_subsetting                                            
⠋ |        2051 | spectra_subsetting                                            
⠹ |        2053 | spectra_subsetting                                            
⠼ |        2055 | spectra_subsetting                                            
⠦ |        2057 | spectra_subsetting                                            
⠇ |        2059 | spectra_subsetting                                            
⠙ |        2062 | spectra_subsetting                                            
⠸ |        2064 | spectra_subsetting                                            
⠦ |        2067 | spectra_subsetting                                            
⠏ |        2070 | spectra_subsetting                                            
⠹ |        2073 | spectra_subsetting                                            
⠴ |        2076 | spectra_subsetting                                            
⠧ |        2078 | spectra_subsetting                                            
⠋ |        2081 | spectra_subsetting                                            
⠸ |        2084 | spectra_subsetting                                            
⠦ |        2087 | spectra_subsetting                                            
⠇ |        2089 | spectra_subsetting                                            
⠋ |        2091 | spectra_subsetting                                            
⠹ |        2093 | spectra_subsetting                                            
⠴ |        2096 | spectra_subsetting                                            
⠇ |        2099 | spectra_subsetting                                            
⠋ |        2101 | spectra_subsetting                                            
⠸ |        2104 | spectra_subsetting                                            
⠴ |        2106 | spectra_subsetting                                            
⠇ |        2109 | spectra_subsetting                                            
⠙ |        2112 | spectra_subsetting                                            
⠼ |        2115 | spectra_subsetting                                            
⠦ |        2117 | spectra_subsetting                                            
⠇ |        2119 | spectra_subsetting                                            
⠙ |        2122 | spectra_subsetting                                            
⠸ |        2124 | spectra_subsetting                                            
⠦ |        2127 | spectra_subsetting                                            
⠇ |        2129 | spectra_subsetting                                            
⠙ |        2132 | spectra_subsetting                                            
⠸ |        2134 | spectra_subsetting                                            
⠴ |        2136 | spectra_subsetting                                            
⠧ |        2138 | spectra_subsetting                                            
⠏ |        2140 | spectra_subsetting                                            
⠙ |        2142 | spectra_subsetting                                            
⠸ |        2144 | spectra_subsetting                                            
⠴ |        2146 | spectra_subsetting                                            
⠇ |        2149 | spectra_subsetting                                            
⠙ |        2152 | spectra_subsetting                                            
⠸ |        2154 | spectra_subsetting                                            
⠦ |        2157 | spectra_subsetting                                            
⠇ |        2159 | spectra_subsetting                                            
⠙ |        2162 | spectra_subsetting                                            
⠸ |        2164 | spectra_subsetting                                            
⠴ |        2166 | spectra_subsetting                                            
⠧ |        2168 | spectra_subsetting                                            
⠋ |        2171 | spectra_subsetting                                            
⠹ |        2173 | spectra_subsetting                                            
⠼ |        2175 | spectra_subsetting                                            
⠦ |        2177 | spectra_subsetting                                            
⠇ |        2179 | spectra_subsetting                                            
⠋ |        2181 | spectra_subsetting                                            
⠹ |        2183 | spectra_subsetting                                            
⠼ |        2185 | spectra_subsetting                                            
⠦ |        2187 | spectra_subsetting                                            
⠇ |        2189 | spectra_subsetting                                            
⠙ |        2192 | spectra_subsetting                                            
⠼ |        2195 | spectra_subsetting                                            
⠦ |        2197 | spectra_subsetting                                            
⠏ |        2200 | spectra_subsetting                                            
⠹ |        2203 | spectra_subsetting                                            
⠴ |        2206 | spectra_subsetting                                            
⠇ |        2209 | spectra_subsetting                                            
⠙ |        2212 | spectra_subsetting                                            
⠼ |        2215 | spectra_subsetting                                            
⠧ |        2218 | spectra_subsetting                                            
⠋ |        2221 | spectra_subsetting                                            
⠸ |        2224 | spectra_subsetting                                            
⠴ |        2226 | spectra_subsetting                                            
⠧ |        2228 | spectra_subsetting                                            
⠏ |        2230 | spectra_subsetting                                            
⠙ |        2232 | spectra_subsetting                                            
⠼ |        2235 | spectra_subsetting                                            
⠦ |        2237 | spectra_subsetting                                            
⠏ |        2240 | spectra_subsetting                                            
⠹ |        2243 | spectra_subsetting                                            
⠴ |        2246 | spectra_subsetting                                            
⠇ |        2249 | spectra_subsetting                                            
⠙ |        2252 | spectra_subsetting                                            
⠼ |        2255 | spectra_subsetting                                            
⠧ |        2258 | spectra_subsetting                                            
⠋ |        2261 | spectra_subsetting                                            
⠸ |        2264 | spectra_subsetting                                            
⠦ |        2267 | spectra_subsetting                                            
⠇ |        2269 | spectra_subsetting                                            
⠋ |        2271 | spectra_subsetting                                            
⠹ |        2273 | spectra_subsetting                                            
⠴ |        2276 | spectra_subsetting                                            
⠧ |        2278 | spectra_subsetting                                            
⠋ |        2281 | spectra_subsetting                                            
⠹ |        2283 | spectra_subsetting                                            
⠼ |        2285 | spectra_subsetting                                            
⠧ |        2288 | spectra_subsetting                                            
⠋ |        2291 | spectra_subsetting                                            
⠸ |        2294 | spectra_subsetting                                            
⠦ |        2297 | spectra_subsetting                                            
⠏ |        2300 | spectra_subsetting                                            
⠸ |        2304 | spectra_subsetting                                            
⠙ |        2312 | spectra_subsetting                                            
⠇ |        2319 | spectra_subsetting                                            
⠦ |        2327 | spectra_subsetting                                            
⠹ |        2333 | spectra_subsetting                                            
⠸ |        2334 | spectra_subsetting                                            
✔ |        2342 | spectra_subsetting [47.2s]

⠏ |          0 | spectra_variables                                              
⠙ |         12 | spectra_variables                                              
⠸ |         14 | spectra_variables                                              
⠴ |         16 | spectra_variables                                              
⠦ |         27 | spectra_variables                                              
⠇ |         29 | spectra_variables                                              
⠋ |         31 | spectra_variables                                              
⠹ |         43 | spectra_variables                                              
⠼ |         55 | spectra_variables                                              
✔ |      1  62 | spectra_variables [19.7s]

══ Results ═════════════════════════════════════════════════════════════════════
Duration: 71.7 s

── Skipped tests (1) ───────────────────────────────────────────────────────────
• empty test (1): 'test_spectra_variables.R:262:1'

[ FAIL 0 | WARN 0 | SKIP 1 | PASS 2408 ]
> 
> proc.time()
   user  system elapsed 
 94.291  13.480 111.407 

Example timings

MsBackendRawFileReader.Rcheck/MsBackendRawFileReader-Ex.timings

nameusersystemelapsed
MsBackendRawFileReader-class3.5861.0955.135
MsBackendRawFileReader 8.078 3.01111.490
hidden_aliases2.6260.9943.745
ioBenchmark28.59811.68813.326