Back to Multiple platform build/check report for BioC 3.22:   simplified   long
ABCDEFGHIJKL[M]NOPQRSTUVWXYZ

This page was generated on 2025-11-01 12:03 -0400 (Sat, 01 Nov 2025).

HostnameOSArch (*)R versionInstalled pkgs
nebbiolo2Linux (Ubuntu 24.04.3 LTS)x86_644.5.1 Patched (2025-08-23 r88802) -- "Great Square Root" 4901
lconwaymacOS 12.7.6 Montereyx86_644.5.1 Patched (2025-09-10 r88807) -- "Great Square Root" 4691
kjohnson3macOS 13.7.7 Venturaarm644.5.1 Patched (2025-09-10 r88807) -- "Great Square Root" 4637
Click on any hostname to see more info about the system (e.g. compilers)      (*) as reported by 'uname -p', except on Windows and Mac OS X

Package 1378/2361HostnameOS / ArchINSTALLBUILDCHECKBUILD BIN
MsBackendRawFileReader 1.16.0  (landing page)
Christian Panse
Snapshot Date: 2025-10-31 13:45 -0400 (Fri, 31 Oct 2025)
git_url: https://git.bioconductor.org/packages/MsBackendRawFileReader
git_branch: RELEASE_3_22
git_last_commit: 53064fe
git_last_commit_date: 2025-10-29 11:12:57 -0400 (Wed, 29 Oct 2025)
nebbiolo2Linux (Ubuntu 24.04.3 LTS) / x86_64  OK    OK    OK  UNNEEDED, same version is already published
lconwaymacOS 12.7.6 Monterey / x86_64  OK    OK    OK    OK  UNNEEDED, same version is already published
kjohnson3macOS 13.7.7 Ventura / arm64  OK    OK    OK    OK  UNNEEDED, same version is already published


CHECK results for MsBackendRawFileReader on nebbiolo2

To the developers/maintainers of the MsBackendRawFileReader package:
- Allow up to 24 hours (and sometimes 48 hours) for your latest push to git@git.bioconductor.org:packages/MsBackendRawFileReader.git to reflect on this report. See Troubleshooting Build Report for more information.
- Use the following Renviron settings to reproduce errors and warnings.
- If 'R CMD check' started to fail recently on the Linux builder(s) over a missing dependency, add the missing dependency to 'Suggests:' in your DESCRIPTION file. See Renviron.bioc for more information.

raw results


Summary

Package: MsBackendRawFileReader
Version: 1.16.0
Command: /home/biocbuild/bbs-3.22-bioc/R/bin/R CMD check --install=check:MsBackendRawFileReader.install-out.txt --library=/home/biocbuild/bbs-3.22-bioc/R/site-library --timings MsBackendRawFileReader_1.16.0.tar.gz
StartedAt: 2025-11-01 01:57:01 -0400 (Sat, 01 Nov 2025)
EndedAt: 2025-11-01 02:01:45 -0400 (Sat, 01 Nov 2025)
EllapsedTime: 284.3 seconds
RetCode: 0
Status:   OK  
CheckDir: MsBackendRawFileReader.Rcheck
Warnings: 0

Command output

##############################################################################
##############################################################################
###
### Running command:
###
###   /home/biocbuild/bbs-3.22-bioc/R/bin/R CMD check --install=check:MsBackendRawFileReader.install-out.txt --library=/home/biocbuild/bbs-3.22-bioc/R/site-library --timings MsBackendRawFileReader_1.16.0.tar.gz
###
##############################################################################
##############################################################################


* using log directory ‘/home/biocbuild/bbs-3.22-bioc/meat/MsBackendRawFileReader.Rcheck’
* using R version 4.5.1 Patched (2025-08-23 r88802)
* using platform: x86_64-pc-linux-gnu
* R was compiled by
    gcc (Ubuntu 13.3.0-6ubuntu2~24.04) 13.3.0
    GNU Fortran (Ubuntu 13.3.0-6ubuntu2~24.04) 13.3.0
* running under: Ubuntu 24.04.3 LTS
* using session charset: UTF-8
* checking for file ‘MsBackendRawFileReader/DESCRIPTION’ ... OK
* checking extension type ... Package
* this is package ‘MsBackendRawFileReader’ version ‘1.16.0’
* package encoding: UTF-8
* checking package namespace information ... OK
* checking package dependencies ... OK
* checking if this is a source package ... OK
* checking if there is a namespace ... OK
* checking for hidden files and directories ... OK
* checking for portable file names ... OK
* checking for sufficient/correct file permissions ... OK
* checking whether package ‘MsBackendRawFileReader’ can be installed ... OK
* checking installed package size ... OK
* checking package directory ... OK
* checking ‘build’ directory ... OK
* checking DESCRIPTION meta-information ... OK
* checking top-level files ... OK
* checking for left-over files ... OK
* checking index information ... OK
* checking package subdirectories ... OK
* checking code files for non-ASCII characters ... OK
* checking R files for syntax errors ... OK
* checking whether the package can be loaded ... OK
* checking whether the package can be loaded with stated dependencies ... OK
* checking whether the package can be unloaded cleanly ... OK
* checking whether the namespace can be loaded with stated dependencies ... OK
* checking whether the namespace can be unloaded cleanly ... OK
* checking loading without being on the library search path ... OK
* checking whether startup messages can be suppressed ... OK
* checking dependencies in R code ... OK
* checking S3 generic/method consistency ... OK
* checking replacement functions ... OK
* checking foreign function calls ... OK
* checking R code for possible problems ... OK
* checking Rd files ... OK
* checking Rd metadata ... OK
* checking Rd cross-references ... OK
* checking for missing documentation entries ... OK
* checking for code/documentation mismatches ... OK
* checking Rd \usage sections ... OK
* checking Rd contents ... OK
* checking for unstated dependencies in examples ... OK
* checking files in ‘vignettes’ ... OK
* checking examples ... OK
Examples with CPU (user + system) or elapsed time > 5s
                         user system elapsed
ioBenchmark            30.166  6.113  12.424
MsBackendRawFileReader  6.369  2.177   9.074
* checking for unstated dependencies in ‘tests’ ... OK
* checking tests ...
  Running ‘testthat.R’
 OK
* checking for unstated dependencies in vignettes ... OK
* checking package vignettes ... OK
* checking re-building of vignette outputs ... OK
* checking PDF version of manual ... OK
* DONE

Status: OK


Installation output

MsBackendRawFileReader.Rcheck/00install.out

##############################################################################
##############################################################################
###
### Running command:
###
###   /home/biocbuild/bbs-3.22-bioc/R/bin/R CMD INSTALL MsBackendRawFileReader
###
##############################################################################
##############################################################################


* installing to library ‘/home/biocbuild/bbs-3.22-bioc/R/site-library’
* installing *source* package ‘MsBackendRawFileReader’ ...
** this is package ‘MsBackendRawFileReader’ version ‘1.16.0’
** using staged installation
** R
** inst
** byte-compile and prepare package for lazy loading
** help
*** installing help indices
** building package indices
** installing vignettes
** testing if installed package can be loaded from temporary location
** testing if installed package can be loaded from final location
** testing if installed package keeps a record of temporary installation path
* DONE (MsBackendRawFileReader)

Tests output

MsBackendRawFileReader.Rcheck/tests/testthat.Rout


R version 4.5.1 Patched (2025-08-23 r88802) -- "Great Square Root"
Copyright (C) 2025 The R Foundation for Statistical Computing
Platform: x86_64-pc-linux-gnu

R is free software and comes with ABSOLUTELY NO WARRANTY.
You are welcome to redistribute it under certain conditions.
Type 'license()' or 'licence()' for distribution details.

R is a collaborative project with many contributors.
Type 'contributors()' for more information and
'citation()' on how to cite R or R packages in publications.

Type 'demo()' for some demos, 'help()' for on-line help, or
'help.start()' for an HTML browser interface to help.
Type 'q()' to quit R.

> library("testthat")
> library("MsBackendRawFileReader")
Loading required package: Spectra
Loading required package: S4Vectors
Loading required package: stats4
Loading required package: BiocGenerics
Loading required package: generics

Attaching package: 'generics'

The following objects are masked from 'package:base':

    as.difftime, as.factor, as.ordered, intersect, is.element, setdiff,
    setequal, union


Attaching package: 'BiocGenerics'

The following objects are masked from 'package:stats':

    IQR, mad, sd, var, xtabs

The following objects are masked from 'package:base':

    Filter, Find, Map, Position, Reduce, anyDuplicated, aperm, append,
    as.data.frame, basename, cbind, colnames, dirname, do.call,
    duplicated, eval, evalq, get, grep, grepl, is.unsorted, lapply,
    mapply, match, mget, order, paste, pmax, pmax.int, pmin, pmin.int,
    rank, rbind, rownames, sapply, saveRDS, table, tapply, unique,
    unsplit, which.max, which.min


Attaching package: 'S4Vectors'

The following object is masked from 'package:utils':

    findMatches

The following objects are masked from 'package:base':

    I, expand.grid, unname

Loading required package: BiocParallel
> library("Spectra")
> 
> 
> sample_raw_file <- file.path(system.file(package = "rawrr"),
+                                 'extdata', 'sample.raw')
> 
> sample_mzXML_file <- file.path(path.package(package = 'MsBackendRawFileReader'),
+                                 'extdata', 'sample.mzXML')
> 
> 
> sample_raw <-  backendInitialize(MsBackendRawFileReader::MsBackendRawFileReader(), files = sample_raw_file)
> 
> 
> #sample_mzr <-  backendInitialize(MsBackendMzR(), files = sample_mzXML_file)
> 
> 
> mgf_file <- file.path(system.file(package = "MsBackendRawFileReader"),
+                              'extdata', '3159619b11ed_4590_9594.mgf')
> 
> 
> rv <- lapply(1:2, function(x){
+   file.copy(from = sample_raw_file, to = tempfile(fileext='.raw'))})
> 
> 
> register(SnowParam(workers = 1, type = "SOCK") , default = TRUE); 
> sample_raw_2 <- backendInitialize(MsBackendRawFileReader(),
+     files = file.path(tempdir(),
+          list.files(path = tempdir(), pattern = 'raw$')))
> 
> 
> test_check("MsBackendRawFileReader")
[ FAIL 0 | WARN 1 | SKIP 2 | PASS 21 ]

══ Skipped tests (2) ═══════════════════════════════════════════════════════════
• isFALSE(file.exists(sample_mzXML_file)) is TRUE (1):
  'test_MsBackendMzR_MsBackendRawFileReader.R:1:1'
• isFALSE(require(MsBackendRawMgf)) is TRUE (1): 'test_top_n_mgf.R:1:1'

[ FAIL 0 | WARN 1 | SKIP 2 | PASS 21 ]
> 
> 
> be <- Spectra::backendInitialize(MsBackendRawFileReader::MsBackendRawFileReader(),
+                                  files = c(sample_raw_file))
> 
> ## Run the MsBackend spectra variable test suite
> 
> test_suite <- system.file("test_backends", "test_MsBackend",
+                           package = "Spectra")
> 
> #res <- test_file(paste0(test_suite, "/test_spectra_variables.R"),
> #                 reporter = check_reporter(), stop_on_failure = TRUE)
> 
> 
> ## Run the whole suite.
> res <- test_dir(test_suite, stop_on_failure = TRUE)
✔ | F W  S  OK | Context

⠏ |          0 | peaks_variables                                                
⠙ |          2 | peaks_variables                                                
⠸ |          4 | peaks_variables                                                
✔ |          4 | peaks_variables [3.9s]

⠏ |          0 | spectra_subsetting                                             
⠋ |          1 | spectra_subsetting                                             
⠴ |         16 | spectra_subsetting                                             
⠧ |         28 | spectra_subsetting                                             
⠋ |         41 | spectra_subsetting                                             
⠼ |         55 | spectra_subsetting                                             
⠸ |         64 | spectra_subsetting                                             
⠇ |         79 | spectra_subsetting                                             
⠸ |         94 | spectra_subsetting                                             
⠦ |        107 | spectra_subsetting                                             
⠙ |        122 | spectra_subsetting                                             
⠴ |        136 | spectra_subsetting                                             
⠋ |        151 | spectra_subsetting                                             
⠴ |        166 | spectra_subsetting                                             
⠋ |        181 | spectra_subsetting                                             
⠧ |        198 | spectra_subsetting                                             
⠋ |        211 | spectra_subsetting                                             
⠴ |        226 | spectra_subsetting                                             
⠋ |        241 | spectra_subsetting                                             
⠴ |        256 | spectra_subsetting                                             
⠋ |        271 | spectra_subsetting                                             
⠴ |        286 | spectra_subsetting                                             
⠋ |        301 | spectra_subsetting                                             
⠴ |        316 | spectra_subsetting                                             
⠇ |        329 | spectra_subsetting                                             
⠹ |        343 | spectra_subsetting                                             
⠧ |        358 | spectra_subsetting                                             
⠹ |        373 | spectra_subsetting                                             
⠧ |        388 | spectra_subsetting                                             
⠋ |        401 | spectra_subsetting                                             
⠴ |        416 | spectra_subsetting                                             
⠏ |        430 | spectra_subsetting                                             
⠼ |        445 | spectra_subsetting                                             
⠏ |        460 | spectra_subsetting                                             
⠼ |        475 | spectra_subsetting                                             
⠋ |        491 | spectra_subsetting                                             
⠼ |        505 | spectra_subsetting                                             
⠏ |        520 | spectra_subsetting                                             
⠼ |        535 | spectra_subsetting                                             
⠦ |        547 | spectra_subsetting                                             
⠹ |        563 | spectra_subsetting                                             
⠦ |        577 | spectra_subsetting                                             
⠙ |        592 | spectra_subsetting                                             
⠦ |        607 | spectra_subsetting                                             
⠙ |        622 | spectra_subsetting                                             
⠦ |        637 | spectra_subsetting                                             
⠙ |        652 | spectra_subsetting                                             
⠦ |        667 | spectra_subsetting                                             
⠙ |        682 | spectra_subsetting                                             
⠦ |        697 | spectra_subsetting                                             
⠙ |        712 | spectra_subsetting                                             
⠦ |        727 | spectra_subsetting                                             
⠙ |        742 | spectra_subsetting                                             
⠦ |        757 | spectra_subsetting                                             
⠙ |        772 | spectra_subsetting                                             
⠦ |        787 | spectra_subsetting                                             
⠙ |        802 | spectra_subsetting                                             
⠧ |        818 | spectra_subsetting                                             
⠙ |        832 | spectra_subsetting                                             
⠦ |        847 | spectra_subsetting                                             
⠹ |        863 | spectra_subsetting                                             
⠦ |        877 | spectra_subsetting                                             
⠹ |        893 | spectra_subsetting                                             
⠦ |        907 | spectra_subsetting                                             
⠙ |        922 | spectra_subsetting                                             
⠧ |        938 | spectra_subsetting                                             
⠙ |        952 | spectra_subsetting                                             
⠧ |        968 | spectra_subsetting                                             
⠙ |        982 | spectra_subsetting                                             
⠸ |        994 | spectra_subsetting                                             
⠧ |        1008 | spectra_subsetting                                            
⠏ |        1020 | spectra_subsetting                                            
⠸ |        1034 | spectra_subsetting                                            
⠧ |        1048 | spectra_subsetting                                            
⠹ |        1063 | spectra_subsetting                                            
⠧ |        1078 | spectra_subsetting                                            
⠏ |        1090 | spectra_subsetting                                            
⠼ |        1105 | spectra_subsetting                                            
⠏ |        1120 | spectra_subsetting                                            
⠙ |        1132 | spectra_subsetting                                            
⠦ |        1147 | spectra_subsetting                                            
⠙ |        1162 | spectra_subsetting                                            
⠦ |        1177 | spectra_subsetting                                            
⠙ |        1192 | spectra_subsetting                                            
⠴ |        1206 | spectra_subsetting                                            
⠏ |        1220 | spectra_subsetting                                            
⠸ |        1234 | spectra_subsetting                                            
⠇ |        1249 | spectra_subsetting                                            
⠸ |        1264 | spectra_subsetting                                            
⠦ |        1277 | spectra_subsetting                                            
⠙ |        1292 | spectra_subsetting                                            
⠴ |        1306 | spectra_subsetting                                            
⠋ |        1321 | spectra_subsetting                                            
⠴ |        1336 | spectra_subsetting                                            
⠧ |        1348 | spectra_subsetting                                            
⠹ |        1363 | spectra_subsetting                                            
⠧ |        1378 | spectra_subsetting                                            
⠏ |        1390 | spectra_subsetting                                            
⠼ |        1405 | spectra_subsetting                                            
⠧ |        1418 | spectra_subsetting                                            
⠙ |        1432 | spectra_subsetting                                            
⠦ |        1447 | spectra_subsetting                                            
⠏ |        1460 | spectra_subsetting                                            
⠼ |        1475 | spectra_subsetting                                            
⠇ |        1489 | spectra_subsetting                                            
⠸ |        1504 | spectra_subsetting                                            
⠇ |        1519 | spectra_subsetting                                            
⠋ |        1531 | spectra_subsetting                                            
⠴ |        1546 | spectra_subsetting                                            
⠋ |        1561 | spectra_subsetting                                            
⠴ |        1576 | spectra_subsetting                                            
⠧ |        1588 | spectra_subsetting                                            
⠏ |        1600 | spectra_subsetting                                            
⠼ |        1615 | spectra_subsetting                                            
⠏ |        1630 | spectra_subsetting                                            
⠸ |        1644 | spectra_subsetting                                            
⠦ |        1657 | spectra_subsetting                                            
⠙ |        1672 | spectra_subsetting                                            
⠦ |        1687 | spectra_subsetting                                            
⠙ |        1702 | spectra_subsetting                                            
⠦ |        1717 | spectra_subsetting                                            
⠦ |        1727 | spectra_subsetting                                            
⠇ |        1729 | spectra_subsetting                                            
⠙ |        1732 | spectra_subsetting                                            
⠸ |        1734 | spectra_subsetting                                            
⠦ |        1737 | spectra_subsetting                                            
⠇ |        1739 | spectra_subsetting                                            
⠙ |        1742 | spectra_subsetting                                            
⠼ |        1745 | spectra_subsetting                                            
⠦ |        1747 | spectra_subsetting                                            
⠇ |        1749 | spectra_subsetting                                            
⠋ |        1751 | spectra_subsetting                                            
⠹ |        1753 | spectra_subsetting                                            
⠼ |        1755 | spectra_subsetting                                            
⠧ |        1758 | spectra_subsetting                                            
⠏ |        1760 | spectra_subsetting                                            
⠹ |        1763 | spectra_subsetting                                            
⠼ |        1765 | spectra_subsetting                                            
⠦ |        1767 | spectra_subsetting                                            
⠇ |        1769 | spectra_subsetting                                            
⠙ |        1772 | spectra_subsetting                                            
⠸ |        1774 | spectra_subsetting                                            
⠦ |        1777 | spectra_subsetting                                            
⠏ |        1780 | spectra_subsetting                                            
⠙ |        1782 | spectra_subsetting                                            
⠼ |        1785 | spectra_subsetting                                            
⠦ |        1787 | spectra_subsetting                                            
⠏ |        1790 | spectra_subsetting                                            
⠙ |        1792 | spectra_subsetting                                            
⠼ |        1795 | spectra_subsetting                                            
⠧ |        1798 | spectra_subsetting                                            
⠏ |        1800 | spectra_subsetting                                            
⠙ |        1802 | spectra_subsetting                                            
⠸ |        1804 | spectra_subsetting                                            
⠦ |        1807 | spectra_subsetting                                            
⠇ |        1809 | spectra_subsetting                                            
⠙ |        1812 | spectra_subsetting                                            
⠼ |        1815 | spectra_subsetting                                            
⠦ |        1817 | spectra_subsetting                                            
⠇ |        1819 | spectra_subsetting                                            
⠋ |        1821 | spectra_subsetting                                            
⠸ |        1824 | spectra_subsetting                                            
⠴ |        1826 | spectra_subsetting                                            
⠇ |        1829 | spectra_subsetting                                            
⠋ |        1831 | spectra_subsetting                                            
⠸ |        1834 | spectra_subsetting                                            
⠴ |        1836 | spectra_subsetting                                            
⠇ |        1839 | spectra_subsetting                                            
⠙ |        1842 | spectra_subsetting                                            
⠸ |        1844 | spectra_subsetting                                            
⠦ |        1847 | spectra_subsetting                                            
⠇ |        1849 | spectra_subsetting                                            
⠙ |        1852 | spectra_subsetting                                            
⠸ |        1854 | spectra_subsetting                                            
⠴ |        1856 | spectra_subsetting                                            
⠧ |        1858 | spectra_subsetting                                            
⠋ |        1861 | spectra_subsetting                                            
⠸ |        1864 | spectra_subsetting                                            
⠴ |        1866 | spectra_subsetting                                            
⠇ |        1869 | spectra_subsetting                                            
⠋ |        1871 | spectra_subsetting                                            
⠸ |        1874 | spectra_subsetting                                            
⠦ |        1877 | spectra_subsetting                                            
⠇ |        1879 | spectra_subsetting                                            
⠙ |        1882 | spectra_subsetting                                            
⠸ |        1884 | spectra_subsetting                                            
⠦ |        1887 | spectra_subsetting                                            
⠏ |        1890 | spectra_subsetting                                            
⠙ |        1892 | spectra_subsetting                                            
⠼ |        1895 | spectra_subsetting                                            
⠴ |        1896 | spectra_subsetting                                            
⠇ |        1899 | spectra_subsetting                                            
⠙ |        1902 | spectra_subsetting                                            
⠼ |        1905 | spectra_subsetting                                            
⠧ |        1908 | spectra_subsetting                                            
⠋ |        1911 | spectra_subsetting                                            
⠸ |        1914 | spectra_subsetting                                            
⠦ |        1917 | spectra_subsetting                                            
⠇ |        1919 | spectra_subsetting                                            
⠙ |        1922 | spectra_subsetting                                            
⠼ |        1925 | spectra_subsetting                                            
⠧ |        1928 | spectra_subsetting                                            
⠋ |        1931 | spectra_subsetting                                            
⠸ |        1934 | spectra_subsetting                                            
⠦ |        1937 | spectra_subsetting                                            
⠏ |        1940 | spectra_subsetting                                            
⠹ |        1943 | spectra_subsetting                                            
⠴ |        1946 | spectra_subsetting                                            
⠇ |        1949 | spectra_subsetting                                            
⠙ |        1952 | spectra_subsetting                                            
⠼ |        1955 | spectra_subsetting                                            
⠧ |        1958 | spectra_subsetting                                            
⠋ |        1961 | spectra_subsetting                                            
⠸ |        1964 | spectra_subsetting                                            
⠦ |        1967 | spectra_subsetting                                            
⠇ |        1969 | spectra_subsetting                                            
⠙ |        1972 | spectra_subsetting                                            
⠼ |        1975 | spectra_subsetting                                            
⠧ |        1978 | spectra_subsetting                                            
⠋ |        1981 | spectra_subsetting                                            
⠸ |        1984 | spectra_subsetting                                            
⠦ |        1987 | spectra_subsetting                                            
⠏ |        1990 | spectra_subsetting                                            
⠹ |        1993 | spectra_subsetting                                            
⠴ |        1996 | spectra_subsetting                                            
⠇ |        1999 | spectra_subsetting                                            
⠙ |        2002 | spectra_subsetting                                            
⠼ |        2005 | spectra_subsetting                                            
⠧ |        2008 | spectra_subsetting                                            
⠋ |        2011 | spectra_subsetting                                            
⠸ |        2014 | spectra_subsetting                                            
⠦ |        2017 | spectra_subsetting                                            
⠏ |        2020 | spectra_subsetting                                            
⠹ |        2023 | spectra_subsetting                                            
⠴ |        2026 | spectra_subsetting                                            
⠇ |        2029 | spectra_subsetting                                            
⠙ |        2032 | spectra_subsetting                                            
⠼ |        2035 | spectra_subsetting                                            
⠧ |        2038 | spectra_subsetting                                            
⠋ |        2041 | spectra_subsetting                                            
⠸ |        2044 | spectra_subsetting                                            
⠦ |        2047 | spectra_subsetting                                            
⠏ |        2050 | spectra_subsetting                                            
⠹ |        2053 | spectra_subsetting                                            
⠴ |        2056 | spectra_subsetting                                            
⠇ |        2059 | spectra_subsetting                                            
⠙ |        2062 | spectra_subsetting                                            
⠼ |        2065 | spectra_subsetting                                            
⠧ |        2068 | spectra_subsetting                                            
⠋ |        2071 | spectra_subsetting                                            
⠹ |        2073 | spectra_subsetting                                            
⠴ |        2076 | spectra_subsetting                                            
⠇ |        2079 | spectra_subsetting                                            
⠙ |        2082 | spectra_subsetting                                            
⠼ |        2085 | spectra_subsetting                                            
⠦ |        2087 | spectra_subsetting                                            
⠏ |        2090 | spectra_subsetting                                            
⠹ |        2093 | spectra_subsetting                                            
⠴ |        2096 | spectra_subsetting                                            
⠇ |        2099 | spectra_subsetting                                            
⠙ |        2102 | spectra_subsetting                                            
⠼ |        2105 | spectra_subsetting                                            
⠧ |        2108 | spectra_subsetting                                            
⠏ |        2110 | spectra_subsetting                                            
⠹ |        2113 | spectra_subsetting                                            
⠴ |        2116 | spectra_subsetting                                            
⠇ |        2119 | spectra_subsetting                                            
⠙ |        2122 | spectra_subsetting                                            
⠼ |        2125 | spectra_subsetting                                            
⠧ |        2128 | spectra_subsetting                                            
⠋ |        2131 | spectra_subsetting                                            
⠸ |        2134 | spectra_subsetting                                            
⠦ |        2137 | spectra_subsetting                                            
⠏ |        2140 | spectra_subsetting                                            
⠹ |        2143 | spectra_subsetting                                            
⠴ |        2146 | spectra_subsetting                                            
⠇ |        2149 | spectra_subsetting                                            
⠙ |        2152 | spectra_subsetting                                            
⠼ |        2155 | spectra_subsetting                                            
⠧ |        2158 | spectra_subsetting                                            
⠋ |        2161 | spectra_subsetting                                            
⠸ |        2164 | spectra_subsetting                                            
⠦ |        2167 | spectra_subsetting                                            
⠏ |        2170 | spectra_subsetting                                            
⠹ |        2173 | spectra_subsetting                                            
⠴ |        2176 | spectra_subsetting                                            
⠇ |        2179 | spectra_subsetting                                            
⠙ |        2182 | spectra_subsetting                                            
⠼ |        2185 | spectra_subsetting                                            
⠧ |        2188 | spectra_subsetting                                            
⠋ |        2191 | spectra_subsetting                                            
⠸ |        2194 | spectra_subsetting                                            
⠦ |        2197 | spectra_subsetting                                            
⠏ |        2200 | spectra_subsetting                                            
⠹ |        2203 | spectra_subsetting                                            
⠴ |        2206 | spectra_subsetting                                            
⠇ |        2209 | spectra_subsetting                                            
⠙ |        2212 | spectra_subsetting                                            
⠼ |        2215 | spectra_subsetting                                            
⠧ |        2218 | spectra_subsetting                                            
⠋ |        2221 | spectra_subsetting                                            
⠸ |        2224 | spectra_subsetting                                            
⠦ |        2227 | spectra_subsetting                                            
⠏ |        2230 | spectra_subsetting                                            
⠙ |        2232 | spectra_subsetting                                            
⠼ |        2235 | spectra_subsetting                                            
⠧ |        2238 | spectra_subsetting                                            
⠋ |        2241 | spectra_subsetting                                            
⠸ |        2244 | spectra_subsetting                                            
⠦ |        2247 | spectra_subsetting                                            
⠏ |        2250 | spectra_subsetting                                            
⠹ |        2253 | spectra_subsetting                                            
⠴ |        2256 | spectra_subsetting                                            
⠇ |        2259 | spectra_subsetting                                            
⠙ |        2262 | spectra_subsetting                                            
⠼ |        2265 | spectra_subsetting                                            
⠧ |        2268 | spectra_subsetting                                            
⠋ |        2271 | spectra_subsetting                                            
⠹ |        2273 | spectra_subsetting                                            
⠴ |        2276 | spectra_subsetting                                            
⠇ |        2279 | spectra_subsetting                                            
⠋ |        2281 | spectra_subsetting                                            
⠹ |        2283 | spectra_subsetting                                            
⠼ |        2285 | spectra_subsetting                                            
⠦ |        2287 | spectra_subsetting                                            
⠏ |        2290 | spectra_subsetting                                            
⠹ |        2293 | spectra_subsetting                                            
⠴ |        2296 | spectra_subsetting                                            
⠇ |        2299 | spectra_subsetting                                            
⠹ |        2303 | spectra_subsetting                                            
⠋ |        2311 | spectra_subsetting                                            
⠧ |        2318 | spectra_subsetting                                            
⠦ |        2327 | spectra_subsetting                                            
⠸ |        2334 | spectra_subsetting                                            
✔ |        2342 | spectra_subsetting [41.7s]

⠏ |          0 | spectra_variables                                              
⠙ |         12 | spectra_variables                                              
⠸ |         14 | spectra_variables                                              
⠴ |         16 | spectra_variables                                              
⠦ |         27 | spectra_variables                                              
⠇ |         29 | spectra_variables                                              
⠋ |         31 | spectra_variables                                              
⠹ |         43 | spectra_variables                                              
⠇ |      1  58 | spectra_variables                                              
✔ |      1  62 | spectra_variables [14.3s]

══ Results ═════════════════════════════════════════════════════════════════════
Duration: 59.9 s

── Skipped tests (1) ───────────────────────────────────────────────────────────
• empty test (1): 'test_spectra_variables.R:262:1'

[ FAIL 0 | WARN 0 | SKIP 1 | PASS 2408 ]
> 
> proc.time()
   user  system elapsed 
 81.353   8.084  92.106 

Example timings

MsBackendRawFileReader.Rcheck/MsBackendRawFileReader-Ex.timings

nameusersystemelapsed
MsBackendRawFileReader-class3.0220.8334.174
MsBackendRawFileReader6.3692.1779.074
hidden_aliases2.1020.7102.951
ioBenchmark30.166 6.11312.424