| Back to Multiple platform build/check report for BioC 3.21: simplified long |
|
This page was generated on 2025-10-16 11:39 -0400 (Thu, 16 Oct 2025).
| Hostname | OS | Arch (*) | R version | Installed pkgs |
|---|---|---|---|---|
| nebbiolo1 | Linux (Ubuntu 24.04.3 LTS) | x86_64 | 4.5.1 (2025-06-13) -- "Great Square Root" | 4833 |
| merida1 | macOS 12.7.6 Monterey | x86_64 | 4.5.1 RC (2025-06-05 r88288) -- "Great Square Root" | 4614 |
| kjohnson1 | macOS 13.7.5 Ventura | arm64 | 4.5.1 Patched (2025-06-14 r88325) -- "Great Square Root" | 4555 |
| kunpeng2 | Linux (openEuler 24.03 LTS) | aarch64 | R Under development (unstable) (2025-02-19 r87757) -- "Unsuffered Consequences" | 4586 |
| Click on any hostname to see more info about the system (e.g. compilers) (*) as reported by 'uname -p', except on Windows and Mac OS X | ||||
| Package 1282/2341 | Hostname | OS / Arch | INSTALL | BUILD | CHECK | BUILD BIN | ||||||||
| MicrobiotaProcess 1.20.2 (landing page) Shuangbin Xu
| nebbiolo1 | Linux (Ubuntu 24.04.3 LTS) / x86_64 | OK | OK | OK | |||||||||
| merida1 | macOS 12.7.6 Monterey / x86_64 | OK | OK | OK | OK | |||||||||
| kjohnson1 | macOS 13.7.5 Ventura / arm64 | OK | OK | OK | OK | |||||||||
| kunpeng2 | Linux (openEuler 24.03 LTS) / aarch64 | OK | ERROR | skipped | ||||||||||
|
To the developers/maintainers of the MicrobiotaProcess package: - Allow up to 24 hours (and sometimes 48 hours) for your latest push to git@git.bioconductor.org:packages/MicrobiotaProcess.git to reflect on this report. See Troubleshooting Build Report for more information. - Use the following Renviron settings to reproduce errors and warnings. - If 'R CMD check' started to fail recently on the Linux builder(s) over a missing dependency, add the missing dependency to 'Suggests:' in your DESCRIPTION file. See Renviron.bioc for more information. |
| Package: MicrobiotaProcess |
| Version: 1.20.2 |
| Command: /Library/Frameworks/R.framework/Resources/bin/R CMD check --install=check:MicrobiotaProcess.install-out.txt --library=/Library/Frameworks/R.framework/Resources/library --no-vignettes --timings MicrobiotaProcess_1.20.2.tar.gz |
| StartedAt: 2025-10-14 06:31:28 -0400 (Tue, 14 Oct 2025) |
| EndedAt: 2025-10-14 06:43:29 -0400 (Tue, 14 Oct 2025) |
| EllapsedTime: 721.5 seconds |
| RetCode: 0 |
| Status: OK |
| CheckDir: MicrobiotaProcess.Rcheck |
| Warnings: 0 |
##############################################################################
##############################################################################
###
### Running command:
###
### /Library/Frameworks/R.framework/Resources/bin/R CMD check --install=check:MicrobiotaProcess.install-out.txt --library=/Library/Frameworks/R.framework/Resources/library --no-vignettes --timings MicrobiotaProcess_1.20.2.tar.gz
###
##############################################################################
##############################################################################
* using log directory ‘/Users/biocbuild/bbs-3.21-bioc/meat/MicrobiotaProcess.Rcheck’
* using R version 4.5.1 RC (2025-06-05 r88288)
* using platform: x86_64-apple-darwin20
* R was compiled by
Apple clang version 14.0.0 (clang-1400.0.29.202)
GNU Fortran (GCC) 14.2.0
* running under: macOS Monterey 12.7.6
* using session charset: UTF-8
* using option ‘--no-vignettes’
* checking for file ‘MicrobiotaProcess/DESCRIPTION’ ... OK
* checking extension type ... Package
* this is package ‘MicrobiotaProcess’ version ‘1.20.2’
* package encoding: UTF-8
* checking package namespace information ... OK
* checking package dependencies ... INFO
Imports includes 29 non-default packages.
Importing from so many packages makes the package vulnerable to any of
them becoming unavailable. Move as many as possible to Suggests and
use conditionally.
* checking if this is a source package ... OK
* checking if there is a namespace ... OK
* checking for hidden files and directories ... OK
* checking for portable file names ... OK
* checking for sufficient/correct file permissions ... OK
* checking whether package ‘MicrobiotaProcess’ can be installed ... OK
* checking installed package size ... INFO
installed size is 5.8Mb
sub-directories of 1Mb or more:
R 2.6Mb
figures 1.9Mb
* checking package directory ... OK
* checking ‘build’ directory ... OK
* checking DESCRIPTION meta-information ... OK
* checking top-level files ... OK
* checking for left-over files ... OK
* checking index information ... OK
* checking package subdirectories ... OK
* checking code files for non-ASCII characters ... OK
* checking R files for syntax errors ... OK
* checking whether the package can be loaded ... OK
* checking whether the package can be loaded with stated dependencies ... OK
* checking whether the package can be unloaded cleanly ... OK
* checking whether the namespace can be loaded with stated dependencies ... OK
* checking whether the namespace can be unloaded cleanly ... OK
* checking whether startup messages can be suppressed ... OK
* checking dependencies in R code ... OK
* checking S3 generic/method consistency ... OK
* checking replacement functions ... OK
* checking foreign function calls ... OK
* checking R code for possible problems ... OK
* checking Rd files ... OK
* checking Rd metadata ... OK
* checking Rd cross-references ... NOTE
Non-topic package-anchored link(s) in Rd file 'reexports.Rd':
‘[magrittr:compound]{%<>%}’ ‘[magrittr:pipe]{%>%}’
‘[magrittr:aliases]{extract}’
See section 'Cross-references' in the 'Writing R Extensions' manual.
Found the following Rd file(s) with Rd \link{} targets missing package
anchors:
ggrarecurve.Rd: ggplot2
Please provide package anchors for all Rd \link{} targets not in the
package itself and the base packages.
* checking for missing documentation entries ... OK
* checking for code/documentation mismatches ... OK
* checking Rd \usage sections ... OK
* checking Rd contents ... OK
* checking for unstated dependencies in examples ... OK
* checking contents of ‘data’ directory ... OK
* checking data for non-ASCII characters ... OK
* checking data for ASCII and uncompressed saves ... OK
* checking files in ‘vignettes’ ... OK
* checking examples ... OK
Examples with CPU (user + system) or elapsed time > 5s
user system elapsed
mp_cal_abundance-methods 23.291 0.131 23.994
mp_cal_rarecurve-methods 13.969 0.120 14.257
mp_plot_diff_boxplot-methods 13.893 0.084 14.317
mp_diff_analysis-methods 10.670 0.051 10.753
ImportQiime2 8.692 0.152 9.716
mp_import_metaphlan 8.541 0.050 8.963
mp_cal_dist-methods 6.931 0.027 7.075
mp_plot_diff_manhattan-methods 6.404 0.033 6.458
* checking for unstated dependencies in ‘tests’ ... OK
* checking tests ...
Running ‘testthat.R’
OK
* checking for unstated dependencies in vignettes ... OK
* checking package vignettes ... OK
* checking running R code from vignettes ... SKIPPED
* checking re-building of vignette outputs ... SKIPPED
* checking PDF version of manual ... OK
* DONE
Status: 1 NOTE
See
‘/Users/biocbuild/bbs-3.21-bioc/meat/MicrobiotaProcess.Rcheck/00check.log’
for details.
MicrobiotaProcess.Rcheck/00install.out
############################################################################## ############################################################################## ### ### Running command: ### ### /Library/Frameworks/R.framework/Resources/bin/R CMD INSTALL MicrobiotaProcess ### ############################################################################## ############################################################################## * installing to library ‘/Library/Frameworks/R.framework/Versions/4.5-x86_64/Resources/library’ * installing *source* package ‘MicrobiotaProcess’ ... ** this is package ‘MicrobiotaProcess’ version ‘1.20.2’ ** using staged installation ** R ** data ** inst ** byte-compile and prepare package for lazy loading in method for ‘taxonomy<-’ with signature ‘x="MPSE",value="taxonomyTable"’: no definition for class “taxonomyTable” Creating a generic function for ‘rownames<-’ from package ‘base’ in package ‘MicrobiotaProcess’ in method for ‘get_alltaxadf’ with signature ‘"phyloseq"’: no definition for class “phyloseq” in method for ‘get_taxadf’ with signature ‘"phyloseq"’: no definition for class “phyloseq” in method for ‘get_alphaindex’ with signature ‘"phyloseq"’: no definition for class “phyloseq” in method for ‘get_NRI_NTI’ with signature ‘"phyloseq"’: no definition for class “phyloseq” in method for ‘get_rarecurve’ with signature ‘"phyloseq"’: no definition for class “phyloseq” in method for ‘get_upset’ with signature ‘"phyloseq"’: no definition for class “phyloseq” in method for ‘get_vennlist’ with signature ‘"phyloseq"’: no definition for class “phyloseq” in method for ‘drop_taxa’ with signature ‘"phyloseq"’: no definition for class “phyloseq” ** help *** installing help indices ** building package indices ** installing vignettes ** testing if installed package can be loaded from temporary location ** testing if installed package can be loaded from final location ** testing if installed package keeps a record of temporary installation path * DONE (MicrobiotaProcess)
MicrobiotaProcess.Rcheck/tests/testthat.Rout
R version 4.5.1 RC (2025-06-05 r88288) -- "Great Square Root"
Copyright (C) 2025 The R Foundation for Statistical Computing
Platform: x86_64-apple-darwin20
R is free software and comes with ABSOLUTELY NO WARRANTY.
You are welcome to redistribute it under certain conditions.
Type 'license()' or 'licence()' for distribution details.
R is a collaborative project with many contributors.
Type 'contributors()' for more information and
'citation()' on how to cite R or R packages in publications.
Type 'demo()' for some demos, 'help()' for on-line help, or
'help.start()' for an HTML browser interface to help.
Type 'q()' to quit R.
> library("testthat")
> library("MicrobiotaProcess")
MicrobiotaProcess v1.20.2 For help:
https://github.com/YuLab-SMU/MicrobiotaProcess/issues
If you use MicrobiotaProcess in published research, please cite the
paper:
Shuangbin Xu, Li Zhan, Wenli Tang, Qianwen Wang, Zehan Dai, Lang Zhou,
Tingze Feng, Meijun Chen, Tianzhi Wu, Erqiang Hu, Guangchuang Yu.
MicrobiotaProcess: A comprehensive R package for deep mining
microbiome. The Innovation. 2023, 4(2):100388. doi:
10.1016/j.xinn.2023.100388
Export the citation to BibTex by citation('MicrobiotaProcess')
This message can be suppressed by:
suppressPackageStartupMessages(library(MicrobiotaProcess))
Attaching package: 'MicrobiotaProcess'
The following object is masked from 'package:stats':
filter
> test_check("MicrobiotaProcess")
[ FAIL 0 | WARN 9 | SKIP 0 | PASS 13 ]
[ FAIL 0 | WARN 9 | SKIP 0 | PASS 13 ]
>
> proc.time()
user system elapsed
27.384 1.335 29.190
MicrobiotaProcess.Rcheck/MicrobiotaProcess-Ex.timings
| name | user | system | elapsed | |
| ImportDada2 | 4.166 | 0.166 | 4.699 | |
| ImportQiime2 | 8.692 | 0.152 | 9.716 | |
| MPSE | 0.196 | 0.001 | 0.221 | |
| as.treedata | 0.000 | 0.001 | 0.001 | |
| build_tree | 0.000 | 0.000 | 0.001 | |
| convert_to_treedata | 0.000 | 0.000 | 0.001 | |
| data-hmp_aerobiosis_small | 0.016 | 0.005 | 0.024 | |
| data-kostic2012crc | 0.073 | 0.010 | 0.092 | |
| data-test_otu_data | 0.003 | 0.005 | 0.009 | |
| diff_analysis | 0.000 | 0.001 | 0.001 | |
| dr_extract | 0.001 | 0.001 | 0.001 | |
| drop_taxa | 0.000 | 0.001 | 0.001 | |
| generalizedFC | 0.009 | 0.001 | 0.011 | |
| get_alltaxadf | 0.001 | 0.001 | 0.001 | |
| get_alphaindex | 0.001 | 0.001 | 0.006 | |
| get_clust | 0.000 | 0.001 | 0.001 | |
| get_coord | 0.000 | 0.001 | 0.001 | |
| get_count | 0.001 | 0.001 | 0.001 | |
| get_dist | 0.001 | 0.000 | 0.001 | |
| get_mean_median | 0.000 | 0.001 | 0.001 | |
| get_pca | 0.000 | 0.001 | 0.001 | |
| get_pcoa | 0.000 | 0.000 | 0.001 | |
| get_pvalue | 0.115 | 0.004 | 0.130 | |
| get_rarecurve | 0.000 | 0.001 | 0.001 | |
| get_sampledflist | 0.000 | 0.000 | 0.001 | |
| get_taxadf | 0.001 | 0.000 | 0.000 | |
| get_upset | 0.000 | 0.001 | 0.001 | |
| get_varct | 0.000 | 0.000 | 0.001 | |
| get_vennlist | 0.001 | 0.001 | 0.001 | |
| ggbartax | 0.000 | 0.000 | 0.001 | |
| ggbox | 0.000 | 0.001 | 0.001 | |
| ggclust | 0.001 | 0.001 | 0.001 | |
| ggdiffbox | 0.000 | 0.000 | 0.001 | |
| ggdiffclade | 0.000 | 0.001 | 0.002 | |
| ggdifftaxbar | 0.001 | 0.000 | 0.001 | |
| ggeffectsize | 0.000 | 0.001 | 0.001 | |
| ggordpoint | 0.000 | 0.000 | 0.001 | |
| ggrarecurve | 0.000 | 0.000 | 0.001 | |
| mp_adonis-methods | 0.263 | 0.009 | 0.296 | |
| mp_aggregate-methods | 0.000 | 0.001 | 0.001 | |
| mp_aggregate_clade-methods | 0.000 | 0.001 | 0.001 | |
| mp_anosim-methods | 2.829 | 0.044 | 3.140 | |
| mp_balance_clade-methods | 0.000 | 0.001 | 0.002 | |
| mp_cal_abundance-methods | 23.291 | 0.131 | 23.994 | |
| mp_cal_alpha-methods | 2.917 | 0.023 | 3.088 | |
| mp_cal_cca-methods | 2.054 | 0.020 | 2.081 | |
| mp_cal_clust-methods | 1.285 | 0.012 | 1.300 | |
| mp_cal_dist-methods | 6.931 | 0.027 | 7.075 | |
| mp_cal_divergence-methods | 0.000 | 0.001 | 0.001 | |
| mp_cal_nmds-methods | 0.758 | 0.022 | 0.855 | |
| mp_cal_pca-methods | 4.790 | 0.025 | 4.910 | |
| mp_cal_pcoa-methods | 1.249 | 0.011 | 1.263 | |
| mp_cal_pd_metric-methods | 0.000 | 0.001 | 0.000 | |
| mp_cal_rarecurve-methods | 13.969 | 0.120 | 14.257 | |
| mp_cal_rda-methods | 1.798 | 0.015 | 1.822 | |
| mp_cal_upset-methods | 2.777 | 0.019 | 2.810 | |
| mp_cal_venn-methods | 1.142 | 0.021 | 1.213 | |
| mp_decostand-methods | 0.700 | 0.008 | 0.713 | |
| mp_diff_analysis-methods | 10.670 | 0.051 | 10.753 | |
| mp_diff_clade-methods | 0.000 | 0.000 | 0.001 | |
| mp_dmn-methods | 0.000 | 0.001 | 0.000 | |
| mp_dmngroup-methods | 0 | 0 | 0 | |
| mp_envfit-methods | 4.816 | 0.119 | 4.948 | |
| mp_filter_taxa-methods | 1.782 | 0.014 | 1.801 | |
| mp_import_metaphlan | 8.541 | 0.050 | 8.963 | |
| mp_mantel-methods | 0.605 | 0.008 | 0.615 | |
| mp_mrpp-methods | 0.404 | 0.011 | 0.418 | |
| mp_plot_abundance-methods | 0.001 | 0.002 | 0.002 | |
| mp_plot_alpha-methods | 0.000 | 0.001 | 0.002 | |
| mp_plot_diff_boxplot-methods | 13.893 | 0.084 | 14.317 | |
| mp_plot_diff_cladogram | 0.000 | 0.001 | 0.002 | |
| mp_plot_diff_manhattan-methods | 6.404 | 0.033 | 6.458 | |
| mp_plot_dist-methods | 0.000 | 0.001 | 0.002 | |
| mp_plot_ord-methods | 0.001 | 0.002 | 0.001 | |
| mp_plot_rarecurve-methods | 0.000 | 0.001 | 0.002 | |
| mp_plot_upset-methods | 0.000 | 0.001 | 0.002 | |
| mp_plot_venn-methods | 0.001 | 0.001 | 0.001 | |
| mp_rrarefy-methods | 0.704 | 0.008 | 0.712 | |
| mp_select_as_tip-methods | 0.000 | 0.001 | 0.001 | |
| mp_stat_taxa-methods | 1.814 | 0.015 | 1.832 | |
| multi_compare | 0.018 | 0.003 | 0.021 | |
| read_qza | 0 | 0 | 0 | |
| show-methods | 0.000 | 0.001 | 0.001 | |
| split_data | 0.004 | 0.002 | 0.006 | |
| split_str_to_list | 0.000 | 0.001 | 0.001 | |
| theme_taxbar | 0.000 | 0.001 | 0.001 | |