Back to Multiple platform build/check report for BioC 3.22:   simplified   long
ABCDEFGHIJKL[M]NOPQRSTUVWXYZ

This page was generated on 2025-11-20 12:06 -0500 (Thu, 20 Nov 2025).

HostnameOSArch (*)R versionInstalled pkgs
nebbiolo2Linux (Ubuntu 24.04.3 LTS)x86_644.5.2 (2025-10-31) -- "[Not] Part in a Rumble" 4615
merida1macOS 12.7.6 Montereyx86_644.5.2 Patched (2025-11-05 r88990) -- "[Not] Part in a Rumble" 4610
kjohnson1macOS 13.7.5 Venturaarm644.5.2 Patched (2025-11-04 r88984) -- "[Not] Part in a Rumble" 4598
taishanLinux (openEuler 24.03 LTS)aarch644.5.0 (2025-04-11) -- "How About a Twenty-Six" 4668
Click on any hostname to see more info about the system (e.g. compilers)      (*) as reported by 'uname -p', except on Windows and Mac OS X

Package 1299/2361HostnameOS / ArchINSTALLBUILDCHECKBUILD BIN
MicrobiotaProcess 1.22.0  (landing page)
Shuangbin Xu
Snapshot Date: 2025-11-17 13:45 -0500 (Mon, 17 Nov 2025)
git_url: https://git.bioconductor.org/packages/MicrobiotaProcess
git_branch: RELEASE_3_22
git_last_commit: 659114b
git_last_commit_date: 2025-10-29 10:58:25 -0500 (Wed, 29 Oct 2025)
nebbiolo2Linux (Ubuntu 24.04.3 LTS) / x86_64  OK    OK    OK  UNNEEDED, same version is already published
merida1macOS 12.7.6 Monterey / x86_64  OK    OK    OK    OK  UNNEEDED, same version is already published
kjohnson1macOS 13.7.5 Ventura / arm64  OK    OK    OK    OK  UNNEEDED, same version is already published
taishanLinux (openEuler 24.03 LTS) / aarch64  OK    OK    OK  


CHECK results for MicrobiotaProcess on kjohnson1

To the developers/maintainers of the MicrobiotaProcess package:
- Allow up to 24 hours (and sometimes 48 hours) for your latest push to git@git.bioconductor.org:packages/MicrobiotaProcess.git to reflect on this report. See Troubleshooting Build Report for more information.
- Use the following Renviron settings to reproduce errors and warnings.
- If 'R CMD check' started to fail recently on the Linux builder(s) over a missing dependency, add the missing dependency to 'Suggests:' in your DESCRIPTION file. See Renviron.bioc for more information.

raw results


Summary

Package: MicrobiotaProcess
Version: 1.22.0
Command: /Library/Frameworks/R.framework/Resources/bin/R CMD check --install=check:MicrobiotaProcess.install-out.txt --library=/Library/Frameworks/R.framework/Resources/library --no-vignettes --timings MicrobiotaProcess_1.22.0.tar.gz
StartedAt: 2025-11-18 09:05:23 -0500 (Tue, 18 Nov 2025)
EndedAt: 2025-11-18 09:08:08 -0500 (Tue, 18 Nov 2025)
EllapsedTime: 165.4 seconds
RetCode: 0
Status:   OK  
CheckDir: MicrobiotaProcess.Rcheck
Warnings: 0

Command output

##############################################################################
##############################################################################
###
### Running command:
###
###   /Library/Frameworks/R.framework/Resources/bin/R CMD check --install=check:MicrobiotaProcess.install-out.txt --library=/Library/Frameworks/R.framework/Resources/library --no-vignettes --timings MicrobiotaProcess_1.22.0.tar.gz
###
##############################################################################
##############################################################################


* using log directory ‘/Users/biocbuild/bbs-3.22-bioc/meat/MicrobiotaProcess.Rcheck’
* using R version 4.5.2 Patched (2025-11-04 r88984)
* using platform: aarch64-apple-darwin20
* R was compiled by
    Apple clang version 16.0.0 (clang-1600.0.26.6)
    GNU Fortran (GCC) 14.2.0
* running under: macOS Ventura 13.7.8
* using session charset: UTF-8
* using option ‘--no-vignettes’
* checking for file ‘MicrobiotaProcess/DESCRIPTION’ ... OK
* checking extension type ... Package
* this is package ‘MicrobiotaProcess’ version ‘1.22.0’
* package encoding: UTF-8
* checking package namespace information ... OK
* checking package dependencies ... INFO
Imports includes 29 non-default packages.
Importing from so many packages makes the package vulnerable to any of
them becoming unavailable.  Move as many as possible to Suggests and
use conditionally.
* checking if this is a source package ... OK
* checking if there is a namespace ... OK
* checking for hidden files and directories ... OK
* checking for portable file names ... OK
* checking for sufficient/correct file permissions ... OK
* checking whether package ‘MicrobiotaProcess’ can be installed ... OK
* checking installed package size ... INFO
  installed size is  5.8Mb
  sub-directories of 1Mb or more:
    R         2.6Mb
    figures   1.9Mb
* checking package directory ... OK
* checking ‘build’ directory ... OK
* checking DESCRIPTION meta-information ... OK
* checking top-level files ... OK
* checking for left-over files ... OK
* checking index information ... OK
* checking package subdirectories ... OK
* checking code files for non-ASCII characters ... OK
* checking R files for syntax errors ... OK
* checking whether the package can be loaded ... OK
* checking whether the package can be loaded with stated dependencies ... OK
* checking whether the package can be unloaded cleanly ... OK
* checking whether the namespace can be loaded with stated dependencies ... OK
* checking whether the namespace can be unloaded cleanly ... OK
* checking whether startup messages can be suppressed ... OK
* checking dependencies in R code ... OK
* checking S3 generic/method consistency ... OK
* checking replacement functions ... OK
* checking foreign function calls ... OK
* checking R code for possible problems ... OK
* checking Rd files ... OK
* checking Rd metadata ... OK
* checking Rd cross-references ... NOTE
Non-topic package-anchored link(s) in Rd file 'reexports.Rd':
  ‘[magrittr:compound]{%<>%}’ ‘[magrittr:pipe]{%>%}’
  ‘[magrittr:aliases]{extract}’

See section 'Cross-references' in the 'Writing R Extensions' manual.

Found the following Rd file(s) with Rd \link{} targets missing package
anchors:
  ggrarecurve.Rd: ggplot2
Please provide package anchors for all Rd \link{} targets not in the
package itself and the base packages.
* checking for missing documentation entries ... OK
* checking for code/documentation mismatches ... OK
* checking Rd \usage sections ... OK
* checking Rd contents ... OK
* checking for unstated dependencies in examples ... OK
* checking contents of ‘data’ directory ... OK
* checking data for non-ASCII characters ... OK
* checking data for ASCII and uncompressed saves ... OK
* checking files in ‘vignettes’ ... OK
* checking examples ... OK
Examples with CPU (user + system) or elapsed time > 5s
                          user system elapsed
mp_cal_abundance-methods 4.226  0.049   6.321
* checking for unstated dependencies in ‘tests’ ... OK
* checking tests ...
  Running ‘testthat.R’
 OK
* checking for unstated dependencies in vignettes ... OK
* checking package vignettes ... OK
* checking running R code from vignettes ... SKIPPED
* checking re-building of vignette outputs ... SKIPPED
* checking PDF version of manual ... OK
* DONE

Status: 1 NOTE
See
  ‘/Users/biocbuild/bbs-3.22-bioc/meat/MicrobiotaProcess.Rcheck/00check.log’
for details.


Installation output

MicrobiotaProcess.Rcheck/00install.out

##############################################################################
##############################################################################
###
### Running command:
###
###   /Library/Frameworks/R.framework/Resources/bin/R CMD INSTALL MicrobiotaProcess
###
##############################################################################
##############################################################################


* installing to library ‘/Library/Frameworks/R.framework/Versions/4.5-arm64/Resources/library’
* installing *source* package ‘MicrobiotaProcess’ ...
** this is package ‘MicrobiotaProcess’ version ‘1.22.0’
** using staged installation
** R
** data
** inst
** byte-compile and prepare package for lazy loading
in method for ‘taxonomy<-’ with signature ‘x="MPSE",value="taxonomyTable"’: no definition for class “taxonomyTable”
Creating a generic function for ‘rownames<-’ from package ‘base’ in package ‘MicrobiotaProcess’
in method for ‘get_alltaxadf’ with signature ‘"phyloseq"’: no definition for class “phyloseq”
in method for ‘get_taxadf’ with signature ‘"phyloseq"’: no definition for class “phyloseq”
in method for ‘get_alphaindex’ with signature ‘"phyloseq"’: no definition for class “phyloseq”
in method for ‘get_NRI_NTI’ with signature ‘"phyloseq"’: no definition for class “phyloseq”
in method for ‘get_rarecurve’ with signature ‘"phyloseq"’: no definition for class “phyloseq”
in method for ‘get_upset’ with signature ‘"phyloseq"’: no definition for class “phyloseq”
in method for ‘get_vennlist’ with signature ‘"phyloseq"’: no definition for class “phyloseq”
in method for ‘drop_taxa’ with signature ‘"phyloseq"’: no definition for class “phyloseq”
** help
*** installing help indices
** building package indices
** installing vignettes
** testing if installed package can be loaded from temporary location
** testing if installed package can be loaded from final location
** testing if installed package keeps a record of temporary installation path
* DONE (MicrobiotaProcess)

Tests output

MicrobiotaProcess.Rcheck/tests/testthat.Rout


R version 4.5.2 Patched (2025-11-04 r88984) -- "[Not] Part in a Rumble"
Copyright (C) 2025 The R Foundation for Statistical Computing
Platform: aarch64-apple-darwin20

R is free software and comes with ABSOLUTELY NO WARRANTY.
You are welcome to redistribute it under certain conditions.
Type 'license()' or 'licence()' for distribution details.

R is a collaborative project with many contributors.
Type 'contributors()' for more information and
'citation()' on how to cite R or R packages in publications.

Type 'demo()' for some demos, 'help()' for on-line help, or
'help.start()' for an HTML browser interface to help.
Type 'q()' to quit R.

> library("testthat")
> library("MicrobiotaProcess")
MicrobiotaProcess v1.22.0 For help:
https://github.com/YuLab-SMU/MicrobiotaProcess/issues

If you use MicrobiotaProcess in published research, please cite the
paper:

Shuangbin Xu, Li Zhan, Wenli Tang, Qianwen Wang, Zehan Dai, Lang Zhou,
Tingze Feng, Meijun Chen, Tianzhi Wu, Erqiang Hu, Guangchuang Yu.
MicrobiotaProcess: A comprehensive R package for deep mining
microbiome. The Innovation. 2023, 4(2):100388. doi:
10.1016/j.xinn.2023.100388

Export the citation to BibTex by citation('MicrobiotaProcess')

This message can be suppressed by:
suppressPackageStartupMessages(library(MicrobiotaProcess))

Attaching package: 'MicrobiotaProcess'

The following object is masked from 'package:stats':

    filter

> test_check("MicrobiotaProcess")
[ FAIL 0 | WARN 9 | SKIP 0 | PASS 13 ]

[ FAIL 0 | WARN 9 | SKIP 0 | PASS 13 ]
> 
> proc.time()
   user  system elapsed 
  5.716   0.217   8.403 

Example timings

MicrobiotaProcess.Rcheck/MicrobiotaProcess-Ex.timings

nameusersystemelapsed
ImportDada20.7560.0190.914
ImportQiime21.1450.0241.495
MPSE0.0400.0000.047
as.treedata000
build_tree0.0000.0000.001
convert_to_treedata000
data-hmp_aerobiosis_small0.0050.0010.006
data-kostic2012crc0.0250.0020.029
data-test_otu_data0.0010.0010.002
diff_analysis000
dr_extract000
drop_taxa000
generalizedFC0.0020.0010.002
get_alltaxadf000
get_alphaindex000
get_clust000
get_coord0.0000.0000.001
get_count000
get_dist000
get_mean_median000
get_pca000
get_pcoa000
get_pvalue0.0300.0010.048
get_rarecurve0.0000.0010.000
get_sampledflist000
get_taxadf000
get_upset000
get_varct000
get_vennlist000
ggbartax000
ggbox000
ggclust000
ggdiffbox000
ggdiffclade0.0000.0010.001
ggdifftaxbar000
ggeffectsize000
ggordpoint0.0000.0000.001
ggrarecurve000
mp_adonis-methods0.0380.0010.062
mp_aggregate-methods0.0000.0010.000
mp_aggregate_clade-methods000
mp_anosim-methods0.4080.0090.539
mp_balance_clade-methods0.0000.0000.001
mp_cal_abundance-methods4.2260.0496.321
mp_cal_alpha-methods0.4400.0040.561
mp_cal_cca-methods0.3640.0060.485
mp_cal_clust-methods0.2050.0030.281
mp_cal_dist-methods1.0620.0071.308
mp_cal_divergence-methods0.0000.0000.001
mp_cal_nmds-methods0.1380.0050.172
mp_cal_pca-methods0.8080.0071.025
mp_cal_pcoa-methods0.2200.0020.281
mp_cal_pd_metric-methods0.0000.0010.000
mp_cal_rarecurve-methods2.2070.0242.678
mp_cal_rda-methods0.2890.0030.344
mp_cal_upset-methods0.4910.0060.587
mp_cal_venn-methods0.2200.0050.314
mp_decostand-methods0.1230.0020.141
mp_diff_analysis-methods1.9430.0212.605
mp_diff_clade-methods000
mp_dmn-methods000
mp_dmngroup-methods000
mp_envfit-methods0.7570.0200.960
mp_filter_taxa-methods0.3190.0020.379
mp_import_metaphlan1.2290.0041.497
mp_mantel-methods0.1130.0030.137
mp_mrpp-methods0.0590.0020.061
mp_plot_abundance-methods000
mp_plot_alpha-methods0.0000.0000.001
mp_plot_diff_boxplot-methods2.3610.0182.867
mp_plot_diff_cladogram000
mp_plot_diff_manhattan-methods1.1360.0131.699
mp_plot_dist-methods000
mp_plot_ord-methods000
mp_plot_rarecurve-methods000
mp_plot_upset-methods000
mp_plot_venn-methods000
mp_rrarefy-methods0.1390.0020.168
mp_select_as_tip-methods000
mp_stat_taxa-methods0.3830.0140.584
multi_compare0.0030.0010.004
read_qza000
show-methods0.0000.0010.001
split_data0.0010.0010.002
split_str_to_list000
theme_taxbar000