Back to Multiple platform build/check report for BioC 3.21:   simplified   long
ABCDEFGHIJKL[M]NOPQRSTUVWXYZ

This page was generated on 2025-10-16 11:39 -0400 (Thu, 16 Oct 2025).

HostnameOSArch (*)R versionInstalled pkgs
nebbiolo1Linux (Ubuntu 24.04.3 LTS)x86_644.5.1 (2025-06-13) -- "Great Square Root" 4833
merida1macOS 12.7.6 Montereyx86_644.5.1 RC (2025-06-05 r88288) -- "Great Square Root" 4614
kjohnson1macOS 13.7.5 Venturaarm644.5.1 Patched (2025-06-14 r88325) -- "Great Square Root" 4555
kunpeng2Linux (openEuler 24.03 LTS)aarch64R Under development (unstable) (2025-02-19 r87757) -- "Unsuffered Consequences" 4586
Click on any hostname to see more info about the system (e.g. compilers)      (*) as reported by 'uname -p', except on Windows and Mac OS X

Package 1216/2341HostnameOS / ArchINSTALLBUILDCHECKBUILD BIN
Mergeomics 1.36.0  (landing page)
Zeyneb Kurt
Snapshot Date: 2025-10-13 13:40 -0400 (Mon, 13 Oct 2025)
git_url: https://git.bioconductor.org/packages/Mergeomics
git_branch: RELEASE_3_21
git_last_commit: 7ba9557
git_last_commit_date: 2025-04-15 10:58:15 -0400 (Tue, 15 Apr 2025)
nebbiolo1Linux (Ubuntu 24.04.3 LTS) / x86_64  OK    OK    OK  UNNEEDED, same version is already published
merida1macOS 12.7.6 Monterey / x86_64  OK    OK    OK    OK  UNNEEDED, same version is already published
kjohnson1macOS 13.7.5 Ventura / arm64  OK    OK    OK    OK  UNNEEDED, same version is already published
kunpeng2Linux (openEuler 24.03 LTS) / aarch64  OK    OK    OK  


CHECK results for Mergeomics on merida1

To the developers/maintainers of the Mergeomics package:
- Allow up to 24 hours (and sometimes 48 hours) for your latest push to git@git.bioconductor.org:packages/Mergeomics.git to reflect on this report. See Troubleshooting Build Report for more information.
- Use the following Renviron settings to reproduce errors and warnings.
- If 'R CMD check' started to fail recently on the Linux builder(s) over a missing dependency, add the missing dependency to 'Suggests:' in your DESCRIPTION file. See Renviron.bioc for more information.

raw results


Summary

Package: Mergeomics
Version: 1.36.0
Command: /Library/Frameworks/R.framework/Resources/bin/R CMD check --install=check:Mergeomics.install-out.txt --library=/Library/Frameworks/R.framework/Resources/library --no-vignettes --timings Mergeomics_1.36.0.tar.gz
StartedAt: 2025-10-14 06:10:08 -0400 (Tue, 14 Oct 2025)
EndedAt: 2025-10-14 06:30:32 -0400 (Tue, 14 Oct 2025)
EllapsedTime: 1223.5 seconds
RetCode: 0
Status:   OK  
CheckDir: Mergeomics.Rcheck
Warnings: 0

Command output

##############################################################################
##############################################################################
###
### Running command:
###
###   /Library/Frameworks/R.framework/Resources/bin/R CMD check --install=check:Mergeomics.install-out.txt --library=/Library/Frameworks/R.framework/Resources/library --no-vignettes --timings Mergeomics_1.36.0.tar.gz
###
##############################################################################
##############################################################################


* using log directory ‘/Users/biocbuild/bbs-3.21-bioc/meat/Mergeomics.Rcheck’
* using R version 4.5.1 RC (2025-06-05 r88288)
* using platform: x86_64-apple-darwin20
* R was compiled by
    Apple clang version 14.0.0 (clang-1400.0.29.202)
    GNU Fortran (GCC) 14.2.0
* running under: macOS Monterey 12.7.6
* using session charset: UTF-8
* using option ‘--no-vignettes’
* checking for file ‘Mergeomics/DESCRIPTION’ ... OK
* checking extension type ... Package
* this is package ‘Mergeomics’ version ‘1.36.0’
* checking package namespace information ... OK
* checking package dependencies ... OK
* checking if this is a source package ... OK
* checking if there is a namespace ... OK
* checking for hidden files and directories ... OK
* checking for portable file names ... OK
* checking for sufficient/correct file permissions ... OK
* checking whether package ‘Mergeomics’ can be installed ... OK
* checking installed package size ... INFO
  installed size is  8.3Mb
  sub-directories of 1Mb or more:
    extdata   7.5Mb
* checking package directory ... OK
* checking ‘build’ directory ... OK
* checking DESCRIPTION meta-information ... OK
* checking top-level files ... OK
* checking for left-over files ... OK
* checking index information ... OK
* checking package subdirectories ... OK
* checking code files for non-ASCII characters ... OK
* checking R files for syntax errors ... OK
* checking whether the package can be loaded ... OK
* checking whether the package can be loaded with stated dependencies ... OK
* checking whether the package can be unloaded cleanly ... OK
* checking whether the namespace can be loaded with stated dependencies ... OK
* checking whether the namespace can be unloaded cleanly ... OK
* checking dependencies in R code ... OK
* checking S3 generic/method consistency ... OK
* checking replacement functions ... OK
* checking foreign function calls ... OK
* checking R code for possible problems ... NOTE
kda.analyze: no visible global function definition for ‘p.adjust’
kda.analyze.exec: no visible global function definition for ‘pnorm’
kda.analyze.simulate: no visible global function definition for ‘rnorm’
kda.prepare: no visible global function definition for ‘quantile’
kda.prepare: no visible global function definition for ‘object.size’
kda.prepare.screen: no visible global function definition for
  ‘quantile’
kda.prepare.screen: no visible global function definition for ‘median’
kda.start: no visible global function definition for ‘object.size’
kda2cytoscape: no visible global function definition for ‘write.table’
kda2cytoscape.colormap: no visible global function definition for
  ‘rainbow’
kda2cytoscape.colormap: no visible global function definition for
  ‘col2rgb’
kda2himmeli: no visible global function definition for ‘quantile’
kda2himmeli: no visible global function definition for ‘write.table’
kda2himmeli.colormap: no visible global function definition for
  ‘rainbow’
kda2himmeli.colormap: no visible global function definition for
  ‘col2rgb’
ssea.analyze: no visible global function definition for ‘qnorm’
ssea.analyze: no visible global function definition for ‘approx’
ssea.analyze: no visible global function definition for ‘pnorm’
ssea.analyze.simulate: no visible global function definition for
  ‘quantile’
ssea.control: no visible global function definition for ‘median’
ssea.control: no visible global function definition for ‘object.size’
ssea.meta: no visible global function definition for ‘qnorm’
ssea.meta: no visible global function definition for ‘quantile’
ssea.meta: no visible global function definition for ‘pnorm’
ssea.meta: no visible global function definition for ‘median’
ssea.meta: no visible global function definition for ‘na.omit’
ssea.prepare: no visible global function definition for ‘median’
ssea.prepare: no visible global function definition for ‘object.size’
ssea.start: no visible global function definition for ‘na.omit’
ssea.start: no visible global function definition for ‘object.size’
ssea.start.configure: no visible global function definition for
  ‘write.table’
ssea2kda: no visible global function definition for ‘na.omit’
ssea2kda.import: no visible global function definition for ‘na.omit’
tool.aggregate: no visible global function definition for ‘na.omit’
tool.cluster: no visible global function definition for ‘as.dist’
tool.cluster: no visible global function definition for ‘hclust’
tool.fdr.bh: no visible global function definition for ‘qnorm’
tool.fdr.bh: no visible global function definition for ‘p.adjust’
tool.fdr.bh: no visible global function definition for ‘approx’
tool.fdr.empirical: no visible global function definition for ‘qnorm’
tool.fdr.empirical: no visible global function definition for ‘approx’
tool.metap: no visible global function definition for ‘qnorm’
tool.metap: no visible global function definition for ‘pnorm’
tool.normalize: no visible global function definition for ‘sd’
tool.normalize: no visible global function definition for ‘median’
tool.normalize: no visible global function definition for ‘optim’
tool.normalize: no visible global function definition for ‘ks.test’
tool.normalize.quality: no visible global function definition for ‘sd’
tool.normalize.quality: no visible global function definition for
  ‘ks.test’
tool.overlap: no visible global function definition for ‘phyper’
tool.read: no visible global function definition for ‘read.delim’
tool.read: no visible global function definition for ‘na.omit’
tool.save: no visible global function definition for ‘write.table’
tool.unify: no visible global function definition for ‘sd’
tool.unify: no visible global function definition for ‘quantile’
tool.unify: no visible global function definition for ‘approx’
Undefined global functions or variables:
  approx as.dist col2rgb hclust ks.test median na.omit object.size
  optim p.adjust phyper pnorm qnorm quantile rainbow read.delim rnorm
  sd write.table
Consider adding
  importFrom("grDevices", "col2rgb", "rainbow")
  importFrom("stats", "approx", "as.dist", "hclust", "ks.test", "median",
             "na.omit", "optim", "p.adjust", "phyper", "pnorm", "qnorm",
             "quantile", "rnorm", "sd")
  importFrom("utils", "object.size", "read.delim", "write.table")
to your NAMESPACE file.
* checking Rd files ... OK
* checking Rd metadata ... OK
* checking Rd cross-references ... OK
* checking for missing documentation entries ... OK
* checking for code/documentation mismatches ... OK
* checking Rd \usage sections ... OK
* checking Rd contents ... OK
* checking for unstated dependencies in examples ... OK
* checking contents of ‘data’ directory ... OK
* checking data for non-ASCII characters ... OK
* checking data for ASCII and uncompressed saves ... OK
* checking sizes of PDF files under ‘inst/doc’ ... OK
* checking files in ‘vignettes’ ... OK
* checking examples ... OK
Examples with CPU (user + system) or elapsed time > 5s
                         user system elapsed
kda.analyze.exec       18.403  0.563  19.029
kda.prepare            17.926  0.395  18.657
kda.analyze.simulate   17.885  0.427  18.510
kda.analyze.test       17.421  0.399  17.846
ssea2kda.analyze       13.717  0.352  14.266
ssea2kda               13.630  0.351  14.132
ssea.finish.details    11.688  0.237  12.421
ssea2kda.import        11.569  0.212  11.845
ssea.finish.fdr        11.437  0.198  12.068
ssea.analyze           11.183  0.259  11.473
ssea.finish            11.220  0.209  11.729
ssea.meta              10.770  0.185  11.076
ssea.finish.genes      10.526  0.195  10.759
ssea.analyze.simulate  10.493  0.179  10.852
ssea.analyze.randgenes  9.338  0.075   9.481
ssea.prepare            9.189  0.086   9.481
ssea.analyze.randloci   9.185  0.080   9.322
ssea.control            9.062  0.081   9.604
ssea.prepare.counts     9.051  0.068   9.270
ssea.analyze.observe    8.936  0.069   9.061
ssea.prepare.structure  8.807  0.065   8.911
ssea.start              8.500  0.065   8.642
ssea.start.relabel      8.494  0.065   8.584
* checking for unstated dependencies in ‘tests’ ... OK
* checking tests ...
  Running ‘runTests.R’
 OK
* checking for unstated dependencies in vignettes ... OK
* checking package vignettes ... OK
* checking running R code from vignettes ... SKIPPED
* checking re-building of vignette outputs ... SKIPPED
* checking PDF version of manual ... OK
* DONE

Status: 1 NOTE
See
  ‘/Users/biocbuild/bbs-3.21-bioc/meat/Mergeomics.Rcheck/00check.log’
for details.


Installation output

Mergeomics.Rcheck/00install.out

##############################################################################
##############################################################################
###
### Running command:
###
###   /Library/Frameworks/R.framework/Resources/bin/R CMD INSTALL Mergeomics
###
##############################################################################
##############################################################################


* installing to library ‘/Library/Frameworks/R.framework/Versions/4.5-x86_64/Resources/library’
* installing *source* package ‘Mergeomics’ ...
** this is package ‘Mergeomics’ version ‘1.36.0’
** using staged installation
** R
** data
** inst
** byte-compile and prepare package for lazy loading
** help
*** installing help indices
** building package indices
** installing vignettes
** testing if installed package can be loaded from temporary location
** testing if installed package can be loaded from final location
** testing if installed package keeps a record of temporary installation path
* DONE (Mergeomics)

Tests output

Mergeomics.Rcheck/tests/runTests.Rout


R version 4.5.1 RC (2025-06-05 r88288) -- "Great Square Root"
Copyright (C) 2025 The R Foundation for Statistical Computing
Platform: x86_64-apple-darwin20

R is free software and comes with ABSOLUTELY NO WARRANTY.
You are welcome to redistribute it under certain conditions.
Type 'license()' or 'licence()' for distribution details.

R is a collaborative project with many contributors.
Type 'contributors()' for more information and
'citation()' on how to cite R or R packages in publications.

Type 'demo()' for some demos, 'help()' for on-line help, or
'help.start()' for an HTML browser interface to help.
Type 'q()' to quit R.

> BiocGenerics:::testPackage("Mergeomics")

KDA Version:12.7.2015

Parameters:
  Search depth: 1
  Search direction: 1
  Maximum overlap: 0.33
  Minimum module size: 20
  Minimum degree: automatic
  Maximum degree: automatic
  Edge factor: 0
  Random seed: 1

Importing edges...
     TAIL               HEAD               WEIGHT 
 Length:140663      Length:140663      Min.   :1  
 Class :character   Class :character   1st Qu.:1  
 Mode  :character   Mode  :character   Median :1  
                                       Mean   :1  
                                       3rd Qu.:1  
                                       Max.   :1  

Importing modules...
    MODULE              NODE          
 Length:1643        Length:1643       
 Class :character   Class :character  
 Mode  :character   Mode  :character  
Graph: 7.694687 Mb

Minimum degree set to 20 

Maximum degree set to 278 

Collecting hubs...
4618 hubs (17750 nodes)
4876 hubs (25.21%)
Graph: 13.28768 Mb

Analyzing network...
6675: Dhcr7, n=114, p=2.24e-17
6648: Cit, n=20, p=7.89e-01
6643: Pbx4, n=23, p=2.32e-05
5582: Sypl, n=319, p=2.02e-02
4746: Tcf7l2, n=73, p=2.63e-02
4708: Tpte, n=86, p=5.05e-02
4511: Pzp, n=160, p=8.85e-03
4464: Tsc22d3, n=487, p=4.28e-13
4407: Dntt, n=93, p=2.40e-20
4360: Amica1, n=132, p=1.06e-06
4588,..: Lrg1, n=86, p=5.76e-12

MSEA Version:01.04.2016

Parameters:
  Permutation type: gene
  Permutations: 100
  Random seed: 1
  Minimum gene count: 10
  Maximum gene count: 500
  Maximum overlap between genes: 0.33

Importing modules...
    MODULE             DESCR          
 Length:20          Length:20         
 Class :character   Class :character  
 Mode  :character   Mode  :character  
    MODULE              GENE          
 Length:2906        Length:2906       
 Class :character   Class :character  
 Mode  :character   Mode  :character  

Importing marker values...
    MARKER              VALUE         
 Length:76866       Min.   :  0.8094  
 Class :character   1st Qu.:  0.9450  
 Mode  :character   Median :  1.1374  
                    Mean   :  1.3944  
                    3rd Qu.:  1.4688  
                    Max.   :323.0100  

Importing mapping data...
     GENE              MARKER         
 Length:132705      Length:132705     
 Class :character   Class :character  
 Mode  :character   Mode  :character  

Merging genes containing shared markers...
WARNING! Limited overlap analysis due to large number of groups.

38515/1673535 
78745/1673535 
121358/1673535 
162163/1673535 
203684/1673535 
246073/1673535 
288442/1673535 
331035/1673535 
373537/1673535 
415926/1673535 
458575/1673535 
501348/1673535 
547331/1673535 
593323/1673535 
638512/1673535 
682639/1673535 
727110/1673535 
772048/1673535 
817705/1673535 
864038/1673535 
909396/1673535 
953744/1673535 
997738/1673535 
1042694/1673535 
1087283/1673535 
1131764/1673535 
1175969/1673535 
1220295/1673535 
1266947/1673535 
1311550/1673535 
1355961/1673535 
1398929/1673535 
1443500/1673535 
1489218/1673535 
1532985/1673535 
1576468/1673535 
1620182/1673535 
1664440/1673535 
1673535 comparisons

21115 comparisons

13861 comparisons

12880 comparisons
Job: 11.66892 Mb

Preparing data structures...
Job: 17.11777 Mb

Adding positive controls...
Job: 17.42039 Mb

Estimating enrichment...
100/100 cycles

Normalizing scores...


RUNIT TEST PROTOCOL -- Tue Oct 14 06:30:09 2025 
*********************************************** 
Number of test functions: 2 
Number of errors: 0 
Number of failures: 0 

 
1 Test Suite : 
Mergeomics RUnit Tests - 2 test functions, 0 errors, 0 failures
Number of test functions: 2 
Number of errors: 0 
Number of failures: 0 
> 
> proc.time()
   user  system elapsed 
788.576  17.285 834.898 

Example timings

Mergeomics.Rcheck/Mergeomics-Ex.timings

nameusersystemelapsed
MSEA.KDA.onestep0.0050.0040.010
job.kda0.0260.0070.033
kda.analyze0.0150.0050.021
kda.analyze.exec18.403 0.56319.029
kda.analyze.simulate17.885 0.42718.510
kda.analyze.test17.421 0.39917.846
kda.configure0.0000.0010.002
kda.finish0.2340.0210.255
kda.finish.estimate0.1260.0050.131
kda.finish.save0.1260.0050.132
kda.finish.summarize0.1260.0050.132
kda.finish.trim0.1250.0060.132
kda.prepare17.926 0.39518.657
kda.prepare.overlap0.0010.0020.003
kda.prepare.screen0.0010.0010.003
kda.start2.1980.0982.306
kda.start.edges0.0030.0020.006
kda.start.identify0.0090.0020.011
kda.start.modules0.0030.0020.005
kda2cytoscape0.6480.0200.668
kda2cytoscape.colorize0.0000.0000.001
kda2cytoscape.colormap0.0010.0000.002
kda2cytoscape.drivers0.2150.0120.228
kda2cytoscape.edges0.2860.0190.305
kda2cytoscape.exec0.2680.0150.283
kda2cytoscape.identify0.0080.0020.009
kda2himmeli0.7080.0240.734
kda2himmeli.colorize0.0000.0000.001
kda2himmeli.colormap0.0010.0010.002
kda2himmeli.drivers0.2260.0140.240
kda2himmeli.edges0.2310.0120.243
kda2himmeli.exec0.3350.0150.350
kda2himmeli.identify0.0060.0020.007
ssea.analyze11.183 0.25911.473
ssea.analyze.observe8.9360.0699.061
ssea.analyze.randgenes9.3380.0759.481
ssea.analyze.randloci9.1850.0809.322
ssea.analyze.simulate10.493 0.17910.852
ssea.analyze.statistic0.0010.0010.001
ssea.control9.0620.0819.604
ssea.finish11.220 0.20911.729
ssea.finish.details11.688 0.23712.421
ssea.finish.fdr11.437 0.19812.068
ssea.finish.genes10.526 0.19510.759
ssea.meta10.770 0.18511.076
ssea.prepare9.1890.0869.481
ssea.prepare.counts9.0510.0689.270
ssea.prepare.structure8.8070.0658.911
ssea.start8.5000.0658.642
ssea.start.configure0.5650.0240.595
ssea.start.identify0.0050.0010.007
ssea.start.relabel8.4940.0658.584
ssea2kda13.630 0.35114.132
ssea2kda.analyze13.717 0.35214.266
ssea2kda.import11.569 0.21211.845
tool.aggregate0.0030.0020.004
tool.cluster0.0370.0020.048
tool.cluster.static0.0010.0010.003
tool.coalesce0.0870.0020.092
tool.coalesce.exec0.2970.0030.301
tool.coalesce.find0.2980.0030.304
tool.coalesce.merge0.3550.0060.378
tool.fdr0.0010.0010.002
tool.fdr.bh0.0010.0010.002
tool.fdr.empirical0.0010.0010.002
tool.graph2.1070.0652.290
tool.graph.degree2.1820.0932.493
tool.graph.list1.9930.0592.100
tool.metap0.0060.0010.008
tool.normalize0.0400.0060.045
tool.normalize.quality0.0200.0020.021
tool.overlap0.0130.0020.015
tool.read0.3700.0110.382
tool.save0.0020.0020.004
tool.subgraph0.1330.0070.139
tool.subgraph.find0.1330.0070.142
tool.subgraph.search0.1330.0060.139
tool.subgraph.stats0.1850.0220.208
tool.translate0.0650.0030.067
tool.unify0.0020.0000.003